Workbook

Sheet 2014
A1: User Statistics Open Access
A2: Title | B2: Platform | C2: 2014 | O2: total 2014
C3: Jan | D3: Feb | E3: March | F3: April | G3: May | H3: June | I3: July | J3: Aug | K3: Sept | L3: Oct | M3: Nov | N3: Dec
A4: Glass Making in the Greco-Roman World | B4: OAPEN | C4: 0 | D4: 0 | E4: 0 | F4: 0 | G4: 0 | H4: 0 | I4: 0 | J4: 0 | K4: 0 | L4: 0 | M4: 0 | N4: 343 | O4: =SUM(C4:N4) -> 343 | P4: book downloads
A5: Glass Making in the Greco-Roman World | B5: JSTOR | C5: 0 | D5: 0 | E5: 0 | F5: 0 | G5: 0 | H5: 0 | I5: 0 | J5: 0 | K5: 0 | L5: 0 | M5: 0 | N5: 0 | O5: =SUM(C5:N5) -> 0 | P5: chapter views + downloads
A6: Glass Making in the Greco-Roman World | B6: Project Muse | C6: 0 | D6: 0 | E6: 0 | F6: 0 | G6: 0 | H6: 0 | I6: 0 | J6: 0 | K6: 0 | L6: 0 | M6: 0 | N6: 0 | O6: =SUM(C6:N6) -> 0 | P6: chapter views + downloads

Sheet 2015
A1: User Statistics Open Access
A2: Title | B2: Platform | C2: 2015 | O2: total 2015
C3: Jan | D3: Feb | E3: March | F3: April | G3: May | H3: June | I3: July | J3: Aug | K3: Sept | L3: Oct | M3: Nov | N3: Dec
A4: Glass Making in the Greco-Roman World | B4: OAPEN | C4: 326 | D4: 324 | E4: 159 | F4: 56 | G4: 48 | H4: 37 | I4: 37 | J4: 41 | K4: 61 | L4: 52 | M4: 137 | N4: 58 | O4: =SUM(C4:N4) -> 1336 | P4: book downloads
B5: JSTOR | C5: 0 | D5: 0 | E5: 0 | F5: 0 | G5: 0 | H5: 0 | I5: 0 | J5: 0 | K5: 0 | L5: 0 | M5: 0 | N5: 0 | O5: =SUM(C5:N5) -> 0 | P5: chapter views + downloads
B6: Project Muse | C6: 0 | D6: 0 | E6: 0 | F6: 0 | G6: 0 | H6: 0 | I6: 0 | J6: 0 | K6: 0 | L6: 0 | M6: 0 | N6: 0 | O6: =SUM(C6:N6) -> 0 | P6: chapter views + downloads
A7: Experimental Affinities in Music | B7: OAPEN | C7: 0 | D7: 0 | E7: 0 | F7: 0 | G7: 0 | H7: 0 | I7: 0 | J7: 0 | K7: 0 | L7: 0 | M7: 0 | N7: 22 | O7: =SUM(C7:N7) -> 22 | P7: book downloads
B8: JSTOR | C8: 0 | D8: 0 | E8: 0 | F8: 0 | G8: 0 | H8: 0 | I8: 0 | J8: 0 | K8: 0 | L8: 0 | M8: 0 | N8: 0 | O8: =SUM(C8:N8) -> 0 | P8: chapter views + downloads
B9: Project Muse | C9: 0 | D9: 0 | E9: 0 | F9: 0 | G9: 0 | H9: 0 | I9: 0 | J9: 0 | K9: 0 | L9: 0 | M9: 0 | N9: 0 | O9: =SUM(C9:N9) -> 0 | P9: chapter views + downloads

Sheet 2016
A1: User Statistics Open Access
A2: Title | B2: Platform | C2: 2016 | O2: total 2016
C3: Jan | D3: Feb | E3: March | F3: April | G3: May | H3: June | I3: July | J3: Aug | K3: Sept | L3: Oct | M3: Nov | N3: Dec
A4: Glass Making in the Greco-Roman World | B4: OAPEN | C4: 56 | D4: 97 | E4: 103 | F4: 102 | G4: 62 | H4: 44 | I4: 64 | J4: 62 | K4: 54 | L4: 69 | M4: 77 | N4: 97 | O4: =SUM(C4:N4) -> 887 | P4: book downloads
B5: JSTOR | C5: 0 | D5: 0 | E5: 0 | F5: 0 | G5: 0 | H5: 0 | I5: 0 | J5: 0 | K5: 0 | L5: 0 | M5: 0 | N5: 0 | O5: =SUM(C5:N5) -> 0 | P5: chapter views + downloads
B6: Project Muse | C6: 0 | D6: 0 | E6: 0 | F6: 0 | G6: 0 | H6: 0 | I6: 0 | J6: 0 | K6: 0 | L6: 0 | M6: 0 | N6: 0 | O6: =SUM(C6:N6) -> 0 | P6: chapter views + downloads
A7: Experimental Affinities in Music | B7: OAPEN | C7: 50 | D7: 53 | E7: 98 | F7: 263 | G7: 79 | H7: 45 | I7: 72 | J7: 27 | K7: 38 | L7: 67 | M7: 43 | N7: 25 | O7: =SUM(C7:N7) -> 860 | P7: book downloads
B8: JSTOR | C8: 0 | D8: 0 | E8: 0 | F8: 0 | G8: 0 | H8: 0 | I8: 0 | J8: 0 | K8: 0 | L8: 0 | M8: 0 | N8: 0 | O8: =SUM(C8:N8) -> 0 | P8: chapter views + downloads
B9: Project Muse | C9: 0 | D9: 0 | E9: 0 | F9: 0 | G9: 0 | H9: 0 | I9: 0 | J9: 0 | K9: 0 | L9: 0 | M9: 0 | N9: 0 | O9: =SUM(C9:N9) -> 0 | P9: chapter views + downloads

Sheet 2017
A1: User Statistics Open Access
A2: Title | B2: Platform | C2: 2017 | O2: total 2017
C3: Jan | D3: Feb | E3: March | F3: April | G3: May | H3: June | I3: July | J3: Aug | K3: Sept | L3: Oct | M3: Nov | N3: Dec
A4: Glass Making in the Greco-Roman World | B4: OAPEN | C4: 114 | D4: 74 | E4: 69 | F4: 67 | G4: 88 | H4: 61 | I4: 41 | J4: 48 | K4: 57 | L4: 63 | M4: 76 | N4: 63 | O4: =SUM(C4:N4) -> 821 | P4: book downloads
B5: JSTOR | C5: 0 | D5: 0 | E5: 0 | F5: 0 | G5: 0 | H5: 0 | I5: 0 | J5: 0 | K5: 0 | L5: 0 | M5: 0 | N5: 0 | O5: =SUM(C5:N5) -> 0 | P5: chapter views + downloads
B6: Project Muse | C6: 0 | D6: 0 | E6: 0 | F6: 0 | G6: 0 | H6: 0 | I6: 0 | J6: 0 | K6: 0 | L6: 0 | M6: 0 | N6: 0 | O6: =SUM(C6:N6) -> 0 | P6: chapter views + downloads
A7: Experimental Affinities in Music | B7: OAPEN | C7: 44 | D7: 36 | E7: 56 | F7: 24 | G7: 47 | H7: 29 | I7: 23 | J7: 35 | K7: 30 | L7: 64 | M7: 41 | N7: 51 | O7: =SUM(C7:N7) -> 480 | P7: book downloads
B8: JSTOR | C8: 0 | D8: 0 | E8: 0 | F8: 0 | G8: 0 | H8: 0 | I8: 0 | J8: 0 | K8: 0 | L8: 0 | M8: 0 | N8: 0 | O8: =SUM(C8:N8) -> 0 | P8: chapter views + downloads
B9: Project Muse | C9: 0 | D9: 0 | E9: 0 | F9: 0 | G9: 0 | H9: 0 | I9: 0 | J9: 0 | K9: 0 | L9: 0 | M9: 0 | N9: 0 | O9: =SUM(C9:N9) -> 0 | P9: chapter views + downloads

Sheet 2018
A1: User Statistics Open Access
A2: Title | B2: Platform | C2: 2018 | O2: total 2018
C3: Jan | D3: Feb | E3: March | F3: April | G3: May | H3: June | I3: July | J3: Aug | K3: Sept | L3: Oct | M3: Nov | N3: Dec
A4: Glass Making in the Greco-Roman World | B4: OAPEN | C4: 60 | D4: 55 | E4: 81 | F4: 76 | G4: 100 | H4: 75 | I4: 34 | J4: 36 | K4: 54 | L4: 67 | M4: 75 | N4: 70 | O4: =SUM(C4:N4) -> 783 | P4: book downloads
B5: JSTOR | C5: 0 | D5: 0 | E5: 0 | F5: 0 | G5: 0 | H5: 5 | I5: 30 | J5: 28 | K5: 39 | L5: 93 | M5: 131 | N5: 62 | O5: =SUM(C5:N5) -> 388 | P5: chapter views + downloads
B6: Project Muse | C6: 0 | D6: 0 | E6: 0 | F6: 0 | G6: 0 | H6: 0 | I6: 0 | J6: 0 | K6: 0 | L6: 0 | M6: 0 | N6: 0 | O6: =SUM(C6:N6) -> 0 | P6: chapter views + downloads
A7: Experimental Affinities in Music | B7: OAPEN | C7: 47 | D7: 34 | E7: 48 | F7: 79 | G7: 68 | H7: 51 | I7: 57 | J7: 40 | K7: 78 | L7: 96 | M7: 105 | N7: 75 | O7: =SUM(C7:N7) -> 778 | P7: book downloads
B8: JSTOR | C8: 0 | D8: 0 | E8: 0 | F8: 0 | G8: 0 | H8: 17 | I8: 149 | J8: 89 | K8: 165 | L8: 200 | M8: 210 | N8: 184 | O8: =SUM(C8:N8) -> 1014 | P8: chapter views + downloads
B9: Project Muse | C9: 0 | D9: 0 | E9: 0 | F9: 0 | G9: 0 | H9: 0 | I9: 0 | J9: 0 | K9: 0 | L9: 0 | M9: 0 | N9: 0 | O9: =SUM(C9:N9) -> 0 | P9: chapter views + downloads
A10: Transpositions | B10: OAPEN | C10: 0 | D10: 0 | E10: 0 | F10: 0 | G10: 0 | H10: 0 | I10: 81 | J10: 127 | K10: 157 | L10: 221 | M10: 476 | N10: 92 | O10: =SUM(C10:N10) -> 1154 | P10: book downloads
A11: Transpositions | B11: JSTOR | C11: 0 | D11: 0 | E11: 0 | F11: 0 | G11: 0 | H11: 0 | I11: 0 | J11: 42 | K11: 288 | L11: 461 | M11: 466 | N11: 291 | O11: =SUM(C11:N11) -> 1548 | P11: chapter views + downloads
A12: Transpositions | B12: Project Muse | C12: 0 | D12: 0 | E12: 0 | F12: 0 | G12: 0 | H12: 0 | I12: 0 | J12: 0 | K12: 0 | L12: 0 | M12: 0 | N12: 0 | O12: =SUM(C12:N12) -> 0 | P12: chapter views + downloads
A13: Virtual Works – Actual Things | B13: OAPEN | C13: 0 | D13: 0 | E13: 0 | F13: 0 | G13: 0 | H13: 0 | I13: 52 | J13: 39 | K13: 106 | L13: 65 | M13: 87 | N13: 59 | O13: =SUM(C13:N13) -> 408 | P13: book downloads
A14: Virtual Works – Actual Things | B14: JSTOR | C14: 0 | D14: 0 | E14: 0 | F14: 0 | G14: 0 | H14: 0 | I14: 0 | J14: 45 | K14: 235 | L14: 276 | M14: 266 | N14: 132 | O14: =SUM(C14:N14) -> 954 | P14: chapter views + downloads
A15: Virtual Works – Actual Things | B15: Project Muse | C15: 0 | D15: 0 | E15: 0 | F15: 0 | G15: 0 | H15: 0 | I15: 0 | J15: 0 | K15: 0 | L15: 0 | M15: 0 | N15: 0 | O15: =SUM(C15:N15) -> 0 | P15: chapter views + downloads
A16: Logic of Experimentation | B16: OAPEN | C16: 0 | D16: 0 | E16: 0 | F16: 0 | G16: 0 | H16: 0 | I16: 0 | J16: 0 | K16: 0 | L16: 120 | M16: 114 | N16: 60 | O16: =SUM(C16:N16) -> 294 | P16: book downloads
A17: Logic of Experimentation | B17: JSTOR | C17: 0 | D17: 0 | E17: 0 | F17: 0 | G17: 0 | H17: 0 | I17: 0 | J17: 0 | K17: 0 | L17: 28 | M17: 15 | N17: 147 | O17: =SUM(C17:N17) -> 190 | P17: chapter views + downloads
A18: Logic of Experimentation | B18: Project Muse | C18: 0 | D18: 0 | E18: 0 | F18: 0 | G18: 0 | H18: 0 | I18: 0 | J18: 0 | K18: 0 | L18: 0 | M18: 0 | N18: 0 | O18: =SUM(C18:N18) -> 0 | P18: chapter views + downloads
A19: Powers of Divergence | B19: OAPEN | C19: 0 | D19: 0 | E19: 0 | F19: 0 | G19: 0 | H19: 0 | I19: 10 | J19: 25 | K19: 73 | L19: 32 | M19: 32 | N19: 14 | O19: =SUM(C19:N19) -> 186 | P19: book downloads
A20: Powers of Divergence | B20: JSTOR | C20: 0 | D20: 0 | E20: 0 | F20: 0 | G20: 0 | H20: 0 | I20: 0 | J20: 54 | K20: 141 | L20: 180 | M20: 223 | N20: 137 | O20: =SUM(C20:N20) -> 735 | P20: chapter views + downloads
A21: Powers of Divergence | B21: Project Muse | C21: 0 | D21: 0 | E21: 0 | F21: 0 | G21: 0 | H21: 0 | I21: 0 | J21: 0 | K21: 0 | L21: 0 | M21: 0 | N21: 0 | O21: =SUM(C21:N21) -> 0 | P21: chapter views + downloads
... A24: Beyond Provenance | B24: Project Muse | C24: 0 | D24: 0 | E24: 0 | F24: 0 | G24: 0 | H24: 0 | I24: 0 | J24: 0 | K24: 0 | L24: 0 | M24: 0 | N24: 0 | O24: =SUM(C24:N24) -> 0 | P24: chapter views + downloads

Sheet 2019
A1: User Statistics Open Access
A2: Title | B2: Platform | C2: 2019 | O2: total 2019 | Q2: Open Research Library
C3: Jan | D3: Feb | E3: March | F3: April | G3: May | H3: June | I3: July | J3: Aug | K3: Sept | L3: Oct | M3: Nov | N3: Dec
A4: Glass Making in the Greco-Roman World | B4: OAPEN | C4: 68 | D4: 67 | E4: 76 | F4: 77 | G4: 77 | H4: 49 | I4: 44 | J4: 46 | K4: 44 | L4: 52 | M4: 59 | N4: 60 | O4: =SUM(C4:N4) -> 719 | P4: book downloads
B5: JSTOR | C5: 68 | D5: 83 | E5: 95 | F5: 143 | G5: 85 | H5: 40 | I5: 86 | J5: 76 | K5: 120 | L5: 125 | M5: 108 | N5: 74 | O5: =SUM(C5:N5) -> 1103 | P5: chapter views + downloads
B6: Project Muse | C6: 0 | D6: 0 | E6: 0 | F6: 0 | G6: 0 | H6: 0 | I6: 0 | J6: 0 | K6: 0 | L6: 0 | M6: 0 | N6: 0 | O6: =SUM(C6:N6) -> 0 | P6: chapter views + downloads
A7: Experimental Affinities in Music | B7: OAPEN | C7: 95 | D7: 92 | E7: 85 | F7: 57 | G7: 45 | H7: 62 | I7: 37 | J7: 62 | K7: 54 | L7: 42 | M7: 34 | N7: 38 | O7: =SUM(C7:N7) -> 703
B8: JSTOR | C8: 121 | D8: 144 | E8: 178 | F8: 167 | G8: 119 | H8: 68 | I8: 60 | J8: 83 | K8: 84 | L8: 153 | M8: 142 | N8: 109 | O8: =SUM(C8:N8) -> 1428
B9: Project Muse | C9: 0 | D9: 0 | E9: 0 | F9: 0 | G9: 0 | H9: 0 | I9: 0 | J9: 0 | K9: 0 | L9: 0 | M9: 0 | N9: 0 | O9: =SUM(C9:N9) -> 0
A10: Transpositions | B10: OAPEN | C10: 94 | D10: 64 | E10: 73 | F10: 50 | G10: 36 | H10: 50 | I10: 77 | J10: 60 | K10: 36 | L10: 52 | M10: 59 | N10: 42 | O10: =SUM(C10:N10) -> 693
A11: Transpositions | B11: JSTOR | C11: 260 | D11: 261 | E11: 333 | F11: 286 | G11: 202 | H11: 116 | I11: 183 | J11: 142 | K11: 187 | L11: 263 | M11: 312 | N11: 248 | O11: =SUM(C11:N11) -> 2793
A12: Transpositions | B12: Project Muse | C12: 0 | D12: 0 | E12: 0 | F12: 0 | G12: 0 | H12: 0 | I12: 0 | J12: 0 | K12: 0 | L12: 0 | M12: 0 | N12: 0 | O12: =SUM(C12:N12) -> 0
A13: Virtual Works – Actual Things | B13: OAPEN | C13: 49 | D13: 48 | E13: 59 | F13: 47 | G13: 50 | H13: 76 | I13: 48 | J13: 62 | K13: 49 | L13: 31 | M13: 35 | N13: 19 | O13: =SUM(C13:N13) -> 573
A14: Virtual Works – Actual Things | B14: JSTOR | C14: 185 | D14: 178 | E14: 207 | F14: 182 | G14: 147 | H14: 83 | I14: 96 | J14: 111 | K14: 175 | L14: 223 | M14: 282 | N14: 172 | O14: =SUM(C14:N14) -> 2041
A15: Virtual Works – Actual Things | B15: Project Muse | C15: 0 | D15: 0 | E15: 0 | F15: 0 | G15: 0 | H15: 0 | I15: 0 | J15: 0 | K15: 0 | L15: 0 | M15: 0 | N15: 0 | O15: =SUM(C15:N15) -> 0
A16: Logic of Experimentation | B16: OAPEN | C16: 68 | D16: 40 | E16: 38 | F16: 28 | G16: 42 | H16: 37 | I16: 34 | J16: 34 | K16: 39 | L16: 40 | M16: 32 | N16: 40 | O16: =SUM(C16:N16) -> 472
A17: Logic of Experimentation | B17: JSTOR | C17: 130 | D17: 157 | E17: 148 | F17: 148 | G17: 137 | H17: 86 | I17: 127 | J17: 97 | K17: 159 | L17: 241 | M17: 223 | N17: 190 | O17: =SUM(C17:N17) -> 1843
A18: Logic of Experimentation | B18: Project Muse | C18: 0 | D18: 0 | E18: 0 | F18: 0 | G18: 0 | H18: 0 | I18: 0 | J18: 0 | K18: 0 | L18: 0 | M18: 0 | N18: 0 | O18: =SUM(C18:N18) -> 0
A19: Powers of Divergence | B19: OAPEN | C19: 19 | D19: 23 | E19: 30 | F19: 25 | G19: 31 | H19: 22 | I19: 23 | J19: 14 | K19: 25 | L19: 18 | M19: 15 | N19: 19 | O19: =SUM(C19:N19) -> 264
A20: Powers of Divergence | B20: JSTOR | C20: 102 | D20: 117 | E20: 194 | F20: 181 | G20: 117 | H20: 139 | I20: 82 | J20: 75 | K20: 151 | L20: 159 | M20: 216 | N20: 195 | O20: =SUM(C20:N20) -> 1728
A21: Powers of Divergence | B21: Project Muse | C21: 0 | D21: 0 | E21: 0 | F21: 0 | G21: 0 | H21: 0 | I21: 0 | J21: 0 | K21: 0 | L21: 0 | M21: 0 | N21: 0 | O21: =SUM(C21:N21) -> 0
... A30: Brokers of Modernity | B30: Project Muse | C30: 0 | D30: 0 | E30: 12 | F30: 3 | G30: 5 | H30: 0 | I30: 6 | J30: 0 | K30: 3 | L30: 2 | M30: 7 | N30: 5 | O30: =SUM(C30:N30) -> 43
A31: Gender and Christianity in Modern Europe | B31: OAPEN | C31: 0 | D31: 4 | E31: 6 | F31: 50 | G31: 76 | H31: 64 | I31: 45 | J31: 24 | K31: 22 | L31: 32 | M31: 46 | N31: 46 | O31: =SUM(C31:N31) -> 415 | Q31: 7
A32: Gender and Christianity in Modern Europe | B32: JSTOR | C32: 0 | D32: 81 | E32: 156 | F32: 113 | G32: 129 | H32: 41 | I32: 44 | J32: 52 | K32: 87 | L32: 144 | M32: 154 | N32: 105 | O32: =SUM(C32:N32) -> 1106
A33: Gender and Christianity in Modern Europe | B33: Project Muse | C33: 0 | D33: 0 | E33: 0 | F33: 0 | G33: 0 | H33: 3 | I33: 0 | J33: 8 | K33: 6 | L33: 11 | M33: 5 | N33: 1 | O33: =SUM(C33:N33) -> 34
A34: New Multicultural Identities in Europe | B34: OAPEN | C34: 0 | D34: 6 | E34: 12 | F34: 29 | G34: 43 | H34: 18 | I34: 14 | J34: 12 | K34: 7 | L34: 14 | M34: 18 | N34: 23 | O34: =SUM(C34:N34) -> 196 | Q34: 1
A35: New Multicultural Identities in Europe | B35: JSTOR | C35: 0 | D35: 133 | E35: 338 | F35: 436 | G35: 345 | H35: 244 | I35: 134 | J35: 179 | K35: 207 | L35: 306 | M35: 386 | N35: 353 | O35: =SUM(C35:N35) -> 3061
A36: New Multicultural Identities in Europe | B36: Project Muse | C36: 0 | D36: 0 | E36: 0 | F36: 0 | G36: 1 | H36: 23 | I36: 3 | J36: 11 | K36: 2 | L36: 1 | M36: 0 | N36: 0 | O36: =SUM(C36:N36) -> 41
A37: Essays on Plato's Epistemology | B37: OAPEN | C37: 0 | D37: 14 | E37: 18 | F37: 25 | G37: 14 | H37: 12 | I37: 5 | J37: 8 | K37: 5 | L37: 9 | M37: 3 | N37: 11 | O37: =SUM(C37:N37) -> 124 | Q37: 3
A38: Essays on Plato's Epistemology | B38: JSTOR | C38: 0 | D38: 117 | E38: 289 | F38: 155 | G38: 117 | H38: 129 | I38: 109 | J38: 125 | K38: 203 | L38: 242 | M38: 286 | N38: 210 | O38: =SUM(C38:N38) -> 1982
A39: Essays on Plato's Epistemology | B39: Project Muse | C39: 0 | D39: 0 | E39: 0 | F39: 0 | G39: 0 | H39: 19 | I39: 2 | J39: 0 | K39: 3 | L39: 4 | M39: 10 | N39: 1 | O39: =SUM(C39:N39) -> 39
A40: Virtues for the People | B40: OAPEN | C40: 0 | D40: 19 | E40: 12 | F40: 17 | G40: 13 | H40: 16 | I40: 6 | J40: 6 | K40: 7 | L40: 8 | M40: 15 | N40: 55 | O40: =SUM(C40:N40) -> 174 | Q40: 1
A41: Virtues for the People | B41: JSTOR | C41: 0 | D41: 62 | E41: 160 | F41: 98 | G41: 113 | H41: 61 | I41: 58 | J41: 42 | K41: 72 | L41: 106 | M41: 100 | N41: 103 | O41: =SUM(C41:N41) -> 975
A42: Virtues for the People | B42: Project Muse | C42: 0 | D42: 0 | E42: 0 | F42: 1 | G42: 0 | H42: 21 | I42: 1 | J42: 0 | K42: 0 | L42: 1 | M42: 0 | N42: 1 | O42: =SUM(C42:N42) -> 25
A43: A Small Nation in the Turmoil of the Second World War | B43: OAPEN | C43: 0 | D43: 12 | E43: 8 | F43: 11 | G43: 20 | H43: 14 | I43: 7 | J43: 6 | K43: 8 | L43: 6 | M43: 9 | N43: 13 | O43: =SUM(C43:N43) -> 114 | Q43: 2
A44: A Small Nation in the Turmoil of the Second World War | B44: JSTOR | C44: 0 | D44: 14 | E44: 75 | F44: 51 | G44: 28 | H44: 16 | I44: 21 | J44: 13 | K44: 30 | L44: 78 | M44: 58 | N44: 19 | O44: =SUM(C44:N44) -> 403
A45: A Small Nation in the Turmoil of the Second World War | B45: Project Muse | C45: 0 | D45: 0 | E45: 0 | F45: 0 | G45: 0 | H45: 0 | I45: 35 | J45: 0 | K45: 0 | L45: 0 | M45: 0 | N45: 0 | O45: =SUM(C45:N45) -> 35
A46: Mapping Landscapes in Transformation | B46: OAPEN | C46: 0 | D46: 0 | E46: 0 | F46: 0 | G46: 0 | H46: 418 | I46: 387 | J46: 614 | K46: 189 | L46: 194 | M46: 162 | N46: 127 | O46: =SUM(C46:N46) -> 2091
A47: Mapping Landscapes in Transformation | B47: JSTOR | C47: 0 | D47: 0 | E47: 0 | F47: 0 | G47: 0 | H47: 103 | I47: 230 | J47: 383 | K47: 507 | L47: 351 | M47: 503 | N47: 280 | O47: =SUM(C47:N47) -> 2357
A48: Mapping Landscapes in Transformation | B48: Project Muse | C48: 0 | D48: 0 | E48: 0 | F48: 0 | G48: 0 | H48: 0 | I48: 0 | J48: 0 | K48: 0 | L48: 0 | M48: 0 | N48: 0 | O48: =SUM(C48:N48) -> 0
...

Sheet 2020
A1: User Statistics Open Access
A2: Title | B2: Platform | C2: 2020 | O2: total 2020 | Q2: Open Research Library
C3: Jan | D3: Feb | E3: March | F3: April | G3: May | H3: June | I3: July | J3: Aug | K3: Sept | L3: Oct | M3: Nov | N3: Dec
A4: Glass Making in the Greco-Roman World | B4: OAPEN | C4: 40 | D4: 51 | E4: 75 | F4: 53 | G4: 60 | H4: 60 | I4: 44 | J4: 48 | K4: 104 | L4: 87 | M4: 89 | N4: 74 | O4: =SUM(C4:N4) -> 785 | P4: book downloads | Q4: 5
B5: JSTOR | C5: 113 | D5: 81 | E5: 182 | F5: 108 | G5: 130 | H5: 99 | I5: 63 | J5: 49 | K5: 76 | L5: 89 | M5: 134 | N5: 99 | O5: =SUM(C5:N5) -> 1223 | P5: chapter views + downloads
B6: Project Muse | C6: 0 | D6: 0 | E6: 0 | F6: 0 | G6: 0 | H6: 0 | I6: 0 | J6: 0 | K6: 0 | L6: 0 | M6: 0 | N6: 0 | O6: =SUM(C6:N6) -> 0 | P6: chapter views + downloads
A7: Experimental Affinities in Music | B7: OAPEN | C7: 40 | D7: 40 | E7: 61 | F7: 26 | G7: 63 | H7: 61 | I7: 49 | J7: 55 | K7: 57 | L7: 90 | M7: 72 | N7: 93 | O7: =SUM(C7:N7) -> 707 | Q7: 17
B8: JSTOR | C8: 80 | D8: 182 | E8: 301 | F8: 232 | G8: 187 | H8: 94 | I8: 93 | J8: 92 | K8: 190 | L8: 214 | M8: 215 | N8: 144 | O8: =SUM(C8:N8) -> 2024
B9: Project Muse | C9: 0 | D9: 0 | E9: 0 | F9: 0 | G9: 0 | H9: 0 | I9: 0 | J9: 0 | K9: 0 | L9: 0 | M9: 0 | N9: 0 | O9: =SUM(C9:N9) -> 0
A10: Transpositions | B10: OAPEN | C10: 55 | D10: 45 | E10: 43 | F10: 40 | G10: 66 | H10: 52 | I10: 61 | J10: 75 | K10: 62 | L10: 127 | M10: 75 | N10: 72 | O10: =SUM(C10:N10) -> 773 | Q10: 16
A11: Transpositions | B11: JSTOR | C11: 260 | D11: 249 | E11: 348 | F11: 277 | G11: 226 | H11: 178 | I11: 153 | J11: 243 | K11: 251 | L11: 317 | M11: 355 | N11: 203 | O11: =SUM(C11:N11) -> 3060
A12: Transpositions | B12: Project Muse | C12: 0 | D12: 0 | E12: 0 | F12: 0 | G12: 0 | H12: 0 | I12: 0 | J12: 0 | K12: 0 | L12: 0 | M12: 0 | N12: 0 | O12: =SUM(C12:N12) -> 0
A13: Virtual Works – Actual Things | B13: OAPEN | C13: 27 | D13: 40 | E13: 43 | F13: 20 | G13: 51 | H13: 49 | I13: 41 | J13: 54 | K13: 77 | L13: 68 | M13: 67 | N13: 66 | O13: =SUM(C13:N13) -> 603 | Q13: 14
A14: Virtual Works – Actual Things | B14: JSTOR | C14: 243 | D14: 392 | E14: 417 | F14: 270 | G14: 213 | H14: 129 | I14: 205 | J14: 89 | K14: 210 | L14: 326 | M14: 257 | N14: 260 | O14: =SUM(C14:N14) -> 3011
A15: Virtual Works – Actual Things | B15: Project Muse | C15: 0 | D15: 0 | E15: 0 | F15: 0 | G15: 0 | H15: 0 | I15: 0 | J15: 0 | K15: 0 | L15: 0 | M15: 0 | N15: 0 | O15: =SUM(C15:N15) -> 0
A16: Logic of Experimentation | B16: OAPEN | C16: 45 | D16: 48 | E16: 41 | F16: 36 | G16: 62 | H16: 80 | I16: 63 | J16: 84 | K16: 142 | L16: 109 | M16: 137 | N16: 72 | O16: =SUM(C16:N16) -> 919 | Q16: 8
A17: Logic of Experimentation | B17: JSTOR | C17: 216 | D17: 290 | E17: 259 | F17: 426 | G17: 266 | H17: 178 | I17: 186 | J17: 233 | K17: 207 | L17: 265 | M17: 316 | N17: 221 | O17: =SUM(C17:N17) -> 3063
A18: Logic of Experimentation | B18: Project Muse | C18: 0 | D18: 0 | E18: 0 | F18: 0 | G18: 0 | H18: 0 | I18: 0 | J18: 0 | K18: 0 | L18: 0 | M18: 0 | N18: 0 | O18: =SUM(C18:N18) -> 0
A19: Powers of Divergence | B19: OAPEN | C19: 28 | D19: 13 | E19: 17 | F19: 19 | G19: 23 | H19: 37 | I19: 30 | J19: 36 | K19: 16 | L19: 33 | M19: 20 | N19: 29 | O19: =SUM(C19:N19) -> 301 | Q19: 35
A20: Powers of Divergence | B20: JSTOR | C20: 152 | D20: 134 | E20: 314 | F20: 143 | G20: 202 | H20: 150 | I20: 98 | J20: 78 | K20: 203 | L20: 222 | M20: 207 | N20: 191 | O20: =SUM(C20:N20) -> 2094
A21: Powers of Divergence | B21: Project Muse | C21: 0 | D21: 0 | E21: 0 | F21: 0 | G21: 0 | H21: 0 | I21: 0 | J21: 0 | K21: 0 | L21: 0 | M21: 0 | N21: 0 | O21: =SUM(C21:N21) -> 0
A22: Beyond Provenance | B22: OAPEN | C22: 19 | D22: 17 | E22: 34 | F22: 38 | G22: 32 | H22: 39 | I22: 31 | J22: 14 | K22: 23 | L22: 42 | M22: 50 | N22: 34 | O22: =SUM(C22:N22) -> 373 | Q22: 6
A23: Beyond Provenance | B23: JSTOR | C23: 98 | D23: 87 | E23: 124 | F23: 149 | G23: 126 | H23: 101 | I23: 66 | J23: 76 | K23: 127 | L23: 121 | M23: 89 | N23: 110 | O23: =SUM(C23:N23) -> 1274
A24: Beyond Provenance | B24: Project Muse | C24: 0 | D24: 0 | E24: 0 | F24: 0 | G24: 0 | H24: 0 | I24: 0 | J24: 0 | K24: 0 | L24: 0 | M24: 0 | N24: 0 | O24: =SUM(C24:N24) -> 0
A25: Images of Immigrants and Refugees in Western Europe | B25: OAPEN | C25: 65 | D25: 112 | E25: 107 | F25: 108 | G25: 254 | H25: 144 | I25: 96 | J25: 128 | K25: 176 | L25: 188 | M25: 255 | N25: 224 | O25: =SUM(C25:N25) -> 1857 | Q25: 14
A26: Images of Immigrants and Refugees in Western Europe | B26: JSTOR | C26: 532 | D26: 745 | E26: 753 | F26: 701 | G26: 538 | H26: 302 | I26: 248 | J26: 186 | K26: 367 | L26: 667 | M26: 762 | N26: 710 | O26: =SUM(C26:N26) -> 6511
A27: Images of Immigrants and Refugees in Western Europe | B27: Project Muse | C27: 32 | D27: 30 | E27: 47 | F27: 27 | G27: 69 | H27: 11 | I27: 84 | J27: 25 | K27: 19 | L27: 24 | M27: 34 | N27: 13 | O27: =SUM(C27:N27) -> 415
A28: Brokers of Modernity | B28: OAPEN | C28: 86 | D28: 69 | E28: 91 | F28: 105 | G28: 134 | H28: 108 | I28: 69 | J28: 54 | K28: 65 | L28: 57 | M28: 54 | N28: 78 | O28: =SUM(C28:N28) -> 970 | Q28: 16
A29: Brokers of Modernity | B29: JSTOR | C29: 255 | D29: 418 | E29: 547 | F29: 428 | G29: 373 | H29: 251 | I29: 136 | J29: 178 | K29: 268 | L29: 482 | M29: 604 | N29: 509 | O29: =SUM(C29:N29) -> 4449
A30: Brokers of Modernity | B30: Project Muse | C30: 49 | D30: 15 | E30: 46 | F30: 81 | G30: 41 | H30: 108 | I30: 49 | J30: 95 | K30: 26 | L30: 26 | M30: 32 | N30: 30 | O30: =SUM(C30:N30) -> 598
A31: Gender and Christianity in Modern Europe | B31: OAPEN | C31: 80 | D31: 80 | E31: 129 | F31: 34 | G31: 48 | H31: 48 | I31: 38 | J31: 47 | K31: 49 | L31: 53 | M31: 64 | N31: 82 | O31: =SUM(C31:N31) -> 752 | Q31: 22
A32: Gender and Christianity in Modern Europe | B32: JSTOR | C32: 86 | D32: 177 | E32: 181 | F32: 123 | G32: 158 | H32: 105 | I32: 87 | J32: 118 | K32: 118 | L32: 165 | M32: 170 | N32: 154 | O32: =SUM(C32:N32) -> 1642
A33: Gender and Christianity in Modern Europe | B33: Project Muse | C33: 15 | D33: 13 | E33: 7 | F33: 182 | G33: 93 | H33: 58 | I33: 41 | J33: 42 | K33: 1 | L33: 8 | M33: 10 | N33: 9 | O33: =SUM(C33:N33) -> 479
A34: New Multicultural Identities in Europe | B34: OAPEN | C34: 24 | D34: 21 | E34: 26 | F34: 23 | G34: 42 | H34: 51 | I34: 28 | J34: 22 | K34: 37 | L34: 36 | M34: 48 | N34: 54 | O34: =SUM(C34:N34) -> 412 | Q34: 31
A35: New Multicultural Identities in Europe | B35: JSTOR | C35: 235 | D35: 268 | E35: 279 | F35: 287 | G35: 212 | H35: 241 | I35: 121 | J35: 73 | K35: 142 | L35: 229 | M35: 318 | N35: 297 | O35: =SUM(C35:N35) -> 2702
A36: New Multicultural Identities in Europe | B36: Project Muse | C36: 38 | D36: 3 | E36: 37 | F36: 83 | G36: 88 | H36: 62 | I36: 53 | J36: 33 | K36: 0 | L36: 6 | M36: 0 | N36: 4 | O36: =SUM(C36:N36) -> 407
A37: Essays on Plato's Epistemology | B37: OAPEN | C37: 45 | D37: 46 | E37: 109 | F37: 47 | G37: 100 | H37: 97 | I37: 99 | J37: 62 | K37: 131 | L37: 170 | M37: 157 | N37: 197 | O37: =SUM(C37:N37) -> 1260 | Q37: 34
A38: Essays on Plato's Epistemology | B38: JSTOR | C38: 109 | D38: 186 | E38: 403 | F38: 184 | G38: 216 | H38: 197 | I38: 138 | J38: 84 | K38: 249 | L38: 400 | M38: 407 | N38: 365 | O38: =SUM(C38:N38) -> 2938
A39: Essays on Plato's Epistemology | B39: Project Muse | C39: 118 | D39: 9 | E39: 96 | F39: 149 | G39: 105 | H39: 27 | I39: 232 | J39: 33 | K39: 69 | L39: 26 | M39: 34 | N39: 7 | O39: =SUM(C39:N39) -> 905
A40: Virtues for the People | B40: OAPEN | C40: 132 | D40: 96 | E40: 147 | F40: 52 | G40: 107 | H40: 63 | I40: 63 | J40: 42 | K40: 60 | L40: 63 | M40: 53 | N40: 69 | O40: =SUM(C40:N40) -> 947 | Q40: 47
...

Sheet 2021
A1: User Statistics Open Access
A2: Title | B2: Platform | C2: 2021 | O2: total 2021 | Q2: Open Research Library
C3: Jan | D3: Feb | E3: March | F3: April | G3: May | H3: June | I3: July | J3: Aug | K3: Sept | L3: Oct | M3: Nov | N3: Dec
A4: Glass Making in the Greco-Roman World | B4: OAPEN | C4: 45 | D4: 119 | E4: 128 | F4: 113 | G4: 74 | H4: 70 | I4: 43 | J4: 44 | K4: 55 | L4: 87 | M4: 74 | N4: 75 | O4: =SUM(C4:N4) -> 927 | P4: book downloads | Q4: 5
B5: JSTOR | C5: 63 | D5: 108 | E5: 78 | F5: 67 | G5: 77 | H5: 40 | I5: 39 | J5: 63 | K5: 82 | L5: 92 | M5: 86 | N5: 55 | O5: =SUM(C5:N5) -> 850 | P5: chapter views + downloads
B6: Project Muse | O6: =SUM(C6:N6) -> 0 | P6: chapter views + downloads
A7: Experimental Affinities in Music | B7: OAPEN | C7: 134 | D7: 59 | E7: 72 | F7: 70 | G7: 60 | H7: 104 | I7: 45 | J7: 40 | K7: 106 | L7: 56 | M7: 60 | N7: 27 | O7: =SUM(C7:N7) -> 833 | Q7: 25
B8: JSTOR | C8: 161 | D8: 156 | E8: 123 | F8: 72 | G8: 97 | H8: 77 | I8: 48 | J8: 36 | K8: 66 | L8: 134 | M8: 113 | N8: 106 | O8: =SUM(C8:N8) -> 1189
B9: Project Muse | O9: =SUM(C9:N9) -> 0
A10: Transpositions | B10: OAPEN | C10: 71 | D10: 68 | E10: 95 | F10: 69 | G10: 58 | H10: 74 | I10: 40 | J10: 46 | K10: 93 | L10: 76 | M10: 54 | N10: 57 | O10: =SUM(C10:N10) -> 801 | Q10: 15
A11: Transpositions | B11: JSTOR | C11: 225 | D11: 222 | E11: 194 | F11: 212 | G11: 205 | H11: 200 | I11: 139 | J11: 65 | K11: 99 | L11: 178 | M11: 189 | N11: 137 | O11: =SUM(C11:N11) -> 2065
A12: Transpositions | B12: Project Muse | O12: =SUM(C12:N12) -> 0
A13: Virtual Works – Actual Things | B13: OAPEN | C13: 67 | D13: 46 | E13: 59 | F13: 56 | G13: 68 | H13: 72 | I13: 34 | J13: 32 | K13: 33 | L13: 43 | M13: 24 | N13: 34 | O13: =SUM(C13:N13) -> 568 | Q13: 22
A14: Virtual Works – Actual Things | B14: JSTOR | C14: 236 | D14: 283 | E14: 277 | F14: 244 | G14: 153 | H14: 121 | I14: 77 | J14: 95 | K14: 58 | L14: 112 | M14: 124 | N14: 146 | O14: =SUM(C14:N14) -> 1926
A15: Virtual Works – Actual Things | B15: Project Muse | O15: =SUM(C15:N15) -> 0
A16: Logic of Experimentation | B16: OAPEN | C16: 124 | D16: 94 | E16: 93 | F16: 114 | G16: 137 | H16: 117 | I16: 35 | J16: 53 | K16: 74 | L16: 103 | M16: 113 | N16: 90 | O16: =SUM(C16:N16) -> 1147 | Q16: 28
A17: Logic of Experimentation | B17: JSTOR | C17: 244 | D17: 308 | E17: 250 | F17: 272 | G17: 171 | H17: 156 | I17: 120 | J17: 152 | K17: 220 | L17: 114 | M17: 164 | N17: 157 | O17: =SUM(C17:N17) -> 2328
A18: Logic of Experimentation | B18: Project Muse | O18: =SUM(C18:N18) -> 0
A19: Powers of Divergence | B19: OAPEN | C19: 23 | D19: 33 | E19: 23 | F19: 29 | G19: 52 | H19: 14 | I19: 23 | J19: 26 | K19: 29 | L19: 39 | M19: 34 | N19: 15 | O19: =SUM(C19:N19) -> 340 | Q19: 39
A20: Powers of Divergence | B20: JSTOR | C20: 108 | D20: 154 | E20: 139 | F20: 112 | G20: 137 | H20: 74 | I20: 62 | J20: 92 | K20: 73 | L20: 111 | M20: 168 | N20: 111 | O20: =SUM(C20:N20) -> 1341
A21: Powers of Divergence | B21: Project Muse | O21: =SUM(C21:N21) -> 0
A22: Beyond Provenance | B22: OAPEN | C22: 43 | D22: 18 | E22: 41 | F22: 28 | G22: 27 | H22: 53 | I22: 26 | J22: 36 | K22: 37 | L22: 50 | M22: 38 | N22: 33 | O22: =SUM(C22:N22) -> 430 | Q22: 7
A23: Beyond Provenance | B23: JSTOR | C23: 89 | D23: 61 | E23: 115 | F23: 60 | G23: 88 | H23: 36 | I23: 56 | J23: 73 | K23: 67 | L23: 128 | M23: 135 | N23: 94 | O23: =SUM(C23:N23) -> 1002
A24: Beyond Provenance | B24: Project Muse | O24: =SUM(C24:N24) -> 0
A25: Images of Immigrants and Refugees in Western Europe | B25: OAPEN | C25: 200 | D25: 202 | E25: 239 | F25: 240 | G25: 167 | H25: 160 | I25: 98 | J25: 103 | K25: 168 | L25: 190 | M25: 217 | N25: 195 | O25: =SUM(C25:N25) -> 2179 | Q25: 22
A26: Images of Immigrants and Refugees in Western Europe | B26: JSTOR | C26: 417 | D26: 274 | E26: 474 | F26: 501 | G26: 412 | H26: 239 | I26: 121 | J26: 147 | K26: 261 | L26: 454 | M26: 677 | N26: 339 | O26: =SUM(C26:N26) -> 4316
A27: Images of Immigrants and Refugees in Western Europe | B27: Project Muse | C27: 22 | D27: 35 | E27: 18 | F27: 18 | G27: 21 | H27: 40 | I27: 115 | J27: 150 | K27: 164 | L27: 131 | M27: 157 | N27: 192 | O27: =SUM(C27:N27) -> 1063
A28: Brokers of Modernity | B28: OAPEN | C28: 79 | D28: 97 | E28: 106 | F28: 84 | G28: 61 | H28: 50 | I28: 59 | J28: 78 | K28: 91 | L28: 66 | M28: 81 | N28: 116 | O28: =SUM(C28:N28) -> 968 | Q28: 26
A29: Brokers of Modernity | B29: JSTOR | C29: 417 | D29: 438 | E29: 378 | F29: 387 | G29: 255 | H29: 135 | I29: 85 | J29: 134 | K29: 158 | L29: 240 | M29: 255 | N29: 183 | O29: =SUM(C29:N29) -> 3065
A30: Brokers of Modernity | B30: Project Muse | C30: 20 | D30: 23 | E30: 1145 | F30: 98 | G30: 232 | H30: 189 | I30: 178 | J30: 176 | K30: 180 | L30: 177 | M30: 156 | N30: 186 | O30: =SUM(C30:N30) -> 2760
A31: Gender and Christianity in Modern Europe | B31: OAPEN | C31: 136 | D31: 92 | E31: 81 | F31: 74 | G31: 91 | H31: 62 | I31: 47 | J31: 82 | K31: 66 | L31: 142 | M31: 152 | N31: 84 | O31: =SUM(C31:N31) -> 1109 | Q31: 49
A32: Gender and Christianity in Modern Europe | B32: JSTOR | C32: 97 | D32: 107 | E32: 145 | F32: 172 | G32: 76 | H32: 58 | I32: 68 | J32: 44 | K32: 85 | L32: 139 | M32: 104 | N32: 63 | O32: =SUM(C32:N32) -> 1158
A33: Gender and Christianity in Modern Europe | B33: Project Muse | C33: 1 | D33: 50 | E33: 17 | F33: 4 | G33: 6 | H33: 272 | I33: 254 | J33: 276 | K33: 300 | L33: 253 | M33: 280 | N33: 296 | O33: =SUM(C33:N33) -> 2009
A34: New Multicultural Identities in Europe | B34: OAPEN | C34: 36 | D34: 33 | E34: 55 | F34: 65 | G34: 38 | H34: 36 | I34: 28 | J34: 38 | K34: 42 | L34: 49 | M34: 36 | N34: 53 | O34: =SUM(C34:N34) -> 509 | Q34: 38
A35: New Multicultural Identities in Europe | B35: JSTOR | C35: 133 | D35: 131 | E35: 169 | F35: 176 | G35: 61 | H35: 78 | I35: 81 | J35: 50 | K35: 104 | L35: 118 | M35: 157 | N35: 69 | O35: =SUM(C35:N35) -> 1327
A36: New Multicultural Identities in Europe | B36: Project Muse | C36: 0 | D36: 6 | E36: 4 | F36: 9 | G36: 35 | H36: 18 | I36: 28 | J36: 1 | K36: 15 | L36: 27 | M36: 4 | N36: 21 | O36: =SUM(C36:N36) -> 168
A37: Essays on Plato's Epistemology | B37: OAPEN | C37: 194 | D37: 227 | E37: 384 | F37: 374 | G37: 345 | H37: 340 | I37: 256 | J37: 327 | K37: 609 | L37: 928 | M37: 615 | N37: 357 | O37: =SUM(C37:N37) -> 4956 | Q37: 41
A38: Essays on Plato's Epistemology | B38: JSTOR | C38: 239 | D38: 169 | E38: 198 | F38: 195 | G38: 96 | H38: 82 | I38: 47 | J38: 70 | K38: 77 | L38: 239 | M38: 110 | N38: 57 | O38: =SUM(C38:N38) -> 1579
A39: Essays on Plato's Epistemology | B39: Project Muse | C39: 3 | D39: 1 | E39: 11 | F39: 45 | G39: 5 | H39: 5 | I39: 5 | J39: 10 | K39: 217 | L39: 321 | M39: 271 | N39: 355 | O39: =SUM(C39:N39) -> 1249
A40: Virtues for the People | B40: OAPEN | C40: 74 | D40: 57 | E40: 79 | F40: 41 | G40: 49 | H40: 36 | I40: 70 | J40: 63 | K40: 59 | L40: 108 | M40: 52 | N40: 38 | O40: =SUM(C40:N40) -> 726 | Q40: 46
...

Sheet 2022
A1: User Statistics Open Access
A2: Title | B2: Platform | C2: 2022 | O2: total 2022 | Q2: Open Research Library
C3: Jan | D3: Feb | E3: March | F3: April | G3: May | H3: June | I3: July | J3: Aug | K3: Sept | L3: Oct | M3: Nov | N3: Dec
A4: Glass Making in the Greco-Roman World | B4: OAPEN | C4: 92 | D4: 77 | E4: 106 | F4: 129 | G4: 167 | H4: 79 | I4: 78 | J4: 76 | K4: 76 | L4: 106 | M4: 87 | N4: 81 | O4: =SUM(C4:N4) -> 1154 | P4: book downloads | Q4: 66
B5: JSTOR | C5: 39 | D5: 65 | E5: 116 | F5: 52 | G5: 67 | H5: 37 | I5: 18 | J5: 32 | K5: 39 | L5: 48 | M5: 96 | N5: 90 | O5: =SUM(C5:N5) -> 699 | P5: chapter views + downloads
B6: Project Muse | O6: =SUM(C6:N6) -> 0 | P6: chapter views + downloads
A7: Experimental Affinities in Music | B7: OAPEN | C7: 94 | D7: 48 | E7: 43 | F7: 37 | G7: 34 | H7: 47 | I7: 32 | J7: 41 | K7: 49 | L7: 90 | M7: 56 | N7: 56 | O7: =SUM(C7:N7) -> 627 | Q7: 10
B8: JSTOR | C8: 75 | D8: 81 | E8: 76 | F8: 54 | G8: 66 | H8: 57 | I8: 41 | J8: 31 | K8: 83 | L8: 111 | M8: 127 | N8: 102 | O8: =SUM(C8:N8) -> 904
B9: Project Muse | O9: =SUM(C9:N9) -> 0
A10: Transpositions | B10: OAPEN | C10: 73 | D10: 59 | E10: 50 | F10: 48 | G10: 32 | H10: 48 | I10: 56 | J10: 59 | K10: 67 | L10: 52 | M10: 58 | N10: 43 | O10: =SUM(C10:N10) -> 645 | Q10: 18
A11: Transpositions | B11: JSTOR | C11: 122 | D11: 92 | E11: 98 | F11: 100 | G11: 63 | H11: 67 | I11: 85 | J11: 89 | K11: 124 | L11: 108 | M11: 154 | N11: 121 | O11: =SUM(C11:N11) -> 1223
A12: Transpositions | B12: Project Muse | O12: =SUM(C12:N12) -> 0
A13: Virtual Works – Actual Things | B13: OAPEN | C13: 49 | D13: 110 | E13: 39 | F13: 45 | G13: 46 | H13: 55 | I13: 39 | J13: 58 | K13: 42 | L13: 29 | M13: 65 | N13: 27 | O13: =SUM(C13:N13) -> 604 | Q13: 19
A14: Virtual Works – Actual Things | B14: JSTOR | C14: 97 | D14: 92 | E14: 76 | F14: 107 | G14: 117 | H14: 55 | I14: 45 | J14: 48 | K14: 90 | L14: 57 | M14: 132 | N14: 117 | O14: =SUM(C14:N14) -> 1033
A15: Virtual Works – Actual Things | B15: Project Muse | O15: =SUM(C15:N15) -> 0
A16: Logic of Experimentation | B16: OAPEN | C16: 132 | D16: 123 | E16: 131 | F16: 120 | G16: 92 | H16: 76 | I16: 47 | J16: 77 | K16: 90 | L16: 111 | M16: 122 | N16: 65 | O16: =SUM(C16:N16) -> 1186 | Q16: 19
A17: Logic of Experimentation | B17: JSTOR | C17: 167 | D17: 119 | E17: 127 | F17: 162 | G17: 185 | H17: 140 | I17: 93 | J17: 137 | K17: 123 | L17: 142 | M17: 141 | N17: 97 | O17: =SUM(C17:N17) -> 1633
A18: Logic of Experimentation | B18: Project Muse | O18: =SUM(C18:N18) -> 0
A19: Powers of Divergence | B19: OAPEN | C19: 31 | D19: 29 | E19: 28 | F19: 24 | G19: 28 | H19: 13 | I19: 15 | J19: 25 | K19: 25 | L19: 43 | M19: 32 | N19: 14 | O19: =SUM(C19:N19) -> 307
A20: Powers of Divergence | B20: JSTOR | C20: 86 | D20: 85 | E20: 81 | F20: 79 | G20: 61 | H20: 36 | I20: 54 | J20: 46 | K20: 67 | L20: 55 | M20: 81 | N20: 93 | O20: =SUM(C20:N20) -> 824
A21: Powers of Divergence | B21: Project Muse | O21: =SUM(C21:N21) -> 0
A22: Beyond Provenance | B22: OAPEN | C22: 56 | D22: 46 | E22: 79 | F22: 27 | G22: 32 | H22: 29 | I22: 34 | J22: 29 | K22: 26 | L22: 59 | M22: 35 | N22: 30 | O22: =SUM(C22:N22) -> 482 | Q22: 13
A23: Beyond Provenance | B23: JSTOR | C23: 117 | D23: 71 | E23: 97 | F23: 159 | G23: 77 | H23: 92 | I23: 61 | J23: 46 | K23: 102 | L23: 114 | M23: 67 | N23: 62 | O23: =SUM(C23:N23) -> 1065
A24: Beyond Provenance | B24: Project Muse | O24: =SUM(C24:N24) -> 0
A25: Images of Immigrants and Refugees in Western Europe | B25: OAPEN | C25: 175 | D25: 167 | E25: 261 | F25: 263 | G25: 269 | H25: 145 | I25: 107 | J25: 98 | K25: 160 | L25: 166 | M25: 250 | N25: 191 | O25: =SUM(C25:N25) -> 2252 | Q25: 40
A26: Images of Immigrants and Refugees in Western Europe | B26: JSTOR | C26: 273 | D26: 191 | E26: 301 | F26: 456 | G26: 447 | H26: 265 | I26: 157 | J26: 146 | K26: 274 | L26: 344 | M26: 567 | N26: 355 | O26: =SUM(C26:N26) -> 3776
A27: Images of Immigrants and Refugees in Western Europe | B27: Project Muse | C27: 184 | D27: 207 | E27: 182 | F27: 40 | G27: 48 | H27: 31 | I27: 11 | J27: 8 | K27: 7 | L27: 24 | M27: 28 | N27: 93 | O27: =SUM(C27:N27) -> 863
A28: Brokers of Modernity | B28: OAPEN | C28: 128 | D28: 142 | E28: 108 | F28: 90 | G28: 100 | H28: 100 | I28: 38 | J28: 52 | K28: 84 | L28: 104 | M28: 174 | N28: 90 | O28: =SUM(C28:N28) -> 1210 | Q28: 17
A29: Brokers of Modernity | B29: JSTOR | C29: 147 | D29: 173 | E29: 253 | F29: 237 | G29: 195 | H29: 144 | I29: 125 | J29: 117 | K29: 178 | L29: 226 | M29: 329 | N29: 296 | O29: =SUM(C29:N29) -> 2420
A30: Brokers of Modernity | B30: Project Muse | C30: 209 | D30: 159 | E30: 201 | F30: 14 | G30: 49 | H30: 10 | I30: 11 | J30: 2 | K30: 1 | L30: 7 | M30: 11 | N30: 76 | O30: =SUM(C30:N30) -> 750
A31: Gender and Christianity in Modern Europe | B31: OAPEN | C31: 114 | D31: 80 | E31: 111 | F31: 82 | G31: 83 | H31: 62 | I31: 74 | J31: 44 | K31: 64 | L31: 77 | M31: 65 | N31: 69 | O31: =SUM(C31:N31) -> 925 | Q31: =78+11 -> 89
A32: Gender and Christianity in Modern Europe | B32: JSTOR | C32: 89 | D32: 66 | E32: 120 | F32: 99 | G32: 84 | H32: 75 | I32: 88 | J32: 185 | K32: 98 | L32: 122 | M32: 176 | N32: 164 | O32: =SUM(C32:N32) -> 1366
A33: Gender and Christianity in Modern Europe | B33: Project Muse | C33: 354 | D33: 265 | E33: 305 | F33: 6 | G33: 6 | H33: 6 | I33: 12 | J33: 2 | K33: 7 | L33: 6 | M33: 34 | N33: 94 | O33: =SUM(C33:N33) -> 1097
A34: New Multicultural Identities in Europe | B34: OAPEN | C34: 34 | D34: 30 | E34: 40 | F34: 31 | G34: 39 | H34: 27 | I34: 12 | J34: 19 | K34: 18 | L34: 24 | M34: 31 | N34: 35 | O34: =SUM(C34:N34) -> 340 | Q34: =39+11 -> 50
A35: New Multicultural Identities in Europe | B35: JSTOR | C35: 98 | D35: 46 | E35: 96 | F35: 86 | G35: 116 | H35: 49 | I35: 87 | J35: 48 | K35: 77 | L35: 81 | M35: 148 | N35: 126 | O35: =SUM(C35:N35) -> 1058
A36: New Multicultural Identities in Europe | B36: Project Muse | C36: 0 | D36: 2 | E36: 9 | F36: 4 | G36: 1 | H36: 3 | I36: 3 | J36: 0 | K36: 5 | L36: 8 | M36: 1 | N36: 13 | O36: =SUM(C36:N36) -> 49
A37: Essays on Plato's Epistemology | B37: OAPEN | C37: 280 | D37: 375 | E37: 454 | F37: 359 | G37: 275 | H37: 227 | I37: 206 | J37: 219 | K37: 369 | L37: 336 | M37: 324 | N37: 277 | O37: =SUM(C37:N37) -> 3701 | Q37: 24
A38: Essays on Plato's Epistemology | B38: JSTOR | C38: 57 | D38: 89 | E38: 109 | F38: 159 | G38: 111 | H38: 61 | I38: 44 | J38: 47 | K38: 108 | L38: 105 | M38: 143 | N38: 128 | O38: =SUM(C38:N38) -> 1161
A39: Essays on Plato's Epistemology | B39: Project Muse | C39: 403 | D39: 278 | E39: 332 | F39: 12 | G39: 9 | H39: 3 | I39: 12 | J39: 6 | K39: 7 | L39: 0 | M39: 16 | N39: 74 | O39: =SUM(C39:N39) -> 1152
A40: Virtues for the People | B40: OAPEN | C40: 43 | D40: 40 | E40: 58 | F40: 43 | G40: 38 | H40: 35 | I40: 26 | J40: 27 | K40: 56 | L40: 45 | M40: 42 | N40: 42 | O40: =SUM(C40:N40) -> 495 | Q40: 28
...

Sheet 2023
A1: User Statistics Open Access
A2: Title | B2: Platform | C2: 2023 | O2: total 2023 | Q2: Open Research Library
C3: Jan | D3: Feb | E3: March | F3: April | G3: May | H3: June | I3: July | J3: Aug | K3: Sept | L3: Oct | M3: Nov | N3: Dec
A4: Glass Making in the Greco-Roman World | B4: OAPEN | C4: 98 | D4: 111 | E4: 67 | F4: 36 | G4: 38 | H4: 36 | I4: 26 | J4: 32 | K4: 42 | L4: 73 | M4: 51 | N4: 75 | O4: =SUM(C4:N4) -> 685 | P4: book downloads | Q4: 0
B5: JSTOR | C5: 65 | D5: 69 | E5: 69 | F5: 74 | G5: 42 | H5: 37 | I5: 29 | J5: 83 | K5: 46 | L5: 71 | M5: 68 | N5: 68 | O5: =SUM(C5:N5) -> 721 | P5: chapter views + downloads
B6: Project Muse | O6: =SUM(C6:N6) -> 0 | P6: chapter views + downloads
A7: Experimental Affinities in Music | B7: OAPEN | C7: 54 | D7: 52 | E7: 42 | F7: 40 | G7: 36 | H7: 34 | I7: 20 | J7: 22 | K7: 26 | L7: 41 | M7: 31 | N7: 52 | O7: =SUM(C7:N7) -> 450
B8: JSTOR | C8: 60 | D8: 81 | E8: 89 | F8: 108 | G8: 63 | H8: 49 | I8: 53 | J8: 55 | K8: 93 | L8: 121 | M8: 98 | N8: 97 | O8: =SUM(C8:N8) -> 967
B9: Project Muse | O9: =SUM(C9:N9) -> 0
A10: Transpositions | B10: OAPEN | C10: 45 | D10: 58 | E10: 55 | F10: 45 | G10: 67 | H10: 48 | I10: 49 | J10: 47 | K10: 53 | L10: 57 | M10: 49 | N10: 77 | O10: =SUM(C10:N10) -> 650
A11: Transpositions | B11: JSTOR | C11: 128 | D11: 108 | E11: 200 | F11: 163 | G11: 156 | H11: 78 | I11: 75 | J11: 106 | K11: 158 | L11: 165 | M11: 206 | N11: 95 | O11: =SUM(C11:N11) -> 1638
A12: Transpositions | B12: Project Muse | O12: =SUM(C12:N12) -> 0
A13: Virtual Works – Actual Things | B13: OAPEN | C13: 31 | D13: 45 | E13: 35 | F13: 40 | G13: 35 | H13: 26 | I13: 29 | J13: 11 | K13: 41 | L13: 33 | M13: 37 | N13: 28 | O13: =SUM(C13:N13) -> 391
A14: Virtual Works – Actual Things | B14: JSTOR | C14: 142 | D14: 109 | E14: 182 | F14: 102 | G14: 140 | H14: 128 | I14: 73 | J14: 72 | K14: 156 | L14: 161 | M14: 150 | N14: 133 | O14: =SUM(C14:N14) -> 1548
A15: Virtual Works – Actual Things | B15: Project Muse | O15: =SUM(C15:N15) -> 0
A16: Logic of Experimentation | B16: OAPEN | C16: 119 | D16: 92 | E16: 85 | F16: 50 | G16: 83 | H16: 103 | I16: 65 | J16: 49 | K16: 118 | L16: 102 | M16: 86 | N16: 73 | O16: =SUM(C16:N16) -> 1025
A17: Logic of Experimentation | B17: JSTOR | C17: 183 | D17: 118 | E17: 94 | F17: 65 | G17: 91 | H17: 57 | I17: 48 | J17: 34 | K17: 63 | L17: 105 | M17: 80 | N17: 41 | O17: =SUM(C17:N17) -> 979
A18: Logic of Experimentation | B18: Project Muse | O18: =SUM(C18:N18) -> 0
A19: Powers of Divergence | B19: OAPEN | C19: 24 | D19: 23 | E19: 26 | F19: 20 | G19: 34 | H19: 26 | I19: 12 | J19: 25 | K19: 30 | L19: 25 | M19: 28 | N19: 21 | O19: =SUM(C19:N19) -> 294
A20: Powers of Divergence | B20: JSTOR | C20: 38 | D20: 36 | E20: 108 | F20: 39 | G20: 35 | H20: 32 | I20: 69 | J20: 17 | K20: 32 | L20: 35 | M20: 64 | N20: 29 | O20: =SUM(C20:N20) -> 534
A21: Powers of Divergence | B21: Project Muse | O21: =SUM(C21:N21) -> 0
A22: Beyond Provenance | B22: OAPEN | C22: 53 | D22: 31 | E22: 44 | F22: 28 | G22: 37 | H22: 42 | I22: 15 | J22: 15 | K22: 15 | L22: 17 | M22: 28 | N22: 21 | O22: =SUM(C22:N22) -> 346
A23: Beyond Provenance | B23: JSTOR | C23: 94 | D23: 89 | E23: 41 | F23: 22 | G23: 41 | H23: 44 | I23: 9 | J23: 26 | K23: 41 | L23: 90 | M23: 65 | N23: 36 | O23: =SUM(C23:N23) -> 598
A24: Beyond Provenance | B24: Project Muse | O24: =SUM(C24:N24) -> 0
A25: Images of Immigrants and Refugees in Western Europe | B25: OAPEN | C25: 210 | D25: 198 | E25: 203 | F25: 205 | G25: 254 | H25: 170 | I25: 145 | J25: 137 | K25: 168 | L25: 236 | M25: 290 | N25: 275 | O25: =SUM(C25:N25) -> 2491
A26: Images of Immigrants and Refugees in Western Europe | B26: JSTOR | C26: 322 | D26: 387 | E26: 567 | F26: 521 | G26: 430 | H26: 243 | I26: 219 | J26: 203 | K26: 247 | L26: 550 | M26: 597 | N26: 463 | O26: =SUM(C26:N26) -> 4749
A27: Images of Immigrants and Refugees in Western Europe | B27: Project Muse | C27: 44 | D27: 83 | E27: 122 | F27: 92 | G27: 66 | H27: 18 | I27: 11 | J27: 11 | K27: 21 | L27: 24 | M27: 74 | N27: 16 | O27: =SUM(C27:N27) -> 582
A28: Brokers of Modernity | B28: OAPEN | C28: 108 | D28: 256 | E28: 70 | F28: 80 | G28: 78 | H28: 108 | I28: 36 | J28: 30 | K28: 50 | L28: 84 | M28: 62 | N28: 56 | O28: =SUM(C28:N28) -> 1018
A29: Brokers of Modernity | B29: JSTOR | C29: 257 | D29: 268 | E29: 377 | F29: 299 | G29: 220 | H29: 151 | I29: 135 | J29: 163 | K29: 208 | L29: 310 | M29: 338 | N29: 198 | O29: =SUM(C29:N29) -> 2924
A30: Brokers of Modernity | B30: Project Muse | C30: 9 | D30: 27 | E30: 73 | F30: 50 | G30: 70 | H30: 42 | I30: 21 | J30: 89 | K30: 109 | L30: 50 | M30: 83 | N30: 57 | O30: =SUM(C30:N30) -> 680
A31: Gender and Christianity in Modern Europe | B31: OAPEN | C31: 77 | D31: 58 | E31: 51 | F31: 36 | G31: 55 | H31: 30 | I31: 10 | J31: 7 | K31: 5 | L31: 51 | M31: 43 | N31: 37 | O31: =SUM(C31:N31) -> 460
A32: Gender and Christianity in Modern Europe | B32: JSTOR | C32: 116 | D32: 80 | E32: 155 | F32: 106 | G32: 101 | H32: 54 | I32: 57 | J32: 57 | K32: 75 | L32: 106 | M32: 133 | N32: 82 | O32: =SUM(C32:N32) -> 1122
A33: Gender and Christianity in Modern Europe | B33: Project Muse | C33: 41 | D33: 44 | E33: 116 | F33: 75 | G33: 53 | H33: 24 | I33: 28 | J33: 45 | K33: 26 | L33: 52 | M33: 43 | N33: 38 | O33: =SUM(C33:N33) -> 585
A34: New Multicultural Identities in Europe | B34: OAPEN | C34: 41 | D34: 36 | E34: 46 | F34: 31 | G34: 40 | H34: 27 | I34: 16 | J34: 12 | K34: 17 | L34: 27 | M34: 37 | N34: 34 | O34: =SUM(C34:N34) -> 364
A35: New Multicultural Identities in Europe | B35: JSTOR | C35: 121 | D35: 88 | E35: 102 | F35: 122 | G35: 79 | H35: 95 | I35: 82 | J35: 49 | K35: 93 | L35: 149 | M35: 161 | N35: 102 | O35: =SUM(C35:N35) -> 1243
A36: New Multicultural Identities in Europe | B36: Project Muse | C36: 4 | D36: 9 | E36: 35 | F36: 10 | G36: 52 | H36: 5 | I36: 7 | J36: 19 | K36: 8 | L36: 5 | M36: 16 | N36: 12 | O36: =SUM(C36:N36) -> 182
... A45: A Small Nation in the Turmoil of the Second World War | B45: Project Muse | C45: 75 | D45: 24 | E45: 101 | F45: 110 | G45: 182 | H45: 16 | I45: 22 | J45: 39 | K45: 22 | L45: 65 | M45: 87 | N45: 24 | O45: =SUM(C45:N45) -> 767
A46: Mapping Landscapes in Transformation | B46: OAPEN | C46: =44+7+5+28+9+36+9+4+16+2+3+8+8 -> 179 | D46: =61+4+5+16+21+31+7+7+18+3+18+11+4 -> 206 | E46: =28+15+11+12+2+11+11+1+5+3+2+9+6 -> 116 | F46: =47+32+5+1+9 -> 94 | G46: =2+18+4+4+3+7+3+4+4+1+3+42+3 -> 98 | H46: =5+8+8+2+2+5+4+8+9+3+1+45+5 -> 105 | I46: =3+6+5+6+2+3+5+6+9+2+32+2 -> 81 | J46: =18+3+6+1+6+3+18+7+3 -> 65 | K46: =29+2+23+7+6+7+6+7+4+29+7 -> 127 | L46: =11+14+6+13+10+1+11+9+8+8+1+4+21 -> 117 | M46: =25+19+11+24+10+15+10+12+10+7+17+8+41 -> 209 | N46: =10+21+10+9+13+9+17+4+5+7+2+6+33 -> 146 | O46: =SUM(C46:N46) -> 1543
A47: Mapping Landscapes in Transformation | B47: JSTOR | C47: 90 | D47: 187 | E47: 225 | F47: 168 | G47: 142 | H47: 85 | I47: 118 | J47: 172 | K47: 159 | L47: 186 | M47: 240 | N47: 265 | O47: =SUM(C47:N47) -> 2037
A48: Mapping Landscapes in Transformation | B48: Project Muse | O48: =SUM(C48:N48) -> 0
...

Sheet 2024
A1: User Statistics Open Access
A2: Title | B2: Platform | C2: 2024 | O2: total 2024 | Q2: Open Research Library
C3: Jan | D3: Feb | E3: March | F3: April | G3: May | H3: June | I3: July | J3: Aug | K3: Sept | L3: Oct | M3: Nov | N3: Dec
A4: Glass Making in the Greco-Roman World | B4: OAPEN | C4: 52 | D4: 71 | E4: 85 | F4: 99 | G4: 96 | H4: 25 | I4: 42 | J4: 39 | K4: 40 | L4: 58 | M4: 58 | N4: 48 | O4: =SUM(C4:N4) -> 713 | P4: book downloads | Q4: 0
B5: JSTOR | C5: 49 | D5: 39 | E5: 68 | F5: 87 | G5: 48 | H5: 27 | I5: 60 | J5: 69 | K5: 45 | L5: 52 | M5: 87 | N5: 120 | O5: =SUM(C5:N5) -> 751 | P5: chapter views + downloads
B6: Project Muse | O6: =SUM(C6:N6) -> 0 | P6: chapter views + downloads
A7: Experimental Affinities in Music | B7: OAPEN | C7: 55 | D7: 40 | E7: 63 | F7: 63 | G7: 51 | H7: 27 | I7: 35 | J7: 24 | K7: 41 | L7: 52 | M7: 64 | N7: 29 | O7: =SUM(C7:N7) -> 544
B8: JSTOR | C8: 85 | D8: 84 | E8: 107 | F8: 79 | G8: 95 | H8: 50 | I8: 38 | J8: 51 | K8: 68 | L8: 135 | M8: 88 | N8: 93 | O8: =SUM(C8:N8) -> 973
B9: Project Muse | O9: =SUM(C9:N9) -> 0
A10: Transpositions | B10: OAPEN | C10: 91 | D10: 69 | E10: 128 | F10: 78 | G10: 60 | H10: 66 | I10: 71 | J10: 33 | K10: 44 | L10: 54 | M10: 52 | N10: 34 | O10: =SUM(C10:N10) -> 780
A11: Transpositions | B11: JSTOR | C11: 101 | D11: 93 | E11: 133 | F11: 190 | G11: 127 | H11: 66 | I11: 68 | J11: 93 | K11: 125 | L11: 106 | M11: 128 | N11: 120 | O11: =SUM(C11:N11) -> 1350
A12: Transpositions | B12: Project Muse | O12: =SUM(C12:N12) -> 0
A13: Virtual Works – Actual Things | B13: OAPEN | C13: 38 | D13: 45 | E13: 79 | F13: 104 | G13: 108 | H13: 69 | I13: 78 | J13: 77 | K13: 64 | L13: 89 | M13: 91 | N13: 82 | O13: =SUM(C13:N13) -> 924
A14: Virtual Works – Actual Things | B14: JSTOR | C14: 124 | D14: 131 | E14: 188 | F14: 160 | G14: 148 | H14: 82 | I14: 54 | J14: 75 | K14: 66 | L14: 112 | M14: 146 | N14: 118 | O14: =SUM(C14:N14) -> 1404
A15: Virtual Works – Actual Things | B15: Project Muse | C15: 53 | D15: 70 | E15: 42 | F15: 30 | G15: 70 | H15: 61 | I15: 112 | J15: 60 | K15: 78 | L15: 84 | M15: 61 | N15: 110 | O15: =SUM(C15:N15) -> 831
A16: Logic of Experimentation | B16: OAPEN | C16: 77 | D16: 88 | E16: 127 | F16: 140 | G16: 144 | H16: 76 | I16: 71 | J16: 56 | K16: 73 | L16: 98 | M16: 89 | N16: 49 | O16: =SUM(C16:N16) -> 1088
A17: Logic of Experimentation | B17: JSTOR | C17: 77 | D17: 50 | E17: 90 | F17: 92 | G17: 103 | H17: 64 | I17: 79 | J17: 78 | K17: 98 | L17: 103 | M17: 58 | N17: 75 | O17: =SUM(C17:N17) -> 967
A18: Logic of Experimentation | B18: Project Muse | O18: =SUM(C18:N18) -> 0
A19: Powers of Divergence | B19: OAPEN | C19: 28 | D19: 37 | E19: 25 | F19: 36 | G19: 40 | H19: 19 | I19: 13 | J19: 18 | K19: 36 | L19: 51 | M19: 55 | N19: 31 | O19: =SUM(C19:N19) -> 389
A20: Powers of Divergence | B20: JSTOR | C20: 37 | D20: 109 | E20: 33 | F20: 33 | G20: 71 | H20: 23 | I20: 19 | J20: 63 | K20: 34 | L20: 45 | M20: 49 | N20: 48 | O20: =SUM(C20:N20) -> 564
A21: Powers of Divergence | B21: Project Muse | O21: =SUM(C21:N21) -> 0
A22: Beyond Provenance | B22: OAPEN | C22: 26 | D22: 34 | E22: 53 | F22: 52 | G22: 48 | H22: 22 | I22: 20 | J22: 33 | K22: 37 | L22: 34 | M22: 45 | N22: 28 | O22: =SUM(C22:N22) -> 432
A23: Beyond Provenance | B23: JSTOR | C23: 69 | D23: 38 | E23: 89 | F23: 48 | G23: 72 | H23: 26 | I23: 44 | J23: 49 | K23: 40 | L23: 14 | M23: 32 | N23: 65 | O23: =SUM(C23:N23) -> 586
A24: Beyond Provenance | B24: Project Muse | C24: 57 | D24: 44 | E24: 39 | F24: 46 | G24: 151 | H24: 46 | I24: 47 | J24: 24 | K24: 30 | L24: 53 | M24: 20 | N24: 40 | O24: =SUM(C24:N24) -> 597
A25: Images of Immigrants and Refugees in Western Europe | B25: OAPEN | C25: 217 | D25: 188 | E25: 193 | F25: 258 | G25: 243 | H25: 124 | I25: 126 | J25: 94 | K25: 123 | L25: 177 | M25: 162 | N25: 171 | O25: =SUM(C25:N25) -> 2076
A26: Images of Immigrants and Refugees in Western Europe | B26: JSTOR | C26: 447 | D26: 342 | E26: 512 | F26: 543 | G26: 375 | H26: 176 | I26: 186 | J26: 168 | K26: 253 | L26: 466 | M26: 376 | N26: 357 | O26: =SUM(C26:N26) -> 4201
A27: Images of Immigrants and Refugees in Western Europe | B27: Project Muse | C27: 81 | D27: 48 | E27: 75 | F27: 63 | G27: 86 | H27: 63 | I27: 67 | J27: 57 | K27: 113 | L27: 61 | M27: 81 | N27: 84 | O27: =SUM(C27:N27) -> 879
A28: Brokers of Modernity | B28: OAPEN | C28: 84 | D28: 52 | E28: 58 | F28: 70 | G28: 94 | H28: 74 | I28: 168 | J28: 84 | K28: 110 | L28: 74 | M28: 100 | N28: 40 | O28: =SUM(C28:N28) -> 1008
A29: Brokers of Modernity | B29: JSTOR | C29: 212 | D29: 292 | E29: 384 | F29: 249 | G29: 266 | H29: 91 | I29: 92 | J29: 127 | K29: 207 | L29: 277 | M29: 293 | N29: 235 | O29: =SUM(C29:N29) -> 2725
A30: Brokers of Modernity | B30: Project Muse | C30: 101 | D30: 240 | E30: 171 | F30: 118 | G30: 165 | H30: 94 | I30: 192 | J30: 94 | K30: 84 | L30: 180 | M30: 72 | N30: 111 | O30: =SUM(C30:N30) -> 1622
A31: Gender and Christianity in Modern Europe | B31: OAPEN | C31: 40 | D31: 33 | E31: 168 | F31: 83 | G31: 51 | H31: 30 | I31: 19 | J31: 36 | K31: 24 | L31: 22 | M31: 6 | N31: 29 | O31: =SUM(C31:N31) -> 541
A32: Gender and Christianity in Modern Europe | B32: JSTOR | C32: 96 | D32: 88 | E32: 146 | F32: 167 | G32: 87 | H32: 66 | I32: 75 | J32: 51 | K32: 96 | L32: 99 | M32: 96 | N32: 91 | O32: =SUM(C32:N32) -> 1158
A33: Gender and Christianity in Modern Europe | B33: Project Muse | C33: 75 | D33: 128 | E33: 118 | F33: 99 | G33: 166 | H33: 112 | I33: 129 | J33: 96 | K33: 76 | L33: 117 | M33: 99 | N33: 126 | O33: =SUM(C33:N33) -> 1341
... A45: A Small Nation in the Turmoil of the Second World War | B45: Project Muse | C45: 57 | D45: 130 | E45: 120 | F45: 90 | G45: 154 | H45: 87 | I45: 94 | J45: 72 | K45: 70 | L45: 75 | M45: 129 | N45: 204 | O45: =SUM(C45:N45) -> 1282
A46: Mapping Landscapes in Transformation | B46: OAPEN | C46: =46+16+13+11+10+6+5+30+17+13+13+8+12+9+7+6 -> 222 | D46: =45+5+14+4+14+3+13+5+20+15+47+5+13+21+5+2+3 -> 234 | E46: =49+7+20+10+6+14+12+29+17+18+4+5+13+7+3+15 -> 229 | F46: =28+18+21+16+17+28+12+24+15+29+16+14+28+13+23+22 -> 324 | G46: =33+5+20+11+9+14+10+16+5+13+10+13+8+5+6+6 -> 184 | H46: =45+5+7+8+2+9+16+12+4+24+13+11+6+9+7+1 -> 179 | I46: =7+7+14+7+1+2+9+2+5+3+26+7+14+30+12+35 -> 181 | J46: =11+1+3+3+3+4+5+7+7+9+13+15+17+20+32 -> 150 | K46: =13+11+14+12+10+8+2+5+6+1+20+13+11+9+23+42 -> 200 | L46: =7+6+16+6+3+5+13+9+7+6+16+14+13+14+12+43 -> 190 | M46: =9+11+7+8+5+9+3+4+10+8+32+16+5+16+9+38 -> 190 | N46: =23+8+5+6+10+5+7+11+14+6+14+4+4 -> 117 | O46: =SUM(C46:N46) -> 2400
A47: Mapping Landscapes in Transformation | B47: JSTOR | C47: 233 | D47: 206 | E47: 185 | F47: 254 | G47: 182 | H47: 114 | I47: 138 | J47: 116 | K47: 240 | L47: 204 | M47: 209 | N47: 215 | O47: =SUM(C47:N47) -> 2296
A48: Mapping Landscapes in Transformation | B48: Project Muse | O48: =SUM(C48:N48) -> 0
A49: Modern Islamic Thinking and Activism | B49: OAPEN | C49: 62 | D49: 63 | E49: 70 | F49: 56 | G49: 68 | H49: 59 | I49: 30 | J49: 45 | K49: 52 | L49: 60 | M49: 44 | N49: 38 | O49: =SUM(C49:N49) -> 647
A50: Modern Islamic Thinking and Activism | B50: JSTOR | C50: 58 | D50: 68 | E50: 95 | F50: 103 | G50: 442 | H50: 67 | I50: 66 | J50: 51 | K50: 66 | L50: 120 | M50: 135 | N50: 96 | O50: =SUM(C50:N50) -> 1367
A51: Modern Islamic Thinking and Activism | B51: Project Muse | C51: 37 | D51: 82 | E51: 217 | F51: 168 | G51: 187 | H51: 129 | I51: 140 | J51: 152 | K51: 111 | L51: 98 | M51: 145 | N51: 132 | O51: =SUM(C51:N51) -> 1598
...

Sheet 2025
A1: User Statistics Open Access
A2: Title | B2: Platform | C2: 2025 | O2: total 2025 | Q2: Open Research Library
C3: Jan | D3: Feb | E3: March | F3: April | G3: May | H3: June | I3: July | J3: Aug | K3: Sept | L3: Oct | M3: Nov | N3: Dec
A4: Glass Making in the Greco-Roman World | B4: OAPEN | C4: 87 | D4: 49 | E4: 44 | F4: 49 | G4: 83 | H4: 59 | I4: 50 | J4: 80 | K4: 54 | L4: 31 | O4: =SUM(C4:N4) -> 586 | P4: book downloads | Q4: 0
B5: JSTOR | C5: 97 | D5: 63 | E5: 47 | F5: 52 | G5: 73 | H5: 36 | I5: 104 | J5: 43 | K5: 42 | L5: 48 | M5: 70 | N5: 72 | O5: =SUM(C5:N5) -> 747 | P5: chapter views + downloads
B6: Project Muse | O6: =SUM(C6:N6) -> 0 | P6: chapter views + downloads
A7: Experimental Affinities in Music | B7: OAPEN | C7: 38 | D7: 19 | E7: 49 | F7: 116 | G7: 54 | H7: 39 | I7: 56 | J7: 41 | K7: 58 | L7: 24 | O7: =SUM(C7:N7) -> 494
B8: JSTOR | C8: 84 | D8: 58 | E8: 110 | F8: 66 | G8: 57 | H8: 73 | I8: 80 | J8: 68 | K8: 104 | L8: 96 | M8: 97 | N8: 83 | O8: =SUM(C8:N8) -> 976
B9: Project Muse | O9: =SUM(C9:N9) -> 0
A10: Transpositions | B10: OAPEN | C10: 38 | D10: 29 | E10: 44 | F10: 35 | G10: 52 | H10: 47 | I10: 58 | J10: 67 | K10: 49 | L10: 29 | O10: =SUM(C10:N10) -> 448
A11: Transpositions | B11: JSTOR | C11: 99 | D11: 86 | E11: 116 | F11: 146 | G11: 120 | H11: 76 | I11: 149 | J11: 83 | K11: 97 | L11: 84 | M11: 108 | N11: 87 | O11: =SUM(C11:N11) -> 1251
A12: Transpositions | B12: Project Muse | O12: =SUM(C12:N12) -> 0
A13: Virtual Works – Actual Things | B13: OAPEN | C13: 56 | D13: 48 | E13: 113 | F13: 100 | G13: 93 | H13: 89 | I13: 31 | J13: 78 | K13: 69 | L13: 55 | O13: =SUM(C13:N13) -> 732
A14: Virtual Works – Actual Things | B14: JSTOR | C14: 108 | D14: 114 | E14: 159 | F14: 224 | G14: 115 | H14: 95 | I14: 87 | J14: 26 | K14: 106 | L14: 149 | M14: 112 | N14: 76 | O14: =SUM(C14:N14) -> 1371
A15: Virtual Works – Actual Things | B15: Project Muse | O15: =SUM(C15:N15) -> 0
A16: Logic of Experimentation | B16: OAPEN | C16: 69 | D16: 54 | E16: 62 | F16: 116 | G16: 60 | H16: 147 | I16: 72 | J16: 106 | K16: 123 | L16: 47 | O16: =SUM(C16:N16) -> 856
A17: Logic of Experimentation | B17: JSTOR | C17: 95 | D17: 82 | E17: 84 | F17: 65 | G17: 35 | H17: 52 | I17: 46 | J17: 55 | K17: 47 | L17: 71 | M17: 94 | N17: 77 | O17: =SUM(C17:N17) -> 803
A18: Logic of Experimentation | B18: Project Muse | O18: =SUM(C18:N18) -> 0
A19: Powers of Divergence | B19: OAPEN | C19: 27 | D19: 18 | E19: 17 | F19: 30 | G19: 31 | H19: 33 | I19: 47 | J19: 24 | K19: 19 | L19: 11 | O19: =SUM(C19:N19) -> 257
A20: Powers of Divergence | B20: JSTOR | C20: 31 | D20: 39 | E20: 27 | F20: 64 | G20: 33 | H20: 33 | I20: 149 | J20: 13 | K20: 22 | L20: 29 | M20: 16 | N20: 33 | O20: =SUM(C20:N20) -> 489
A21: Powers of Divergence | B21: Project Muse | O21: =SUM(C21:N21) -> 0
A22: Beyond Provenance | B22: OAPEN | C22: 24 | D22: 45 | E22: 51 | F22: 57 | G22: 36 | H22: 73 | I22: 24 | J22: 25 | K22: 32 | L22: 46 | O22: =SUM(C22:N22) -> 413
A23: Beyond Provenance | B23: JSTOR | C23: 16 | D23: 45 | E23: 43 | F23: 38 | G23: 19 | H23: 19 | I23: 33 | J23: 7 | K23: 18 | L23: 24 | M23: 34 | N23: 29 | O23: =SUM(C23:N23) -> 325
A24: Beyond Provenance | B24: Project Muse | C24: 96 | D24: 87 | E24: 75 | F24: 70 | G24: 74 | H24: 86 | I24: 108 | J24: 122 | K24: 26 | L24: 11 | M24: 11 | N24: 7 | O24: =SUM(C24:N24) -> 773
A25: Images of Immigrants and Refugees in Western Europe | B25: OAPEN | C25: 158 | D25: 119 | E25: 100 | F25: 123 | G25: 121 | H25: 123 | I25: 61 | J25: 68 | K25: 80 | L25: 53 | O25: =SUM(C25:N25) -> 1006
A26: Images of Immigrants and Refugees in Western Europe | B26: JSTOR | C26: 219 | D26: 245 | E26: 461 | F26: 321 | G26: 253 | H26: 152 | I26: 141 | J26: 4 | K26: 24 | L26: 16 | M26: 13 | N26: 39 | O26: =SUM(C26:N26) -> 1888
A27: Images of Immigrants and Refugees in Western Europe | B27: Project Muse | C27: 220 | D27: 149 | E27: 108 | F27: 283 | G27: 359 | H27: 299 | I27: 144 | J27: 188 | K27: 184 | L27: 140 | M27: 150 | N27: 117 | O27: =SUM(C27:N27) -> 2341
A28: Brokers of Modernity | B28: OAPEN | C28: 74 | D28: 42 | E28: 124 | F28: 166 | G28: 82 | H28: 58 | I28: 36 | J28: 82 | K28: 72 | L28: 72 | O28: =SUM(C28:N28) -> 808
A29: Brokers of Modernity | B29: JSTOR | C29: 196 | D29: 206 | E29: 308 | F29: 291 | G29: 237 | H29: 80 | I29: 75 | J29: 86 | K29: 202 | L29: 233 | M29: 165 | N29: 168 | O29: =SUM(C29:N29) -> 2247
A30: Brokers of Modernity | B30: Project Muse | C30: 182 | D30: 109 | E30: 202 | F30: 876 | G30: 908 | H30: 413 | I30: 286 | J30: 465 | K30: 172 | L30: 134 | M30: 147 | N30: 137 | O30: =SUM(C30:N30) -> 4031
A31: Gender and Christianity in Modern Europe | B31: OAPEN | C31: 43 | D31: 22 | E31: 34 | F31: 41 | G31: 32 | H31: 49 | I31: 61 | J31: 105 | K31: 42 | L31: 29 | O31: =SUM(C31:N31) -> 458
A32: Gender and Christianity in Modern Europe | B32: JSTOR | C32: 53 | D32: 69 | E32: 79 | F32: 71 | G32: 74 | H32: 55 | I32: 60 | J32: 52 | K32: 42 | L32: 70 | M32: 106 | N32: 99 | O32: =SUM(C32:N32) -> 830
A33: Gender and Christianity in Modern Europe | B33: Project Muse | C33: 177 | D33: 105 | E33: 146 | F33: 228 | G33: 297 | H33: 240 | I33: 173 | J33: 294 | K33: 247 | L33: 21 | M33: 21 | N33: 15 | O33: =SUM(C33:N33) -> 1964
A34: New Multicultural Identities in Europe | B34: OAPEN | C34: 29 | D34: 25 | E34: 44 | F34: 22 | G34: 45 | H34: 32 | I34: 33 | J34: 20 | K34: 29 | L34: 15 | O34: =SUM(C34:N34) -> 294
A35: New Multicultural Identities in Europe | B35: JSTOR | C35: 108 | D35: 78 | E35: 175 | F35: 151 | G35: 98 | H35: 47 | I35: 69 | J35: 23 | K35: 102 | L35: 79 | M35: 86 | N35: 115 | O35: =SUM(C35:N35) -> 1131
A36: New Multicultural Identities in Europe | B36: Project Muse | C36: 105 | D36: 93 | E36: 54 | F36: 179 | G36: 236 | H36: 137 | I36: 56 | J36: 106 | K36: 89 | L36: 11 | M36: 52 | N36: 15 | O36: =SUM(C36:N36) -> 1133
A37: Essays on Plato's Epistemology | B37: OAPEN | C37: 30 | D37: 52 | E37: 86 | F37: 73 | G37: 54 | H37: 61 | I37: 53 | J37: 59 | K37: 103 | L37: 64 | O37: =SUM(C37:N37) -> 635
A38: Essays on Plato's Epistemology | B38: JSTOR | C38: 66 | D38: 89 | E38: 118 | F38: 130 | G38: 94 | H38: 52 | I38: 62 | J38: 46 | K38: 75 | L38: 110 | M38: 162 | N38: 82 | O38: =SUM(C38:N38) -> 1086
A39: Essays on Plato's Epistemology | B39: Project Muse | C39: 83 | D39: 91 | E39: 128 | F39: 275 | G39: 632 | H39: 302 | I39: 144 | J39: 222 | K39: 91 | L39: 5 | M39: 0 | N39: 7 | O39: =SUM(C39:N39) -> 1980
A40: Virtues for the People | B40: OAPEN | C40: 40 | D40: 44 | E40: 53 | F40: 54 | G40: 51 | H40: 93 | I40: 39 | J40: 43 | K40: 71 | L40: 35 | O40: =SUM(C40:N40) -> 523
...

Sheet 2026
A1: User Statistics Open Access
A2: Title | B2: Platform | C2: 2026 | O2: total 2026 | Q2: Open Research Library | R2: downloads & views
C3: Jan | D3: Feb | E3: March | F3: April | G3: May | H3: June | I3: July | J3: Aug | K3: Sept | L3: Oct | M3: Nov | N3: Dec
A4: Glass Making in the Greco-Roman World | B4: OAPEN | D4: 103 | E4: 110 | F4: 81 | O4: =SUM(C4:N4) -> 294 | P4: book downloads | Q4: 59
B5: JSTOR | C5: 72 | D5: 53 | E5: 120 | F5: 128 | G5: 186 | H5: 159 | I5: 119 | O5: =SUM(C5:N5) -> 837 | P5: chapter views + downloads
B6: Project Muse | O6: =SUM(C6:N6) -> 0 | P6: chapter views + downloads
A7: Experimental Affinities in Music | B7: OAPEN | D7: 52 | E7: 94 | F7: 48 | O7: =SUM(C7:N7) -> 194 | Q7: 26
B8: JSTOR | C8: 79 | D8: 117 | E8: 130 | F8: 164 | G8: 223 | H8: 134 | I8: 156 | O8: =SUM(C8:N8) -> 1003
B9: Project Muse | O9: =SUM(C9:N9) -> 0
A10: Transpositions | B10: OAPEN | D10: 34 | E10: 100 | F10: 88 | O10: =SUM(C10:N10) -> 222 | Q10: 35
A11: Transpositions | B11: JSTOR | C11: 119 | D11: 100 | E11: 135 | F11: 199 | G11: 303 | H11: 181 | I11: 221 | O11: =SUM(C11:N11) -> 1258
A12: Transpositions | B12: Project Muse | O12: =SUM(C12:N12) -> 0
A13: Virtual Works – Actual Things | B13: OAPEN | D13: 50 | E13: 66 | F13: 68 | O13: =SUM(C13:N13) -> 184 | Q13: 17
