Workbook

Sheet 2014
A1: User Statistics Open Access
A2: Title | B2: Platform | C2: 2014 | O2: total 2014
C3: Jan | D3: Feb | E3: March | F3: April | G3: May | H3: June | I3: July | J3: Aug | K3: Sept | L3: Oct | M3: Nov | N3: Dec
A4: Glass Making in the Greco-Roman World | B4: OAPEN | C4: 0 | D4: 0 | E4: 0 | F4: 0 | G4: 0 | H4: 0 | I4: 0 | J4: 0 | K4: 0 | L4: 0 | M4: 0 | N4: 343 | O4: =SUM(C4:N4) -> 343 | P4: book downloads
A5: Glass Making in the Greco-Roman World | B5: JSTOR | C5: 0 | D5: 0 | E5: 0 | F5: 0 | G5: 0 | H5: 0 | I5: 0 | J5: 0 | K5: 0 | L5: 0 | M5: 0 | N5: 0 | O5: =SUM(C5:N5) -> 0 | P5: chapter views + downloads
A6: Glass Making in the Greco-Roman World | B6: Project Muse | C6: 0 | D6: 0 | E6: 0 | F6: 0 | G6: 0 | H6: 0 | I6: 0 | J6: 0 | K6: 0 | L6: 0 | M6: 0 | N6: 0 | O6: =SUM(C6:N6) -> 0 | P6: chapter views + downloads

Sheet 2015
A1: User Statistics Open Access
A2: Title | B2: Platform | C2: 2015 | O2: total 2015
C3: Jan | D3: Feb | E3: March | F3: April | G3: May | H3: June | I3: July | J3: Aug | K3: Sept | L3: Oct | M3: Nov | N3: Dec
A4: Glass Making in the Greco-Roman World | B4: OAPEN | C4: 326 | D4: 324 | E4: 159 | F4: 56 | G4: 48 | H4: 37 | I4: 37 | J4: 41 | K4: 61 | L4: 52 | M4: 137 | N4: 58 | O4: =SUM(C4:N4) -> 1336 | P4: book downloads
B5: JSTOR | C5: 0 | D5: 0 | E5: 0 | F5: 0 | G5: 0 | H5: 0 | I5: 0 | J5: 0 | K5: 0 | L5: 0 | M5: 0 | N5: 0 | O5: =SUM(C5:N5) -> 0 | P5: chapter views + downloads
B6: Project Muse | C6: 0 | D6: 0 | E6: 0 | F6: 0 | G6: 0 | H6: 0 | I6: 0 | J6: 0 | K6: 0 | L6: 0 | M6: 0 | N6: 0 | O6: =SUM(C6:N6) -> 0 | P6: chapter views + downloads
A7: Experimental Affinities in Music | B7: OAPEN | C7: 0 | D7: 0 | E7: 0 | F7: 0 | G7: 0 | H7: 0 | I7: 0 | J7: 0 | K7: 0 | L7: 0 | M7: 0 | N7: 22 | O7: =SUM(C7:N7) -> 22 | P7: book downloads
B8: JSTOR | C8: 0 | D8: 0 | E8: 0 | F8: 0 | G8: 0 | H8: 0 | I8: 0 | J8: 0 | K8: 0 | L8: 0 | M8: 0 | N8: 0 | O8: =SUM(C8:N8) -> 0 | P8: chapter views + downloads
B9: Project Muse | C9: 0 | D9: 0 | E9: 0 | F9: 0 | G9: 0 | H9: 0 | I9: 0 | J9: 0 | K9: 0 | L9: 0 | M9: 0 | N9: 0 | O9: =SUM(C9:N9) -> 0 | P9: chapter views + downloads

Sheet 2016
A1: User Statistics Open Access
A2: Title | B2: Platform | C2: 2016 | O2: total 2016
C3: Jan | D3: Feb | E3: March | F3: April | G3: May | H3: June | I3: July | J3: Aug | K3: Sept | L3: Oct | M3: Nov | N3: Dec
A4: Glass Making in the Greco-Roman World | B4: OAPEN | C4: 56 | D4: 97 | E4: 103 | F4: 102 | G4: 62 | H4: 44 | I4: 64 | J4: 62 | K4: 54 | L4: 69 | M4: 77 | N4: 97 | O4: =SUM(C4:N4) -> 887 | P4: book downloads
B5: JSTOR | C5: 0 | D5: 0 | E5: 0 | F5: 0 | G5: 0 | H5: 0 | I5: 0 | J5: 0 | K5: 0 | L5: 0 | M5: 0 | N5: 0 | O5: =SUM(C5:N5) -> 0 | P5: chapter views + downloads
B6: Project Muse | C6: 0 | D6: 0 | E6: 0 | F6: 0 | G6: 0 | H6: 0 | I6: 0 | J6: 0 | K6: 0 | L6: 0 | M6: 0 | N6: 0 | O6: =SUM(C6:N6) -> 0 | P6: chapter views + downloads
A7: Experimental Affinities in Music | B7: OAPEN | C7: 50 | D7: 53 | E7: 98 | F7: 263 | G7: 79 | H7: 45 | I7: 72 | J7: 27 | K7: 38 | L7: 67 | M7: 43 | N7: 25 | O7: =SUM(C7:N7) -> 860 | P7: book downloads
B8: JSTOR | C8: 0 | D8: 0 | E8: 0 | F8: 0 | G8: 0 | H8: 0 | I8: 0 | J8: 0 | K8: 0 | L8: 0 | M8: 0 | N8: 0 | O8: =SUM(C8:N8) -> 0 | P8: chapter views + downloads
B9: Project Muse | C9: 0 | D9: 0 | E9: 0 | F9: 0 | G9: 0 | H9: 0 | I9: 0 | J9: 0 | K9: 0 | L9: 0 | M9: 0 | N9: 0 | O9: =SUM(C9:N9) -> 0 | P9: chapter views + downloads

Sheet 2017
A1: User Statistics Open Access
A2: Title | B2: Platform | C2: 2017 | O2: total 2017
C3: Jan | D3: Feb | E3: March | F3: April | G3: May | H3: June | I3: July | J3: Aug | K3: Sept | L3: Oct | M3: Nov | N3: Dec
A4: Glass Making in the Greco-Roman World | B4: OAPEN | C4: 114 | D4: 74 | E4: 69 | F4: 67 | G4: 88 | H4: 61 | I4: 41 | J4: 48 | K4: 57 | L4: 63 | M4: 76 | N4: 63 | O4: =SUM(C4:N4) -> 821 | P4: book downloads
B5: JSTOR | C5: 0 | D5: 0 | E5: 0 | F5: 0 | G5: 0 | H5: 0 | I5: 0 | J5: 0 | K5: 0 | L5: 0 | M5: 0 | N5: 0 | O5: =SUM(C5:N5) -> 0 | P5: chapter views + downloads
B6: Project Muse | C6: 0 | D6: 0 | E6: 0 | F6: 0 | G6: 0 | H6: 0 | I6: 0 | J6: 0 | K6: 0 | L6: 0 | M6: 0 | N6: 0 | O6: =SUM(C6:N6) -> 0 | P6: chapter views + downloads
A7: Experimental Affinities in Music | B7: OAPEN | C7: 44 | D7: 36 | E7: 56 | F7: 24 | G7: 47 | H7: 29 | I7: 23 | J7: 35 | K7: 30 | L7: 64 | M7: 41 | N7: 51 | O7: =SUM(C7:N7) -> 480 | P7: book downloads
B8: JSTOR | C8: 0 | D8: 0 | E8: 0 | F8: 0 | G8: 0 | H8: 0 | I8: 0 | J8: 0 | K8: 0 | L8: 0 | M8: 0 | N8: 0 | O8: =SUM(C8:N8) -> 0 | P8: chapter views + downloads
B9: Project Muse | C9: 0 | D9: 0 | E9: 0 | F9: 0 | G9: 0 | H9: 0 | I9: 0 | J9: 0 | K9: 0 | L9: 0 | M9: 0 | N9: 0 | O9: =SUM(C9:N9) -> 0 | P9: chapter views + downloads

Sheet 2018
A1: User Statistics Open Access
A2: Title | B2: Platform | C2: 2018 | O2: total 2018
C3: Jan | D3: Feb | E3: March | F3: April | G3: May | H3: June | I3: July | J3: Aug | K3: Sept | L3: Oct | M3: Nov | N3: Dec
A4: Glass Making in the Greco-Roman World | B4: OAPEN | C4: 60 | D4: 55 | E4: 81 | F4: 76 | G4: 100 | H4: 75 | I4: 34 | J4: 36 | K4: 54 | L4: 67 | M4: 75 | N4: 70 | O4: =SUM(C4:N4) -> 783 | P4: book downloads
B5: JSTOR | C5: 0 | D5: 0 | E5: 0 | F5: 0 | G5: 0 | H5: 5 | I5: 30 | J5: 28 | K5: 39 | L5: 93 | M5: 131 | N5: 62 | O5: =SUM(C5:N5) -> 388 | P5: chapter views + downloads
B6: Project Muse | C6: 0 | D6: 0 | E6: 0 | F6: 0 | G6: 0 | H6: 0 | I6: 0 | J6: 0 | K6: 0 | L6: 0 | M6: 0 | N6: 0 | O6: =SUM(C6:N6) -> 0 | P6: chapter views + downloads
A7: Experimental Affinities in Music | B7: OAPEN | C7: 47 | D7: 34 | E7: 48 | F7: 79 | G7: 68 | H7: 51 | I7: 57 | J7: 40 | K7: 78 | L7: 96 | M7: 105 | N7: 75 | O7: =SUM(C7:N7) -> 778 | P7: book downloads
B8: JSTOR | C8: 0 | D8: 0 | E8: 0 | F8: 0 | G8: 0 | H8: 17 | I8: 149 | J8: 89 | K8: 165 | L8: 200 | M8: 210 | N8: 184 | O8: =SUM(C8:N8) -> 1014 | P8: chapter views + downloads
B9: Project Muse | C9: 0 | D9: 0 | E9: 0 | F9: 0 | G9: 0 | H9: 0 | I9: 0 | J9: 0 | K9: 0 | L9: 0 | M9: 0 | N9: 0 | O9: =SUM(C9:N9) -> 0 | P9: chapter views + downloads
A10: Transpositions | B10: OAPEN | C10: 0 | D10: 0 | E10: 0 | F10: 0 | G10: 0 | H10: 0 | I10: 81 | J10: 127 | K10: 157 | L10: 221 | M10: 476 | N10: 92 | O10: =SUM(C10:N10) -> 1154 | P10: book downloads
A11: Transpositions | B11: JSTOR | C11: 0 | D11: 0 | E11: 0 | F11: 0 | G11: 0 | H11: 0 | I11: 0 | J11: 42 | K11: 288 | L11: 461 | M11: 466 | N11: 291 | O11: =SUM(C11:N11) -> 1548 | P11: chapter views + downloads
A12: Transpositions | B12: Project Muse | C12: 0 | D12: 0 | E12: 0 | F12: 0 | G12: 0 | H12: 0 | I12: 0 | J12: 0 | K12: 0 | L12: 0 | M12: 0 | N12: 0 | O12: =SUM(C12:N12) -> 0 | P12: chapter views + downloads
A13: Virtual Works – Actual Things | B13: OAPEN | C13: 0 | D13: 0 | E13: 0 | F13: 0 | G13: 0 | H13: 0 | I13: 52 | J13: 39 | K13: 106 | L13: 65 | M13: 87 | N13: 59 | O13: =SUM(C13:N13) -> 408 | P13: book downloads
A14: Virtual Works – Actual Things | B14: JSTOR | C14: 0 | D14: 0 | E14: 0 | F14: 0 | G14: 0 | H14: 0 | I14: 0 | J14: 45 | K14: 235 | L14: 276 | M14: 266 | N14: 132 | O14: =SUM(C14:N14) -> 954 | P14: chapter views + downloads
A15: Virtual Works – Actual Things | B15: Project Muse | C15: 0 | D15: 0 | E15: 0 | F15: 0 | G15: 0 | H15: 0 | I15: 0 | J15: 0 | K15: 0 | L15: 0 | M15: 0 | N15: 0 | O15: =SUM(C15:N15) -> 0 | P15: chapter views + downloads
A16: Logic of Experimentation | B16: OAPEN | C16: 0 | D16: 0 | E16: 0 | F16: 0 | G16: 0 | H16: 0 | I16: 0 | J16: 0 | K16: 0 | L16: 120 | M16: 114 | N16: 60 | O16: =SUM(C16:N16) -> 294 | P16: book downloads
A17: Logic of Experimentation | B17: JSTOR | C17: 0 | D17: 0 | E17: 0 | F17: 0 | G17: 0 | H17: 0 | I17: 0 | J17: 0 | K17: 0 | L17: 28 | M17: 15 | N17: 147 | O17: =SUM(C17:N17) -> 190 | P17: chapter views + downloads
A18: Logic of Experimentation | B18: Project Muse | C18: 0 | D18: 0 | E18: 0 | F18: 0 | G18: 0 | H18: 0 | I18: 0 | J18: 0 | K18: 0 | L18: 0 | M18: 0 | N18: 0 | O18: =SUM(C18:N18) -> 0 | P18: chapter views + downloads
A19: Powers of Divergence | B19: OAPEN | C19: 0 | D19: 0 | E19: 0 | F19: 0 | G19: 0 | H19: 0 | I19: 10 | J19: 25 | K19: 73 | L19: 32 | M19: 32 | N19: 14 | O19: =SUM(C19:N19) -> 186 | P19: book downloads
A20: Powers of Divergence | B20: JSTOR | C20: 0 | D20: 0 | E20: 0 | F20: 0 | G20: 0 | H20: 0 | I20: 0 | J20: 54 | K20: 141 | L20: 180 | M20: 223 | N20: 137 | O20: =SUM(C20:N20) -> 735 | P20: chapter views + downloads
A21: Powers of Divergence | B21: Project Muse | C21: 0 | D21: 0 | E21: 0 | F21: 0 | G21: 0 | H21: 0 | I21: 0 | J21: 0 | K21: 0 | L21: 0 | M21: 0 | N21: 0 | O21: =SUM(C21:N21) -> 0 | P21: chapter views + downloads
... A24: Beyond Provenance | B24: Project Muse | C24: 0 | D24: 0 | E24: 0 | F24: 0 | G24: 0 | H24: 0 | I24: 0 | J24: 0 | K24: 0 | L24: 0 | M24: 0 | N24: 0 | O24: =SUM(C24:N24) -> 0 | P24: chapter views + downloads

Sheet 2019
A1: User Statistics Open Access
A2: Title | B2: Platform | C2: 2019 | O2: total 2019 | Q2: Open Research Library
C3: Jan | D3: Feb | E3: March | F3: April | G3: May | H3: June | I3: July | J3: Aug | K3: Sept | L3: Oct | M3: Nov | N3: Dec
A4: Glass Making in the Greco-Roman World | B4: OAPEN | C4: 68 | D4: 67 | E4: 76 | F4: 77 | G4: 77 | H4: 49 | I4: 44 | J4: 46 | K4: 44 | L4: 52 | M4: 59 | N4: 60 | O4: =SUM(C4:N4) -> 719 | P4: book downloads
B5: JSTOR | C5: 68 | D5: 83 | E5: 95 | F5: 143 | G5: 85 | H5: 40 | I5: 86 | J5: 76 | K5: 120 | L5: 125 | M5: 108 | N5: 74 | O5: =SUM(C5:N5) -> 1103 | P5: chapter views + downloads
B6: Project Muse | C6: 0 | D6: 0 | E6: 0 | F6: 0 | G6: 0 | H6: 0 | I6: 0 | J6: 0 | K6: 0 | L6: 0 | M6: 0 | N6: 0 | O6: =SUM(C6:N6) -> 0 | P6: chapter views + downloads
A7: Experimental Affinities in Music | B7: OAPEN | C7: 95 | D7: 92 | E7: 85 | F7: 57 | G7: 45 | H7: 62 | I7: 37 | J7: 62 | K7: 54 | L7: 42 | M7: 34 | N7: 38 | O7: =SUM(C7:N7) -> 703
B8: JSTOR | C8: 121 | D8: 144 | E8: 178 | F8: 167 | G8: 119 | H8: 68 | I8: 60 | J8: 83 | K8: 84 | L8: 153 | M8: 142 | N8: 109 | O8: =SUM(C8:N8) -> 1428
B9: Project Muse | C9: 0 | D9: 0 | E9: 0 | F9: 0 | G9: 0 | H9: 0 | I9: 0 | J9: 0 | K9: 0 | L9: 0 | M9: 0 | N9: 0 | O9: =SUM(C9:N9) -> 0
A10: Transpositions | B10: OAPEN | C10: 94 | D10: 64 | E10: 73 | F10: 50 | G10: 36 | H10: 50 | I10: 77 | J10: 60 | K10: 36 | L10: 52 | M10: 59 | N10: 42 | O10: =SUM(C10:N10) -> 693
A11: Transpositions | B11: JSTOR | C11: 260 | D11: 261 | E11: 333 | F11: 286 | G11: 202 | H11: 116 | I11: 183 | J11: 142 | K11: 187 | L11: 263 | M11: 312 | N11: 248 | O11: =SUM(C11:N11) -> 2793
A12: Transpositions | B12: Project Muse | C12: 0 | D12: 0 | E12: 0 | F12: 0 | G12: 0 | H12: 0 | I12: 0 | J12: 0 | K12: 0 | L12: 0 | M12: 0 | N12: 0 | O12: =SUM(C12:N12) -> 0
A13: Virtual Works – Actual Things | B13: OAPEN | C13: 49 | D13: 48 | E13: 59 | F13: 47 | G13: 50 | H13: 76 | I13: 48 | J13: 62 | K13: 49 | L13: 31 | M13: 35 | N13: 19 | O13: =SUM(C13:N13) -> 573
A14: Virtual Works – Actual Things | B14: JSTOR | C14: 185 | D14: 178 | E14: 207 | F14: 182 | G14: 147 | H14: 83 | I14: 96 | J14: 111 | K14: 175 | L14: 223 | M14: 282 | N14: 172 | O14: =SUM(C14:N14) -> 2041
A15: Virtual Works – Actual Things | B15: Project Muse | C15: 0 | D15: 0 | E15: 0 | F15: 0 | G15: 0 | H15: 0 | I15: 0 | J15: 0 | K15: 0 | L15: 0 | M15: 0 | N15: 0 | O15: =SUM(C15:N15) -> 0
A16: Logic of Experimentation | B16: OAPEN | C16: 68 | D16: 40 | E16: 38 | F16: 28 | G16: 42 | H16: 37 | I16: 34 | J16: 34 | K16: 39 | L16: 40 | M16: 32 | N16: 40 | O16: =SUM(C16:N16) -> 472
A17: Logic of Experimentation | B17: JSTOR | C17: 130 | D17: 157 | E17: 148 | F17: 148 | G17: 137 | H17: 86 | I17: 127 | J17: 97 | K17: 159 | L17: 241 | M17: 223 | N17: 190 | O17: =SUM(C17:N17) -> 1843
A18: Logic of Experimentation | B18: Project Muse | C18: 0 | D18: 0 | E18: 0 | F18: 0 | G18: 0 | H18: 0 | I18: 0 | J18: 0 | K18: 0 | L18: 0 | M18: 0 | N18: 0 | O18: =SUM(C18:N18) -> 0
A19: Powers of Divergence | B19: OAPEN | C19: 19 | D19: 23 | E19: 30 | F19: 25 | G19: 31 | H19: 22 | I19: 23 | J19: 14 | K19: 25 | L19: 18 | M19: 15 | N19: 19 | O19: =SUM(C19:N19) -> 264
A20: Powers of Divergence | B20: JSTOR | C20: 102 | D20: 117 | E20: 194 | F20: 181 | G20: 117 | H20: 139 | I20: 82 | J20: 75 | K20: 151 | L20: 159 | M20: 216 | N20: 195 | O20: =SUM(C20:N20) -> 1728
A21: Powers of Divergence | B21: Project Muse | C21: 0 | D21: 0 | E21: 0 | F21: 0 | G21: 0 | H21: 0 | I21: 0 | J21: 0 | K21: 0 | L21: 0 | M21: 0 | N21: 0 | O21: =SUM(C21:N21) -> 0
... A30: Brokers of Modernity | B30: Project Muse | C30: 0 | D30: 0 | E30: 12 | F30: 3 | G30: 5 | H30: 0 | I30: 6 | J30: 0 | K30: 3 | L30: 2 | M30: 7 | N30: 5 | O30: =SUM(C30:N30) -> 43
A31: Gender and Christianity in Modern Europe | B31: OAPEN | C31: 0 | D31: 4 | E31: 6 | F31: 50 | G31: 76 | H31: 64 | I31: 45 | J31: 24 | K31: 22 | L31: 32 | M31: 46 | N31: 46 | O31: =SUM(C31:N31) -> 415 | Q31: 7
A32: Gender and Christianity in Modern Europe | B32: JSTOR | C32: 0 | D32: 81 | E32: 156 | F32: 113 | G32: 129 | H32: 41 | I32: 44 | J32: 52 | K32: 87 | L32: 144 | M32: 154 | N32: 105 | O32: =SUM(C32:N32) -> 1106
A33: Gender and Christianity in Modern Europe | B33: Project Muse | C33: 0 | D33: 0 | E33: 0 | F33: 0 | G33: 0 | H33: 3 | I33: 0 | J33: 8 | K33: 6 | L33: 11 | M33: 5 | N33: 1 | O33: =SUM(C33:N33) -> 34
A34: New Multicultural Identities in Europe | B34: OAPEN | C34: 0 | D34: 6 | E34: 12 | F34: 29 | G34: 43 | H34: 18 | I34: 14 | J34: 12 | K34: 7 | L34: 14 | M34: 18 | N34: 23 | O34: =SUM(C34:N34) -> 196 | Q34: 1
A35: New Multicultural Identities in Europe | B35: JSTOR | C35: 0 | D35: 133 | E35: 338 | F35: 436 | G35: 345 | H35: 244 | I35: 134 | J35: 179 | K35: 207 | L35: 306 | M35: 386 | N35: 353 | O35: =SUM(C35:N35) -> 3061
A36: New Multicultural Identities in Europe | B36: Project Muse | C36: 0 | D36: 0 | E36: 0 | F36: 0 | G36: 1 | H36: 23 | I36: 3 | J36: 11 | K36: 2 | L36: 1 | M36: 0 | N36: 0 | O36: =SUM(C36:N36) -> 41
A37: Essays on Plato's Epistemology | B37: OAPEN | C37: 0 | D37: 14 | E37: 18 | F37: 25 | G37: 14 | H37: 12 | I37: 5 | J37: 8 | K37: 5 | L37: 9 | M37: 3 | N37: 11 | O37: =SUM(C37:N37) -> 124 | Q37: 3
A38: Essays on Plato's Epistemology | B38: JSTOR | C38: 0 | D38: 117 | E38: 289 | F38: 155 | G38: 117 | H38: 129 | I38: 109 | J38: 125 | K38: 203 | L38: 242 | M38: 286 | N38: 210 | O38: =SUM(C38:N38) -> 1982
A39: Essays on Plato's Epistemology | B39: Project Muse | C39: 0 | D39: 0 | E39: 0 | F39: 0 | G39: 0 | H39: 19 | I39: 2 | J39: 0 | K39: 3 | L39: 4 | M39: 10 | N39: 1 | O39: =SUM(C39:N39) -> 39
A40: Virtues for the People | B40: OAPEN | C40: 0 | D40: 19 | E40: 12 | F40: 17 | G40: 13 | H40: 16 | I40: 6 | J40: 6 | K40: 7 | L40: 8 | M40: 15 | N40: 55 | O40: =SUM(C40:N40) -> 174 | Q40: 1
A41: Virtues for the People | B41: JSTOR | C41: 0 | D41: 62 | E41: 160 | F41: 98 | G41: 113 | H41: 61 | I41: 58 | J41: 42 | K41: 72 | L41: 106 | M41: 100 | N41: 103 | O41: =SUM(C41:N41) -> 975
A42: Virtues for the People | B42: Project Muse | C42: 0 | D42: 0 | E42: 0 | F42: 1 | G42: 0 | H42: 21 | I42: 1 | J42: 0 | K42: 0 | L42: 1 | M42: 0 | N42: 1 | O42: =SUM(C42:N42) -> 25
A43: A Small Nation in the Turmoil of the Second World War | B43: OAPEN | C43: 0 | D43: 12 | E43: 8 | F43: 11 | G43: 20 | H43: 14 | I43: 7 | J43: 6 | K43: 8 | L43: 6 | M43: 9 | N43: 13 | O43: =SUM(C43:N43) -> 114 | Q43: 2
A44: A Small Nation in the Turmoil of the Second World War | B44: JSTOR | C44: 0 | D44: 14 | E44: 75 | F44: 51 | G44: 28 | H44: 16 | I44: 21 | J44: 13 | K44: 30 | L44: 78 | M44: 58 | N44: 19 | O44: =SUM(C44:N44) -> 403
A45: A Small Nation in the Turmoil of the Second World War | B45: Project Muse | C45: 0 | D45: 0 | E45: 0 | F45: 0 | G45: 0 | H45: 0 | I45: 35 | J45: 0 | K45: 0 | L45: 0 | M45: 0 | N45: 0 | O45: =SUM(C45:N45) -> 35
A46: Mapping Landscapes in Transformation | B46: OAPEN | C46: 0 | D46: 0 | E46: 0 | F46: 0 | G46: 0 | H46: 418 | I46: 387 | J46: 614 | K46: 189 | L46: 194 | M46: 162 | N46: 127 | O46: =SUM(C46:N46) -> 2091
A47: Mapping Landscapes in Transformation | B47: JSTOR | C47: 0 | D47: 0 | E47: 0 | F47: 0 | G47: 0 | H47: 103 | I47: 230 | J47: 383 | K47: 507 | L47: 351 | M47: 503 | N47: 280 | O47: =SUM(C47:N47) -> 2357
A48: Mapping Landscapes in Transformation | B48: Project Muse | C48: 0 | D48: 0 | E48: 0 | F48: 0 | G48: 0 | H48: 0 | I48: 0 | J48: 0 | K48: 0 | L48: 0 | M48: 0 | N48: 0 | O48: =SUM(C48:N48) -> 0
A49: Modern Islamic Thinking and Activism | B49: OAPEN | C49: 0 | D49: 9 | E49: 10 | F49: 16 | G49: 21 | H49: 21 | I49: 7 | J49: 6 | K49: 6 | L49: 11 | M49: 27 | N49: 11 | O49: =SUM(C49:N49) -> 145 | Q49: 1
A50: Modern Islamic Thinking and Activism | B50: JSTOR | C50: 0 | D50: 139 | E50: 263 | F50: 277 | G50: 235 | H50: 152 | I50: 174 | J50: 375 | K50: 371 | L50: 433 | M50: 381 | N50: 381 | O50: =SUM(C50:N50) -> 3181
A51: Modern Islamic Thinking and Activism | B51: Project Muse | C51: 0 | D51: 0 | E51: 0 | F51: 1 | G51: 2 | H51: 7 | I51: 16 | J51: 12 | K51: 2 | L51: 13 | M51: 2 | N51: 5 | O51: =SUM(C51:N51) -> 60
A52: Alles verandert altijd | B52: OAPEN | C52: 0 | D52: 0 | E52: 0 | F52: 0 | G52: 0 | H52: 0 | I52: 0 | J52: 0 | K52: 0 | L52: 289 | M52: 57 | N52: 40 | O52: =SUM(C52:N52) -> 386
A53: Alles verandert altijd | B53: JSTOR | C53: 0 | D53: 0 | E53: 0 | F53: 0 | G53: 0 | H53: 0 | I53: 0 | J53: 0 | K53: 91 | L53: 132 | M53: 91 | N53: 137 | O53: =SUM(C53:N53) -> 451
A54: Alles verandert altijd | B54: Project Muse | C54: 0 | D54: 0 | E54: 0 | F54: 0 | G54: 0 | H54: 0 | I54: 0 | J54: 0 | K54: 8 | L54: 13 | M54: 12 | N54: 0 | O54: =SUM(C54:N54) -> 33
A55: Militant Jihadism | B55: OAPEN | C55: 0 | D55: 0 | E55: 0 | F55: 0 | G55: 0 | H55: 0 | I55: 0 | J55: 0 | K55: 0 | L55: 127 | M55: 91 | N55: 116 | O55: =SUM(C55:N55) -> 334
A56: Militant Jihadism | B56: JSTOR | C56: 0 | D56: 0 | E56: 0 | F56: 0 | G56: 0 | H56: 0 | I56: 0 | J56: 0 | K56: 48 | L56: 603 | M56: 378 | N56: 311 | O56: =SUM(C56:N56) -> 1340
A57: Militant Jihadism | B57: Project Muse | C57: 0 | D57: 0 | E57: 0 | F57: 0 | G57: 0 | H57: 0 | I57: 0 | J57: 0 | K57: 0 | L57: 0 | M57: 0 | N57: 0 | O57: =SUM(C57:N57) -> 0
A58: Participatiegolven | B58: OAPEN | C58: 0 | D58: 0 | E58: 0 | F58: 0 | G58: 0 | H58: 0 | I58: 0 | J58: 0 | K58: 0 | L58: 0 | M58: 79 | N58: 61 | O58: =SUM(C58:N58) -> 140
A59: Participatiegolven | B59: JSTOR | C59: 0 | D59: 0 | E59: 0 | F59: 0 | G59: 0 | H59: 0 | I59: 0 | J59: 0 | K59: 0 | L59: 0 | M59: 132 | N59: 90 | O59: =SUM(C59:N59) -> 222
A60: Participatiegolven | B60: Project Muse | C60: 0 | D60: 0 | E60: 0 | F60: 0 | G60: 0 | H60: 0 | I60: 0 | J60: 0 | K60: 0 | L60: 0 | M60: 21 | N60: 0 | O60: =SUM(C60:N60) -> 21
A61: Financing Quality Education for All | B61: OAPEN | C61: 0 | D61: 0 | E61: 0 | F61: 0 | G61: 0 | H61: 0 | I61: 0 | J61: 0 | K61: 24 | L61: 49 | M61: 17 | N61: 8 | O61: =SUM(C61:N61) -> 98
... A69: Oil Wealth and Development in Uganda and Beyond | B69: Project Muse | C69: 0 | D69: 0 | E69: 0 | F69: 0 | G69: 0 | H69: 0 | I69: 0 | J69: 0 | K69: 0 | L69: 0 | M69: 0 | N69: 0 | O69: =SUM(C69:N69) -> 0

Sheet 2020
A1: User Statistics Open Access
A2: Title | B2: Platform | C2: 2020 | O2: total 2020 | Q2: Open Research Library
C3: Jan | D3: Feb | E3: March | F3: April | G3: May | H3: June | I3: July | J3: Aug | K3: Sept | L3: Oct | M3: Nov | N3: Dec
A4: Glass Making in the Greco-Roman World | B4: OAPEN | C4: 40 | D4: 51 | E4: 75 | F4: 53 | G4: 60 | H4: 60 | I4: 44 | J4: 48 | K4: 104 | L4: 87 | M4: 89 | N4: 74 | O4: =SUM(C4:N4) -> 785 | P4: book downloads | Q4: 5
B5: JSTOR | C5: 113 | D5: 81 | E5: 182 | F5: 108 | G5: 130 | H5: 99 | I5: 63 | J5: 49 | K5: 76 | L5: 89 | M5: 134 | N5: 99 | O5: =SUM(C5:N5) -> 1223 | P5: chapter views + downloads
B6: Project Muse | C6: 0 | D6: 0 | E6: 0 | F6: 0 | G6: 0 | H6: 0 | I6: 0 | J6: 0 | K6: 0 | L6: 0 | M6: 0 | N6: 0 | O6: =SUM(C6:N6) -> 0 | P6: chapter views + downloads
A7: Experimental Affinities in Music | B7: OAPEN | C7: 40 | D7: 40 | E7: 61 | F7: 26 | G7: 63 | H7: 61 | I7: 49 | J7: 55 | K7: 57 | L7: 90 | M7: 72 | N7: 93 | O7: =SUM(C7:N7) -> 707 | Q7: 17
B8: JSTOR | C8: 80 | D8: 182 | E8: 301 | F8: 232 | G8: 187 | H8: 94 | I8: 93 | J8: 92 | K8: 190 | L8: 214 | M8: 215 | N8: 144 | O8: =SUM(C8:N8) -> 2024
B9: Project Muse | C9: 0 | D9: 0 | E9: 0 | F9: 0 | G9: 0 | H9: 0 | I9: 0 | J9: 0 | K9: 0 | L9: 0 | M9: 0 | N9: 0 | O9: =SUM(C9:N9) -> 0
A10: Transpositions | B10: OAPEN | C10: 55 | D10: 45 | E10: 43 | F10: 40 | G10: 66 | H10: 52 | I10: 61 | J10: 75 | K10: 62 | L10: 127 | M10: 75 | N10: 72 | O10: =SUM(C10:N10) -> 773 | Q10: 16
A11: Transpositions | B11: JSTOR | C11: 260 | D11: 249 | E11: 348 | F11: 277 | G11: 226 | H11: 178 | I11: 153 | J11: 243 | K11: 251 | L11: 317 | M11: 355 | N11: 203 | O11: =SUM(C11:N11) -> 3060
A12: Transpositions | B12: Project Muse | C12: 0 | D12: 0 | E12: 0 | F12: 0 | G12: 0 | H12: 0 | I12: 0 | J12: 0 | K12: 0 | L12: 0 | M12: 0 | N12: 0 | O12: =SUM(C12:N12) -> 0
A13: Virtual Works – Actual Things | B13: OAPEN | C13: 27 | D13: 40 | E13: 43 | F13: 20 | G13: 51 | H13: 49 | I13: 41 | J13: 54 | K13: 77 | L13: 68 | M13: 67 | N13: 66 | O13: =SUM(C13:N13) -> 603 | Q13: 14
A14: Virtual Works – Actual Things | B14: JSTOR | C14: 243 | D14: 392 | E14: 417 | F14: 270 | G14: 213 | H14: 129 | I14: 205 | J14: 89 | K14: 210 | L14: 326 | M14: 257 | N14: 260 | O14: =SUM(C14:N14) -> 3011
A15: Virtual Works – Actual Things | B15: Project Muse | C15: 0 | D15: 0 | E15: 0 | F15: 0 | G15: 0 | H15: 0 | I15: 0 | J15: 0 | K15: 0 | L15: 0 | M15: 0 | N15: 0 | O15: =SUM(C15:N15) -> 0
A16: Logic of Experimentation | B16: OAPEN | C16: 45 | D16: 48 | E16: 41 | F16: 36 | G16: 62 | H16: 80 | I16: 63 | J16: 84 | K16: 142 | L16: 109 | M16: 137 | N16: 72 | O16: =SUM(C16:N16) -> 919 | Q16: 8
A17: Logic of Experimentation | B17: JSTOR | C17: 216 | D17: 290 | E17: 259 | F17: 426 | G17: 266 | H17: 178 | I17: 186 | J17: 233 | K17: 207 | L17: 265 | M17: 316 | N17: 221 | O17: =SUM(C17:N17) -> 3063
A18: Logic of Experimentation | B18: Project Muse | C18: 0 | D18: 0 | E18: 0 | F18: 0 | G18: 0 | H18: 0 | I18: 0 | J18: 0 | K18: 0 | L18: 0 | M18: 0 | N18: 0 | O18: =SUM(C18:N18) -> 0
A19: Powers of Divergence | B19: OAPEN | C19: 28 | D19: 13 | E19: 17 | F19: 19 | G19: 23 | H19: 37 | I19: 30 | J19: 36 | K19: 16 | L19: 33 | M19: 20 | N19: 29 | O19: =SUM(C19:N19) -> 301 | Q19: 35
A20: Powers of Divergence | B20: JSTOR | C20: 152 | D20: 134 | E20: 314 | F20: 143 | G20: 202 | H20: 150 | I20: 98 | J20: 78 | K20: 203 | L20: 222 | M20: 207 | N20: 191 | O20: =SUM(C20:N20) -> 2094
A21: Powers of Divergence | B21: Project Muse | C21: 0 | D21: 0 | E21: 0 | F21: 0 | G21: 0 | H21: 0 | I21: 0 | J21: 0 | K21: 0 | L21: 0 | M21: 0 | N21: 0 | O21: =SUM(C21:N21) -> 0
A22: Beyond Provenance | B22: OAPEN | C22: 19 | D22: 17 | E22: 34 | F22: 38 | G22: 32 | H22: 39 | I22: 31 | J22: 14 | K22: 23 | L22: 42 | M22: 50 | N22: 34 | O22: =SUM(C22:N22) -> 373 | Q22: 6
A23: Beyond Provenance | B23: JSTOR | C23: 98 | D23: 87 | E23: 124 | F23: 149 | G23: 126 | H23: 101 | I23: 66 | J23: 76 | K23: 127 | L23: 121 | M23: 89 | N23: 110 | O23: =SUM(C23:N23) -> 1274
A24: Beyond Provenance | B24: Project Muse | C24: 0 | D24: 0 | E24: 0 | F24: 0 | G24: 0 | H24: 0 | I24: 0 | J24: 0 | K24: 0 | L24: 0 | M24: 0 | N24: 0 | O24: =SUM(C24:N24) -> 0
A25: Images of Immigrants and Refugees in Western Europe | B25: OAPEN | C25: 65 | D25: 112 | E25: 107 | F25: 108 | G25: 254 | H25: 144 | I25: 96 | J25: 128 | K25: 176 | L25: 188 | M25: 255 | N25: 224 | O25: =SUM(C25:N25) -> 1857 | Q25: 14
A26: Images of Immigrants and Refugees in Western Europe | B26: JSTOR | C26: 532 | D26: 745 | E26: 753 | F26: 701 | G26: 538 | H26: 302 | I26: 248 | J26: 186 | K26: 367 | L26: 667 | M26: 762 | N26: 710 | O26: =SUM(C26:N26) -> 6511
A27: Images of Immigrants and Refugees in Western Europe | B27: Project Muse | C27: 32 | D27: 30 | E27: 47 | F27: 27 | G27: 69 | H27: 11 | I27: 84 | J27: 25 | K27: 19 | L27: 24 | M27: 34 | N27: 13 | O27: =SUM(C27:N27) -> 415
A28: Brokers of Modernity | B28: OAPEN | C28: 86 | D28: 69 | E28: 91 | F28: 105 | G28: 134 | H28: 108 | I28: 69 | J28: 54 | K28: 65 | L28: 57 | M28: 54 | N28: 78 | O28: =SUM(C28:N28) -> 970 | Q28: 16
A29: Brokers of Modernity | B29: JSTOR | C29: 255 | D29: 418 | E29: 547 | F29: 428 | G29: 373 | H29: 251 | I29: 136 | J29: 178 | K29: 268 | L29: 482 | M29: 604 | N29: 509 | O29: =SUM(C29:N29) -> 4449
A30: Brokers of Modernity | B30: Project Muse | C30: 49 | D30: 15 | E30: 46 | F30: 81 | G30: 41 | H30: 108 | I30: 49 | J30: 95 | K30: 26 | L30: 26 | M30: 32 | N30: 30 | O30: =SUM(C30:N30) -> 598
A31: Gender and Christianity in Modern Europe | B31: OAPEN | C31: 80 | D31: 80 | E31: 129 | F31: 34 | G31: 48 | H31: 48 | I31: 38 | J31: 47 | K31: 49 | L31: 53 | M31: 64 | N31: 82 | O31: =SUM(C31:N31) -> 752 | Q31: 22
A32: Gender and Christianity in Modern Europe | B32: JSTOR | C32: 86 | D32: 177 | E32: 181 | F32: 123 | G32: 158 | H32: 105 | I32: 87 | J32: 118 | K32: 118 | L32: 165 | M32: 170 | N32: 154 | O32: =SUM(C32:N32) -> 1642
A33: Gender and Christianity in Modern Europe | B33: Project Muse | C33: 15 | D33: 13 | E33: 7 | F33: 182 | G33: 93 | H33: 58 | I33: 41 | J33: 42 | K33: 1 | L33: 8 | M33: 10 | N33: 9 | O33: =SUM(C33:N33) -> 479
A34: New Multicultural Identities in Europe | B34: OAPEN | C34: 24 | D34: 21 | E34: 26 | F34: 23 | G34: 42 | H34: 51 | I34: 28 | J34: 22 | K34: 37 | L34: 36 | M34: 48 | N34: 54 | O34: =SUM(C34:N34) -> 412 | Q34: 31
A35: New Multicultural Identities in Europe | B35: JSTOR | C35: 235 | D35: 268 | E35: 279 | F35: 287 | G35: 212 | H35: 241 | I35: 121 | J35: 73 | K35: 142 | L35: 229 | M35: 318 | N35: 297 | O35: =SUM(C35:N35) -> 2702
A36: New Multicultural Identities in Europe | B36: Project Muse | C36: 38 | D36: 3 | E36: 37 | F36: 83 | G36: 88 | H36: 62 | I36: 53 | J36: 33 | K36: 0 | L36: 6 | M36: 0 | N36: 4 | O36: =SUM(C36:N36) -> 407
A37: Essays on Plato's Epistemology | B37: OAPEN | C37: 45 | D37: 46 | E37: 109 | F37: 47 | G37: 100 | H37: 97 | I37: 99 | J37: 62 | K37: 131 | L37: 170 | M37: 157 | N37: 197 | O37: =SUM(C37:N37) -> 1260 | Q37: 34
A38: Essays on Plato's Epistemology | B38: JSTOR | C38: 109 | D38: 186 | E38: 403 | F38: 184 | G38: 216 | H38: 197 | I38: 138 | J38: 84 | K38: 249 | L38: 400 | M38: 407 | N38: 365 | O38: =SUM(C38:N38) -> 2938
A39: Essays on Plato's Epistemology | B39: Project Muse | C39: 118 | D39: 9 | E39: 96 | F39: 149 | G39: 105 | H39: 27 | I39: 232 | J39: 33 | K39: 69 | L39: 26 | M39: 34 | N39: 7 | O39: =SUM(C39:N39) -> 905
A40: Virtues for the People | B40: OAPEN | C40: 132 | D40: 96 | E40: 147 | F40: 52 | G40: 107 | H40: 63 | I40: 63 | J40: 42 | K40: 60 | L40: 63 | M40: 53 | N40: 69 | O40: =SUM(C40:N40) -> 947 | Q40: 47
A41: Virtues for the People | B41: JSTOR | C41: 55 | D41: 114 | E41: 141 | F41: 155 | G41: 90 | H41: 76 | I41: 112 | J41: 99 | K41: 86 | L41: 134 | M41: 79 | N41: 86 | O41: =SUM(C41:N41) -> 1227
A42: Virtues for the People | B42: Project Muse | C42: 8 | D42: 33 | E42: 50 | F42: 125 | G42: 108 | H42: 42 | I42: 62 | J42: 46 | K42: 0 | L42: 3 | M42: 2 | N42: 1 | O42: =SUM(C42:N42) -> 480
A43: A Small Nation in the Turmoil of the Second World War | B43: OAPEN | C43: 16 | D43: 17 | E43: 20 | F43: 14 | G43: 31 | H43: 48 | I43: 41 | J43: 18 | K43: 18 | L43: 29 | M43: 24 | N43: 35 | O43: =SUM(C43:N43) -> 311 | Q43: 16
A44: A Small Nation in the Turmoil of the Second World War | B44: JSTOR | C44: 26 | D44: 49 | E44: 82 | F44: 68 | G44: 99 | H44: 94 | I44: 54 | J44: 50 | K44: 32 | L44: 36 | M44: 19 | N44: 24 | O44: =SUM(C44:N44) -> 633
A45: A Small Nation in the Turmoil of the Second World War | B45: Project Muse | C45: 11 | D45: 51 | E45: 88 | F45: 43 | G45: 223 | H45: 248 | I45: 151 | J45: 110 | K45: 0 | L45: 44 | M45: 3 | N45: 1 | O45: =SUM(C45:N45) -> 973
A46: Mapping Landscapes in Transformation | B46: OAPEN | C46: 241 | D46: 74 | E46: 159 | F46: 195 | G46: 274 | H46: 275 | I46: 208 | J46: 110 | K46: 229 | L46: 295 | M46: =53+240 -> 293 | N46: =43+167 -> 210 | O46: =SUM(C46:N46) -> 2563 | Q46: 15
A47: Mapping Landscapes in Transformation | B47: JSTOR | C47: 304 | D47: 374 | E47: 550 | F47: 499 | G47: 461 | H47: 294 | I47: 288 | J47: 248 | K47: 398 | L47: 486 | M47: 457 | N47: 288 | O47: =SUM(C47:N47) -> 4647
A48: Mapping Landscapes in Transformation | B48: Project Muse | C48: 0 | D48: 0 | E48: 0 | F48: 0 | G48: 0 | H48: 0 | I48: 0 | J48: 0 | K48: 0 | L48: 0 | M48: 0 | N48: 0 | O48: =SUM(C48:N48) -> 0
A49: Modern Islamic Thinking and Activism | B49: OAPEN | C49: 19 | D49: 25 | E49: 28 | F49: 32 | G49: 19 | H49: 36 | I49: 47 | J49: 25 | K49: 42 | L49: 18 | M49: 34 | N49: 50 | O49: =SUM(C49:N49) -> 375 | Q49: 41
A50: Modern Islamic Thinking and Activism | B50: JSTOR | C50: 273 | D50: 188 | E50: 384 | F50: 322 | G50: 225 | H50: 227 | I50: 162 | J50: 125 | K50: 169 | L50: 274 | M50: 367 | N50: 304 | O50: =SUM(C50:N50) -> 3020
A51: Modern Islamic Thinking and Activism | B51: Project Muse | C51: 43 | D51: 37 | E51: 25 | F51: 96 | G51: 50 | H51: 33 | I51: 59 | J51: 22 | K51: 0 | L51: 19 | M51: 11 | N51: 8 | O51: =SUM(C51:N51) -> 403
A52: Alles verandert altijd | B52: OAPEN | C52: 24 | D52: 30 | E52: 44 | F52: 75 | G52: 99 | H52: 78 | I52: 80 | J52: 76 | K52: 69 | L52: 63 | M52: 64 | N52: 92 | O52: =SUM(C52:N52) -> 794 | Q52: 13
A53: Alles verandert altijd | B53: JSTOR | C53: 88 | D53: 123 | E53: 246 | F53: 96 | G53: 105 | H53: 99 | I53: 35 | J53: 59 | K53: 46 | L53: 81 | M53: 87 | N53: 70 | O53: =SUM(C53:N53) -> 1135
A54: Alles verandert altijd | B54: Project Muse | C54: 26 | D54: 20 | E54: 191 | F54: 97 | G54: 75 | H54: 35 | I54: 4 | J54: 6 | K54: 66 | L54: 3 | M54: 4 | N54: 1 | O54: =SUM(C54:N54) -> 528
A55: Militant Jihadism | B55: OAPEN | C55: 48 | D55: 80 | E55: 88 | F55: 46 | G55: 46 | H55: 69 | I55: 63 | J55: 63 | K55: 53 | L55: 64 | M55: 69 | N55: 92 | O55: =SUM(C55:N55) -> 781 | Q55: 5
A56: Militant Jihadism | B56: JSTOR | C56: 277 | D56: 314 | E56: 423 | F56: 496 | G56: 420 | H56: 229 | I56: 207 | J56: 180 | K56: 236 | L56: 304 | M56: 368 | N56: 247 | O56: =SUM(C56:N56) -> 3701
A57: Militant Jihadism | B57: Project Muse | C57: 0 | D57: 41 | E57: 68 | F57: 36 | G57: 55 | H57: 63 | I57: 34 | J57: 88 | K57: 35 | L57: 2 | M57: 15 | N57: 0 | O57: =SUM(C57:N57) -> 437
A58: Participatiegolven | B58: OAPEN | C58: 40 | D58: 39 | E58: 47 | F58: 19 | G58: 54 | H58: 42 | I58: 38 | J58: 45 | K58: 39 | L58: 47 | M58: 50 | N58: 41 | O58: =SUM(C58:N58) -> 501 | Q58: 4
A59: Participatiegolven | B59: JSTOR | C59: 72 | D59: 72 | E59: 110 | F59: 53 | G59: 78 | H59: 44 | I59: 29 | J59: 36 | K59: 36 | L59: 61 | M59: 92 | N59: 54 | O59: =SUM(C59:N59) -> 737
A60: Participatiegolven | B60: Project Muse | C60: 70 | D60: 32 | E60: 33 | F60: 14 | G60: 61 | H60: 59 | I60: 25 | J60: 3 | K60: 1 | L60: 4 | M60: 0 | N60: 19 | O60: =SUM(C60:N60) -> 321
A61: Financing Quality Education for All | B61: OAPEN | C61: 14 | D61: 10 | E61: 8 | F61: 15 | G61: 38 | H61: 53 | I61: 20 | J61: 45 | K61: 38 | L61: 38 | M61: 31 | N61: 20 | O61: =SUM(C61:N61) -> 330 | Q61: 8
A62: Financing Quality Education for All | B62: JSTOR | C62: 351 | D62: 489 | E62: 465 | F62: 409 | G62: 256 | H62: 199 | I62: 191 | J62: 91 | K62: 360 | L62: 752 | M62: 654 | N62: 412 | O62: =SUM(C62:N62) -> 4629
A63: Financing Quality Education for All | B63: Project Muse | C63: 35 | D63: 21 | E63: 24 | F63: 46 | G63: 21 | H63: 16 | I63: 104 | J63: 10 | K63: 27 | L63: 2 | M63: 28 | N63: 1 | O63: =SUM(C63:N63) -> 335
A64: As German as Kafka | B64: OAPEN | C64: 108 | D64: 121 | E64: 168 | F64: 60 | G64: 75 | H64: 80 | I64: 62 | J64: 78 | K64: 89 | L64: 59 | M64: 43 | N64: 94 | O64: =SUM(C64:N64) -> 1037
A65: As German as Kafka | B65: JSTOR | C65: 93 | D65: 121 | E65: 141 | F65: 119 | G65: 59 | H65: 79 | I65: 68 | J65: 79 | K65: 63 | L65: 146 | M65: 180 | N65: 126 | O65: =SUM(C65:N65) -> 1274
A66: As German as Kafka | B66: Project Muse | C66: 0 | D66: 0 | E66: 50 | F66: 148 | G66: 124 | H66: 9 | I66: 34 | J66: 28 | K66: 0 | L66: 13 | M66: 3 | N66: 7 | O66: =SUM(C66:N66) -> 416
A67: Oil Wealth and Development in Uganda and Beyond | B67: OAPEN | C67: 67 | D67: 42 | E67: 39 | F67: 26 | G67: 50 | H67: 72 | I67: 59 | J67: 43 | K67: 65 | L67: 69 | M67: 88 | N67: 148 | O67: =SUM(C67:N67) -> 768
A68: Oil Wealth and Development in Uganda and Beyond | B68: JSTOR | C68: 1028 | D68: 632 | E68: 764 | F68: 504 | G68: 484 | H68: 410 | I68: 408 | J68: 311 | K68: 327 | L68: 547 | M68: 581 | N68: 486 | O68: =SUM(C68:N68) -> 6482
A69: Oil Wealth and Development in Uganda and Beyond | B69: Project Muse | C69: 16 | D69: 44 | E69: 51 | F69: 23 | G69: 37 | H69: 80 | I69: 28 | J69: 29 | K69: 0 | L69: 30 | M69: 1 | N69: 6 | O69: =SUM(C69:N69) -> 345
A70: European Perspectives for Public Administration | B70: OAPEN | C70: 120 | D70: 318 | E70: 137 | F70: 99 | G70: 104 | H70: 103 | I70: 72 | J70: 133 | K70: 105 | L70: 86 | M70: 85 | N70: 284 | O70: =SUM(C70:N70) -> 1646
A71: European Perspectives for Public Administration | B71: JSTOR | C71: 508 | D71: 1163 | E71: 1695 | F71: 1196 | G71: 843 | H71: 526 | I71: 394 | J71: 314 | K71: 575 | L71: 1140 | M71: 1120 | N71: 1036 | O71: =SUM(C71:N71) -> 10510
A72: European Perspectives for Public Administration | B72: Project Muse | C72: 6 | D72: 194 | E72: 114 | F72: 70 | G72: 96 | H72: 130 | I72: 178 | J72: 30 | K72: 16 | L72: 13 | M72: 7 | N72: 8 | O72: =SUM(C72:N72) -> 862
A73: Plutarch's Science of Natural Problems | B73: OAPEN | C73: 4 | D73: 25 | E73: 35 | F73: 14 | G73: 21 | H73: 29 | I73: 21 | J73: 22 | K73: 18 | L73: 14 | M73: 7 | N73: 34 | O73: =SUM(C73:N73) -> 244 | Q73: 18
A74: Plutarch's Science of Natural Problems | B74: JSTOR | C74: 0 | D74: 25 | E74: 83 | F74: 54 | G74: 60 | H74: 46 | I74: 32 | J74: 18 | K74: 39 | L74: 43 | M74: 42 | N74: 37 | O74: =SUM(C74:N74) -> 479
A75: Plutarch's Science of Natural Problems | B75: Project Muse | C75: 0 | D75: 31 | E75: 12 | F75: 28 | G75: 61 | H75: 17 | I75: 27 | J75: 12 | K75: 0 | L75: 0 | M75: 1 | N75: 0 | O75: =SUM(C75:N75) -> 189
A76: Across Anthropology | B76: OAPEN | C76: 0 | D76: 0 | E76: 0 | F76: 0 | G76: 0 | H76: 3474 | I76: 756 | J76: 558 | K76: 430 | L76: 411 | M76: 325 | N76: 229 | O76: =SUM(C76:N76) -> 6183
B77: JSTOR | C77: 0 | D77: 0 | E77: 0 | F77: 0 | G77: 105 | H77: 1325 | I77: 873 | J77: 732 | K77: 876 | L77: 1635 | M77: 1678 | N77: 1579 | O77: =SUM(C77:N77) -> 8803
B78: Project Muse | C78: 0 | D78: 0 | E78: 0 | F78: 0 | G78: 0 | H78: 0 | I78: 91 | J78: 401 | K78: 578 | L78: 266 | M78: 271 | N78: 142 | O78: =SUM(C78:N78) -> 1749
A79: Migration at Work | B79: OAPEN | C79: 0 | D79: 0 | E79: 0 | F79: 0 | G79: 0 | H79: 0 | I79: 0 | J79: 0 | K79: 325 | L79: 323 | M79: 80 | N79: 52 | O79: =SUM(C79:N79) -> 780
B80: JSTOR | C80: 0 | D80: 0 | E80: 0 | F80: 0 | G80: 0 | H80: 0 | I80: 0 | J80: 0 | K80: 216 | L80: 440 | M80: 440 | N80: 323 | O80: =SUM(C80:N80) -> 1419
B81: Project Muse | C81: 0 | D81: 0 | E81: 0 | F81: 0 | G81: 0 | H81: 0 | I81: 0 | J81: 0 | K81: 0 | L81: 5 | M81: 22 | N81: 3 | O81: =SUM(C81:N81) -> 30
A82: Arrival Cities | B82: OAPEN | C82: 0 | D82: 0 | E82: 0 | F82: 0 | G82: 0 | H82: 0 | I82: 0 | J82: 0 | K82: 439 | L82: 601 | M82: 213 | N82: 155 | O82: =SUM(C82:N82) -> 1408
B83: JSTOR | C83: 0 | D83: 0 | E83: 0 | F83: 0 | G83: 0 | H83: 0 | I83: 0 | J83: 0 | K83: 345 | L83: 1185 | M83: 956 | N83: 748 | O83: =SUM(C83:N83) -> 3234
B84: Project Muse | C84: 0 | D84: 0 | E84: 0 | F84: 0 | G84: 0 | H84: 0 | I84: 0 | J84: 0 | K84: 0 | L84: 70 | M84: 64 | N84: 10 | O84: =SUM(C84:N84) -> 144
A85: The Figure of Knowledge | B85: OAPEN | C85: 0 | D85: 0 | E85: 0 | F85: 0 | G85: 0 | H85: 0 | I85: 0 | J85: 0 | K85: 24 | L85: 715 | M85: 167 | N85: 63 | O85: =SUM(C85:N85) -> 969
B86: JSTOR | C86: 0 | D86: 0 | E86: 0 | F86: 0 | G86: 0 | H86: 0 | I86: 0 | J86: 0 | K86: 324 | L86: 1958 | M86: 1777 | N86: 1256 | O86: =SUM(C86:N86) -> 5315
B87: Project Muse | C87: 0 | D87: 0 | E87: 0 | F87: 0 | G87: 0 | H87: 0 | I87: 0 | J87: 0 | K87: 0 | L87: 6 | M87: 28 | N87: 5 | O87: =SUM(C87:N87) -> 39
A88: Children's Literature | B88: OAPEN | C88: 0 | D88: 0 | E88: 0 | F88: 0 | G88: 0 | H88: 0 | I88: 0 | J88: 0 | K88: 0 | L88: 697 | M88: 916 | N88: 358 | O88: =SUM(C88:N88) -> 1971
B89: JSTOR | C89: 0 | D89: 0 | E89: 0 | F89: 0 | G89: 0 | H89: 0 | I89: 0 | J89: 0 | K89: 0 | L89: 774 | M89: 970 | N89: 924 | O89: =SUM(C89:N89) -> 2668
B90: Project Muse | C90: 0 | D90: 0 | E90: 0 | F90: 0 | G90: 0 | H90: 0 | I90: 0 | J90: 0 | K90: 0 | L90: 0 | M90: 75 | N90: 36 | O90: =SUM(C90:N90) -> 111
A91: Turkish German Muslims | B91: OAPEN | C91: 0 | D91: 0 | E91: 0 | F91: 0 | G91: 0 | H91: 0 | I91: 0 | J91: 0 | K91: 0 | L91: 67 | M91: 225 | N91: 46 | O91: =SUM(C91:N91) -> 338
B92: JSTOR | C92: 0 | D92: 0 | E92: 0 | F92: 0 | G92: 0 | H92: 0 | I92: 0 | J92: 0 | K92: 0 | L92: 291 | M92: 227 | N92: 169 | O92: =SUM(C92:N92) -> 687
B93: Project Muse | C93: 0 | D93: 0 | E93: 0 | F93: 0 | G93: 0 | H93: 0 | I93: 0 | J93: 0 | K93: 0 | L93: 0 | M93: 73 | N93: 1 | O93: =SUM(C93:N93) -> 74
A94: Dialogen over België | B94: OAPEN | C94: 0 | D94: 0 | E94: 0 | F94: 0 | G94: 0 | H94: 0 | I94: 0 | J94: 0 | K94: 0 | L94: 206 | M94: 191 | N94: 44 | O94: =SUM(C94:N94) -> 441
B95: JSTOR | C95: 0 | D95: 0 | E95: 0 | F95: 0 | G95: 0 | H95: 0 | I95: 0 | J95: 0 | K95: 0 | L95: 40 | M95: 53 | N95: 74 | O95: =SUM(C95:N95) -> 167
B96: Project Muse | C96: 0 | D96: 0 | E96: 0 | F96: 0 | G96: 0 | H96: 0 | I96: 0 | J96: 0 | K96: 0 | L96: 0 | M96: 10 | N96: 3 | O96: =SUM(C96:N96) -> 13
A97: Performing Hysteria | B97: OAPEN | C97: 0 | D97: 0 | E97: 0 | F97: 0 | G97: 0 | H97: 0 | I97: 0 | J97: 0 | K97: 0 | L97: 73 | M97: 206 | N97: 270 | O97: =SUM(C97:N97) -> 549
B98: JSTOR | C98: 0 | D98: 0 | E98: 0 | F98: 0 | G98: 0 | H98: 0 | I98: 0 | J98: 0 | K98: 0 | L98: 544 | M98: 2468 | N98: 1594 | O98: =SUM(C98:N98) -> 4606
B99: Project Muse | C99: 0 | D99: 0 | E99: 0 | F99: 0 | G99: 0 | H99: 0 | I99: 0 | J99: 0 | K99: 0 | L99: 0 | M99: 60 | N99: 144 | O99: =SUM(C99:N99) -> 204
A100: Mongameli Mabona | B100: OAPEN | C100: 0 | D100: 0 | E100: 0 | F100: 0 | G100: 0 | H100: 0 | I100: 0 | J100: 0 | K100: 0 | L100: 0 | M100: 37 | N100: 250 | O100: =SUM(C100:N100) -> 287
...

Sheet 2021
A1: User Statistics Open Access
A2: Title | B2: Platform | C2: 2021 | O2: total 2021 | Q2: Open Research Library
C3: Jan | D3: Feb | E3: March | F3: April | G3: May | H3: June | I3: July | J3: Aug | K3: Sept | L3: Oct | M3: Nov | N3: Dec
A4: Glass Making in the Greco-Roman World | B4: OAPEN | C4: 45 | D4: 119 | E4: 128 | F4: 113 | G4: 74 | H4: 70 | I4: 43 | J4: 44 | K4: 55 | L4: 87 | M4: 74 | N4: 75 | O4: =SUM(C4:N4) -> 927 | P4: book downloads | Q4: 5
B5: JSTOR | C5: 63 | D5: 108 | E5: 78 | F5: 67 | G5: 77 | H5: 40 | I5: 39 | J5: 63 | K5: 82 | L5: 92 | M5: 86 | N5: 55 | O5: =SUM(C5:N5) -> 850 | P5: chapter views + downloads
B6: Project Muse | O6: =SUM(C6:N6) -> 0 | P6: chapter views + downloads
A7: Experimental Affinities in Music | B7: OAPEN | C7: 134 | D7: 59 | E7: 72 | F7: 70 | G7: 60 | H7: 104 | I7: 45 | J7: 40 | K7: 106 | L7: 56 | M7: 60 | N7: 27 | O7: =SUM(C7:N7) -> 833 | Q7: 25
B8: JSTOR | C8: 161 | D8: 156 | E8: 123 | F8: 72 | G8: 97 | H8: 77 | I8: 48 | J8: 36 | K8: 66 | L8: 134 | M8: 113 | N8: 106 | O8: =SUM(C8:N8) -> 1189
B9: Project Muse | O9: =SUM(C9:N9) -> 0
A10: Transpositions | B10: OAPEN | C10: 71 | D10: 68 | E10: 95 | F10: 69 | G10: 58 | H10: 74 | I10: 40 | J10: 46 | K10: 93 | L10: 76 | M10: 54 | N10: 57 | O10: =SUM(C10:N10) -> 801 | Q10: 15
A11: Transpositions | B11: JSTOR | C11: 225 | D11: 222 | E11: 194 | F11: 212 | G11: 205 | H11: 200 | I11: 139 | J11: 65 | K11: 99 | L11: 178 | M11: 189 | N11: 137 | O11: =SUM(C11:N11) -> 2065
A12: Transpositions | B12: Project Muse | O12: =SUM(C12:N12) -> 0
A13: Virtual Works – Actual Things | B13: OAPEN | C13: 67 | D13: 46 | E13: 59 | F13: 56 | G13: 68 | H13: 72 | I13: 34 | J13: 32 | K13: 33 | L13: 43 | M13: 24 | N13: 34 | O13: =SUM(C13:N13) -> 568 | Q13: 22
A14: Virtual Works – Actual Things | B14: JSTOR | C14: 236 | D14: 283 | E14: 277 | F14: 244 | G14: 153 | H14: 121 | I14: 77 | J14: 95 | K14: 58 | L14: 112 | M14: 124 | N14: 146 | O14: =SUM(C14:N14) -> 1926
A15: Virtual Works – Actual Things | B15: Project Muse | O15: =SUM(C15:N15) -> 0
A16: Logic of Experimentation | B16: OAPEN | C16: 124 | D16: 94 | E16: 93 | F16: 114 | G16: 137 | H16: 117 | I16: 35 | J16: 53 | K16: 74 | L16: 103 | M16: 113 | N16: 90 | O16: =SUM(C16:N16) -> 1147 | Q16: 28
A17: Logic of Experimentation | B17: JSTOR | C17: 244 | D17: 308 | E17: 250 | F17: 272 | G17: 171 | H17: 156 | I17: 120 | J17: 152 | K17: 220 | L17: 114 | M17: 164 | N17: 157 | O17: =SUM(C17:N17) -> 2328
A18: Logic of Experimentation | B18: Project Muse | O18: =SUM(C18:N18) -> 0
A19: Powers of Divergence | B19: OAPEN | C19: 23 | D19: 33 | E19: 23 | F19: 29 | G19: 52 | H19: 14 | I19: 23 | J19: 26 | K19: 29 | L19: 39 | M19: 34 | N19: 15 | O19: =SUM(C19:N19) -> 340 | Q19: 39
A20: Powers of Divergence | B20: JSTOR | C20: 108 | D20: 154 | E20: 139 | F20: 112 | G20: 137 | H20: 74 | I20: 62 | J20: 92 | K20: 73 | L20: 111 | M20: 168 | N20: 111 | O20: =SUM(C20:N20) -> 1341
A21: Powers of Divergence | B21: Project Muse | O21: =SUM(C21:N21) -> 0
A22: Beyond Provenance | B22: OAPEN | C22: 43 | D22: 18 | E22: 41 | F22: 28 | G22: 27 | H22: 53 | I22: 26 | J22: 36 | K22: 37 | L22: 50 | M22: 38 | N22: 33 | O22: =SUM(C22:N22) -> 430 | Q22: 7
A23: Beyond Provenance | B23: JSTOR | C23: 89 | D23: 61 | E23: 115 | F23: 60 | G23: 88 | H23: 36 | I23: 56 | J23: 73 | K23: 67 | L23: 128 | M23: 135 | N23: 94 | O23: =SUM(C23:N23) -> 1002
A24: Beyond Provenance | B24: Project Muse | O24: =SUM(C24:N24) -> 0
A25: Images of Immigrants and Refugees in Western Europe | B25: OAPEN | C25: 200 | D25: 202 | E25: 239 | F25: 240 | G25: 167 | H25: 160 | I25: 98 | J25: 103 | K25: 168 | L25: 190 | M25: 217 | N25: 195 | O25: =SUM(C25:N25) -> 2179 | Q25: 22
A26: Images of Immigrants and Refugees in Western Europe | B26: JSTOR | C26: 417 | D26: 274 | E26: 474 | F26: 501 | G26: 412 | H26: 239 | I26: 121 | J26: 147 | K26: 261 | L26: 454 | M26: 677 | N26: 339 | O26: =SUM(C26:N26) -> 4316
A27: Images of Immigrants and Refugees in Western Europe | B27: Project Muse | C27: 22 | D27: 35 | E27: 18 | F27: 18 | G27: 21 | H27: 40 | I27: 115 | J27: 150 | K27: 164 | L27: 131 | M27: 157 | N27: 192 | O27: =SUM(C27:N27) -> 1063
A28: Brokers of Modernity | B28: OAPEN | C28: 79 | D28: 97 | E28: 106 | F28: 84 | G28: 61 | H28: 50 | I28: 59 | J28: 78 | K28: 91 | L28: 66 | M28: 81 | N28: 116 | O28: =SUM(C28:N28) -> 968 | Q28: 26
A29: Brokers of Modernity | B29: JSTOR | C29: 417 | D29: 438 | E29: 378 | F29: 387 | G29: 255 | H29: 135 | I29: 85 | J29: 134 | K29: 158 | L29: 240 | M29: 255 | N29: 183 | O29: =SUM(C29:N29) -> 3065
A30: Brokers of Modernity | B30: Project Muse | C30: 20 | D30: 23 | E30: 1145 | F30: 98 | G30: 232 | H30: 189 | I30: 178 | J30: 176 | K30: 180 | L30: 177 | M30: 156 | N30: 186 | O30: =SUM(C30:N30) -> 2760
A31: Gender and Christianity in Modern Europe | B31: OAPEN | C31: 136 | D31: 92 | E31: 81 | F31: 74 | G31: 91 | H31: 62 | I31: 47 | J31: 82 | K31: 66 | L31: 142 | M31: 152 | N31: 84 | O31: =SUM(C31:N31) -> 1109 | Q31: 49
A32: Gender and Christianity in Modern Europe | B32: JSTOR | C32: 97 | D32: 107 | E32: 145 | F32: 172 | G32: 76 | H32: 58 | I32: 68 | J32: 44 | K32: 85 | L32: 139 | M32: 104 | N32: 63 | O32: =SUM(C32:N32) -> 1158
A33: Gender and Christianity in Modern Europe | B33: Project Muse | C33: 1 | D33: 50 | E33: 17 | F33: 4 | G33: 6 | H33: 272 | I33: 254 | J33: 276 | K33: 300 | L33: 253 | M33: 280 | N33: 296 | O33: =SUM(C33:N33) -> 2009
A34: New Multicultural Identities in Europe | B34: OAPEN | C34: 36 | D34: 33 | E34: 55 | F34: 65 | G34: 38 | H34: 36 | I34: 28 | J34: 38 | K34: 42 | L34: 49 | M34: 36 | N34: 53 | O34: =SUM(C34:N34) -> 509 | Q34: 38
A35: New Multicultural Identities in Europe | B35: JSTOR | C35: 133 | D35: 131 | E35: 169 | F35: 176 | G35: 61 | H35: 78 | I35: 81 | J35: 50 | K35: 104 | L35: 118 | M35: 157 | N35: 69 | O35: =SUM(C35:N35) -> 1327
A36: New Multicultural Identities in Europe | B36: Project Muse | C36: 0 | D36: 6 | E36: 4 | F36: 9 | G36: 35 | H36: 18 | I36: 28 | J36: 1 | K36: 15 | L36: 27 | M36: 4 | N36: 21 | O36: =SUM(C36:N36) -> 168
A37: Essays on Plato's Epistemology | B37: OAPEN | C37: 194 | D37: 227 | E37: 384 | F37: 374 | G37: 345 | H37: 340 | I37: 256 | J37: 327 | K37: 609 | L37: 928 | M37: 615 | N37: 357 | O37: =SUM(C37:N37) -> 4956 | Q37: 41
A38: Essays on Plato's Epistemology | B38: JSTOR | C38: 239 | D38: 169 | E38: 198 | F38: 195 | G38: 96 | H38: 82 | I38: 47 | J38: 70 | K38: 77 | L38: 239 | M38: 110 | N38: 57 | O38: =SUM(C38:N38) -> 1579
A39: Essays on Plato's Epistemology | B39: Project Muse | C39: 3 | D39: 1 | E39: 11 | F39: 45 | G39: 5 | H39: 5 | I39: 5 | J39: 10 | K39: 217 | L39: 321 | M39: 271 | N39: 355 | O39: =SUM(C39:N39) -> 1249
A40: Virtues for the People | B40: OAPEN | C40: 74 | D40: 57 | E40: 79 | F40: 41 | G40: 49 | H40: 36 | I40: 70 | J40: 63 | K40: 59 | L40: 108 | M40: 52 | N40: 38 | O40: =SUM(C40:N40) -> 726 | Q40: 46
A41: Virtues for the People | B41: JSTOR | C41: 51 | D41: 68 | E41: 115 | F41: 56 | G41: 45 | H41: 49 | I41: 38 | J41: 30 | K41: 69 | L41: 94 | M41: 65 | N41: 67 | O41: =SUM(C41:N41) -> 747
A42: Virtues for the People | B42: Project Muse | C42: 2 | D42: 58 | E42: 3 | F42: 0 | G42: 4 | H42: 23 | I42: 3 | J42: 4 | K42: 0 | L42: 21 | M42: 0 | N42: 4 | O42: =SUM(C42:N42) -> 122
A43: A Small Nation in the Turmoil of the Second World War | B43: OAPEN | C43: 18 | D43: 24 | E43: 28 | F43: 32 | G43: 15 | H43: 24 | I43: 24 | J43: 54 | K43: 52 | L43: 67 | M43: 73 | N43: 59 | O43: =SUM(C43:N43) -> 470 | Q43: 9
A44: A Small Nation in the Turmoil of the Second World War | B44: JSTOR | C44: 14 | D44: 129 | E44: 21 | F44: 24 | G44: 66 | H44: 64 | I44: 43 | J44: 15 | K44: 75 | L44: 114 | M44: 102 | N44: 46 | O44: =SUM(C44:N44) -> 713
A45: A Small Nation in the Turmoil of the Second World War | B45: Project Muse | C45: 3 | D45: 17 | E45: 16 | F45: 111 | G45: 415 | H45: 631 | I45: 589 | J45: 595 | K45: 627 | L45: 542 | M45: 551 | N45: 599 | O45: =SUM(C45:N45) -> 4696
A46: Mapping Landscapes in Transformation | B46: OAPEN | C46: 188 | D46: 235 | E46: 376 | F46: 345 | G46: 210 | H46: 263 | I46: 172 | J46: 284 | K46: 179 | L46: 226 | M46: 289 | N46: 153 | O46: =SUM(C46:N46) -> 2920 | Q46: 12
A47: Mapping Landscapes in Transformation | B47: JSTOR | C47: 333 | D47: 333 | E47: 394 | F47: 257 | G47: 207 | H47: 300 | I47: 101 | J47: 75 | K47: 106 | L47: 270 | M47: 307 | N47: 437 | O47: =SUM(C47:N47) -> 3120
A48: Mapping Landscapes in Transformation | B48: Project Muse | O48: =SUM(C48:N48) -> 0
A49: Modern Islamic Thinking and Activism | B49: OAPEN | C49: 33 | D49: 46 | E49: 76 | F49: 60 | G49: 54 | H49: 78 | I49: 69 | J49: 93 | K49: 63 | L49: 125 | M49: 72 | N49: 101 | O49: =SUM(C49:N49) -> 870 | Q49: 34
A50: Modern Islamic Thinking and Activism | B50: JSTOR | C50: 225 | D50: 243 | E50: 221 | F50: 207 | G50: 195 | H50: 186 | I50: 99 | J50: 120 | K50: 116 | L50: 154 | M50: 166 | N50: 126 | O50: =SUM(C50:N50) -> 2058
A51: Modern Islamic Thinking and Activism | B51: Project Muse | C51: 28 | D51: 10 | E51: 16 | F51: 3 | G51: 1 | H51: 17 | I51: 0 | J51: 16 | K51: 0 | L51: 9 | M51: 24 | N51: 0 | O51: =SUM(C51:N51) -> 124
A52: Alles verandert altijd | B52: OAPEN | C52: 101 | D52: 136 | E52: 184 | F52: 109 | G52: 103 | H52: 89 | I52: 84 | J52: 53 | K52: 65 | L52: 95 | M52: 76 | N52: 62 | O52: =SUM(C52:N52) -> 1157 | Q52: 31
A53: Alles verandert altijd | B53: JSTOR | C53: 80 | D53: 148 | E53: 120 | F53: 131 | G53: 103 | H53: 52 | I53: 53 | J53: 111 | K53: 52 | L53: 82 | M53: 138 | N53: 79 | O53: =SUM(C53:N53) -> 1149
A54: Alles verandert altijd | B54: Project Muse | C54: 12 | D54: 13 | E54: 30 | F54: 4 | G54: 35 | H54: 2 | I54: 2 | J54: 43 | K54: 4 | L54: 22 | M54: 34 | N54: 119 | O54: =SUM(C54:N54) -> 320
A55: Militant Jihadism | B55: OAPEN | C55: 59 | D55: 81 | E55: 136 | F55: 84 | G55: 94 | H55: 66 | I55: 47 | J55: 62 | K55: 77 | L55: 79 | M55: 60 | N55: 54 | O55: =SUM(C55:N55) -> 899 | Q55: 18
A56: Militant Jihadism | B56: JSTOR | C56: 260 | D56: 184 | E56: 232 | F56: 298 | G56: 229 | H56: 124 | I56: 73 | J56: 114 | K56: 167 | L56: 170 | M56: 129 | N56: 187 | O56: =SUM(C56:N56) -> 2167
A57: Militant Jihadism | B57: Project Muse | C57: 4 | D57: 68 | E57: 3 | F57: 37 | G57: 35 | H57: 23 | I57: 1 | J57: 1 | K57: 43 | L57: 21 | M57: 4 | N57: 0 | O57: =SUM(C57:N57) -> 240
A58: Participatiegolven | B58: OAPEN | C58: 40 | D58: 79 | E58: 48 | F58: 40 | G58: 45 | H58: 16 | I58: 17 | J58: 16 | K58: 37 | L58: 58 | M58: 28 | N58: 43 | O58: =SUM(C58:N58) -> 467 | Q58: 3
A59: Participatiegolven | B59: JSTOR | C59: 51 | D59: 48 | E59: 55 | F59: 34 | G59: 32 | H59: 42 | I59: 17 | J59: 45 | K59: 28 | L59: 45 | M59: 58 | N59: 52 | O59: =SUM(C59:N59) -> 507
A60: Participatiegolven | B60: Project Muse | C60: 3 | D60: 2 | E60: 54 | F60: 0 | G60: 1 | H60: 10 | I60: 1 | J60: 1 | K60: 0 | L60: 0 | M60: 10 | N60: 1 | O60: =SUM(C60:N60) -> 83
A61: Financing Quality Education for All | B61: OAPEN | C61: 23 | D61: 27 | E61: 25 | F61: 38 | G61: 61 | H61: 21 | I61: 17 | J61: 64 | K61: 37 | L61: 29 | M61: 33 | N61: 32 | O61: =SUM(C61:N61) -> 407 | Q61: 34
A62: Financing Quality Education for All | B62: JSTOR | C62: 227 | D62: 261 | E62: 191 | F62: 330 | G62: 221 | H62: 152 | I62: 79 | J62: 56 | K62: 67 | L62: 84 | M62: 217 | N62: 119 | O62: =SUM(C62:N62) -> 2004
A63: Financing Quality Education for All | B63: Project Muse | C63: 3 | D63: 18 | E63: 40 | F63: 5 | G63: 42 | H63: 10 | I63: 4 | J63: 8 | K63: 6 | L63: 19 | M63: 11 | N63: 14 | O63: =SUM(C63:N63) -> 180
A64: As German as Kafka | B64: OAPEN | C64: 76 | D64: 83 | E64: 90 | F64: 113 | G64: 64 | H64: 71 | I64: 85 | J64: 52 | K64: 36 | L64: 57 | M64: 50 | N64: 38 | O64: =SUM(C64:N64) -> 815
A65: As German as Kafka | B65: JSTOR | C65: 105 | D65: 70 | E65: 117 | F65: 90 | G65: 73 | H65: 45 | I65: 44 | J65: 36 | K65: 43 | L65: 64 | M65: 55 | N65: 83 | O65: =SUM(C65:N65) -> 825
A66: As German as Kafka | B66: Project Muse | C66: 2 | D66: 14 | E66: 13 | F66: 5 | G66: 12 | H66: 7 | I66: 11 | J66: 2 | K66: 15 | L66: 20 | M66: 6 | N66: 0 | O66: =SUM(C66:N66) -> 107
A67: Oil Wealth and Development in Uganda and Beyond | B67: OAPEN | C67: 154 | D67: 177 | E67: 342 | F67: 403 | G67: 197 | H67: 141 | I67: 318 | J67: 220 | K67: 240 | L67: 382 | M67: 143 | N67: 125 | O67: =SUM(C67:N67) -> 2842
A68: Oil Wealth and Development in Uganda and Beyond | B68: JSTOR | C68: 381 | D68: 438 | E68: 526 | F68: 539 | G68: 401 | H68: 309 | I68: 351 | J68: 319 | K68: 326 | L68: 494 | M68: 473 | N68: 310 | O68: =SUM(C68:N68) -> 4867
A69: Oil Wealth and Development in Uganda and Beyond | B69: Project Muse | C69: 0 | D69: 73 | E69: 2 | F69: 1 | G69: 19 | H69: 9 | I69: 1 | J69: 1 | K69: 1 | L69: 3 | M69: 2 | N69: 30 | O69: =SUM(C69:N69) -> 142
A70: European Perspectives for Public Administration | B70: OAPEN | C70: 185 | D70: 122 | E70: 125 | F70: 207 | G70: 128 | H70: 176 | I70: 97 | J70: 105 | K70: 138 | L70: 203 | M70: 208 | N70: 161 | O70: =SUM(C70:N70) -> 1855
A71: European Perspectives for Public Administration | B71: JSTOR | C71: 703 | D71: 529 | E71: 614 | F71: 620 | G71: 617 | H71: 611 | I71: 400 | J71: 440 | K71: 540 | L71: 570 | M71: 599 | N71: 574 | O71: =SUM(C71:N71) -> 6817
A72: European Perspectives for Public Administration | B72: Project Muse | C72: 21 | D72: 100 | E72: 41 | F72: 13 | G72: 150 | H72: 82 | I72: 35 | J72: 55 | K72: 17 | L72: 72 | M72: 45 | N72: 31 | O72: =SUM(C72:N72) -> 662
A73: Plutarch's Science of Natural Problems | B73: OAPEN | C73: 18 | D73: 25 | E73: 27 | F73: 25 | G73: 28 | H73: 27 | I73: 21 | J73: 26 | K73: 23 | L73: 35 | M73: 16 | N73: 27 | O73: =SUM(C73:N73) -> 298 | Q73: 5
A74: Plutarch's Science of Natural Problems | B74: JSTOR | C74: 21 | D74: 52 | E74: 32 | F74: 36 | G74: 45 | H74: 34 | I74: 25 | J74: 37 | K74: 38 | L74: 25 | M74: 43 | N74: 43 | O74: =SUM(C74:N74) -> 431
A75: Plutarch's Science of Natural Problems | B75: Project Muse | C75: 0 | D75: 1 | E75: 1 | F75: 26 | G75: 0 | H75: 173 | I75: 202 | J75: 201 | K75: 227 | L75: 181 | M75: 183 | N75: 214 | O75: =SUM(C75:N75) -> 1409
A76: Across Anthropology | B76: OAPEN | C76: 234 | D76: 210 | E76: 205 | F76: 161 | G76: 185 | H76: 222 | I76: 172 | J76: 107 | K76: 223 | L76: 285 | M76: 256 | N76: 136 | O76: =SUM(C76:N76) -> 2396
B77: JSTOR | C77: 1082 | D77: 825 | E77: 1095 | F77: 963 | G77: 764 | H77: 574 | I77: 531 | J77: 314 | K77: 366 | L77: 551 | M77: 533 | N77: 555 | O77: =SUM(C77:N77) -> 8153
B78: Project Muse | C78: 111 | D78: 172 | E78: 176 | F78: 143 | G78: 27 | H78: 67 | I78: 40 | J78: 154 | K78: 263 | L78: 235 | M78: 85 | N78: 103 | O78: =SUM(C78:N78) -> 1576
A79: Migration at Work | B79: OAPEN | C79: 68 | D79: 29 | E79: 42 | F79: 50 | G79: 41 | H79: 34 | I79: 18 | J79: 35 | K79: 34 | L79: 43 | M79: 31 | N79: 33 | O79: =SUM(C79:N79) -> 458
B80: JSTOR | C80: 257 | D80: 125 | E80: 149 | F80: 145 | G80: 175 | H80: 89 | I80: 71 | J80: 34 | K80: 29 | L80: 88 | M80: 84 | N80: 62 | O80: =SUM(C80:N80) -> 1308
B81: Project Muse | C81: 16 | D81: 2 | E81: 36 | F81: 39 | G81: 3 | H81: 3 | I81: 8 | J81: 1 | K81: 2 | L81: 22 | M81: 4 | N81: 1 | O81: =SUM(C81:N81) -> 137
A82: Arrival Cities | B82: OAPEN | C82: 151 | D82: 85 | E82: 115 | F82: 91 | G82: 121 | H82: 107 | I82: 97 | J82: 76 | K82: 112 | L82: 132 | M82: 64 | N82: 55 | O82: =SUM(C82:N82) -> 1206
B83: JSTOR | C83: 518 | D83: 497 | E83: 590 | F83: 499 | G83: 403 | H83: 334 | I83: 317 | J83: 148 | K83: 252 | L83: 277 | M83: 240 | N83: 290 | O83: =SUM(C83:N83) -> 4365
B84: Project Muse | C84: 16 | D84: 45 | E84: 67 | F84: 93 | G84: 25 | H84: 5 | I84: 12 | J84: 9 | K84: 7 | L84: 36 | M84: 47 | N84: 4 | O84: =SUM(C84:N84) -> 366
A85: The Figure of Knowledge | B85: OAPEN | C85: 69 | D85: 54 | E85: 62 | F85: 81 | G85: 90 | H85: 107 | I85: 42 | J85: 58 | K85: 66 | L85: 90 | M85: 71 | N85: 45 | O85: =SUM(C85:N85) -> 835
B86: JSTOR | C86: 1094 | D86: 862 | E86: 1087 | F86: 874 | G86: 776 | H86: 504 | I86: 313 | J86: 294 | K86: 502 | L86: 424 | M86: 404 | N86: 454 | O86: =SUM(C86:N86) -> 7588
B87: Project Muse | C87: 1 | D87: 36 | E87: 84 | F87: 56 | G87: 30 | H87: 14 | I87: 13 | J87: 37 | K87: 14 | L87: 28 | M87: 13 | N87: 22 | O87: =SUM(C87:N87) -> 348
A88: Children's Literature | B88: OAPEN | C88: 226 | D88: 294 | E88: 431 | F88: 512 | G88: 446 | H88: 463 | I88: 374 | J88: 449 | K88: 519 | L88: 629 | M88: 762 | N88: 618 | O88: =SUM(C88:N88) -> 5723
B89: JSTOR | C89: 593 | D89: 424 | E89: 619 | F89: 563 | G89: 564 | H89: 412 | I89: 260 | J89: 270 | K89: 328 | L89: 482 | M89: 456 | N89: 429 | O89: =SUM(C89:N89) -> 5400
B90: Project Muse | C90: 19 | D90: 133 | E90: 74 | F90: 12 | G90: 44 | H90: 18 | I90: 6 | J90: 12 | K90: 32 | L90: 98 | M90: 89 | N90: 73 | O90: =SUM(C90:N90) -> 610
A91: Turkish German Muslims | B91: OAPEN | C91: 29 | D91: 42 | E91: 75 | F91: 123 | G91: 138 | H91: 113 | I91: 91 | J91: 110 | K91: 99 | L91: 111 | M91: 122 | N91: 82 | O91: =SUM(C91:N91) -> 1135
B92: JSTOR | C92: 127 | D92: 109 | E92: 180 | F92: 166 | G92: 158 | H92: 114 | I92: 98 | J92: 35 | K92: 88 | L92: 46 | M92: 89 | N92: 105 | O92: =SUM(C92:N92) -> 1315
B93: Project Muse | C93: 2 | D93: 58 | E93: 25 | F93: 0 | G93: 16 | H93: 24 | I93: 11 | J93: 2 | K93: 0 | L93: 19 | M93: 0 | N93: 0 | O93: =SUM(C93:N93) -> 157
A94: Dialogen over België | B94: OAPEN | C94: 89 | D94: 67 | E94: 59 | F94: 45 | G94: 39 | H94: 38 | I94: 24 | J94: 28 | K94: 13 | L94: 30 | M94: 31 | N94: 39 | O94: =SUM(C94:N94) -> 502
B95: JSTOR | C95: 40 | D95: 33 | E95: 35 | F95: 26 | G95: 14 | H95: 16 | I95: 8 | J95: 9 | K95: 6 | L95: 22 | M95: 29 | N95: 26 | O95: =SUM(C95:N95) -> 264
B96: Project Muse | C96: 7 | D96: 5 | E96: 45 | F96: 2 | G96: 1 | H96: 0 | I96: 2 | J96: 1 | K96: 1 | L96: 0 | M96: 0 | N96: 0 | O96: =SUM(C96:N96) -> 64
A97: Performing Hysteria | B97: OAPEN | C97: 199 | D97: 179 | E97: 239 | F97: 245 | G97: 171 | H97: 165 | I97: 171 | J97: 150 | K97: 259 | L97: 227 | M97: 262 | N97: 166 | O97: =SUM(C97:N97) -> 2433
B98: JSTOR | C98: 925 | D98: 817 | E98: 974 | F98: 1082 | G98: 673 | H98: 404 | I98: 265 | J98: 371 | K98: 425 | L98: 652 | M98: 718 | N98: 585 | O98: =SUM(C98:N98) -> 7891
B99: Project Muse | C99: 47 | D99: 66 | E99: 121 | F99: 12 | G99: 26 | H99: 7 | I99: 14 | J99: 21 | K99: 2 | L99: 26 | M99: 53 | N99: 2 | O99: =SUM(C99:N99) -> 397
A100: Mongameli Mabona | B100: OAPEN | C100: 178 | D100: 46 | E100: 55 | F100: 68 | G100: 51 | H100: 39 | I100: 38 | J100: 36 | K100: 40 | L100: 28 | M100: 56 | N100: 27 | O100: =SUM(C100:N100) -> 662
...

Sheet 2022
A1: User Statistics Open Access
A2: Title | B2: Platform | C2: 2022 | O2: total 2022 | Q2: Open Research Library
C3: Jan | D3: Feb | E3: March | F3: April | G3: May | H3: June | I3: July | J3: Aug | K3: Sept | L3: Oct | M3: Nov | N3: Dec
A4: Glass Making in the Greco-Roman World | B4: OAPEN | C4: 92 | D4: 77 | E4: 106 | F4: 129 | G4: 167 | H4: 79 | I4: 78 | J4: 76 | K4: 76 | L4: 106 | M4: 87 | N4: 81 | O4: =SUM(C4:N4) -> 1154 | P4: book downloads | Q4: 66
B5: JSTOR | C5: 39 | D5: 65 | E5: 116 | F5: 52 | G5: 67 | H5: 37 | I5: 18 | J5: 32 | K5: 39 | L5: 48 | M5: 96 | N5: 90 | O5: =SUM(C5:N5) -> 699 | P5: chapter views + downloads
B6: Project Muse | O6: =SUM(C6:N6) -> 0 | P6: chapter views + downloads
A7: Experimental Affinities in Music | B7: OAPEN | C7: 94 | D7: 48 | E7: 43 | F7: 37 | G7: 34 | H7: 47 | I7: 32 | J7: 41 | K7: 49 | L7: 90 | M7: 56 | N7: 56 | O7: =SUM(C7:N7) -> 627 | Q7: 10
B8: JSTOR | C8: 75 | D8: 81 | E8: 76 | F8: 54 | G8: 66 | H8: 57 | I8: 41 | J8: 31 | K8: 83 | L8: 111 | M8: 127 | N8: 102 | O8: =SUM(C8:N8) -> 904
B9: Project Muse | O9: =SUM(C9:N9) -> 0
A10: Transpositions | B10: OAPEN | C10: 73 | D10: 59 | E10: 50 | F10: 48 | G10: 32 | H10: 48 | I10: 56 | J10: 59 | K10: 67 | L10: 52 | M10: 58 | N10: 43 | O10: =SUM(C10:N10) -> 645 | Q10: 18
A11: Transpositions | B11: JSTOR | C11: 122 | D11: 92 | E11: 98 | F11: 100 | G11: 63 | H11: 67 | I11: 85 | J11: 89 | K11: 124 | L11: 108 | M11: 154 | N11: 121 | O11: =SUM(C11:N11) -> 1223
A12: Transpositions | B12: Project Muse | O12: =SUM(C12:N12) -> 0
A13: Virtual Works – Actual Things | B13: OAPEN | C13: 49 | D13: 110 | E13: 39 | F13: 45 | G13: 46 | H13: 55 | I13: 39 | J13: 58 | K13: 42 | L13: 29 | M13: 65 | N13: 27 | O13: =SUM(C13:N13) -> 604 | Q13: 19
A14: Virtual Works – Actual Things | B14: JSTOR | C14: 97 | D14: 92 | E14: 76 | F14: 107 | G14: 117 | H14: 55 | I14: 45 | J14: 48 | K14: 90 | L14: 57 | M14: 132 | N14: 117 | O14: =SUM(C14:N14) -> 1033
A15: Virtual Works – Actual Things | B15: Project Muse | O15: =SUM(C15:N15) -> 0
A16: Logic of Experimentation | B16: OAPEN | C16: 132 | D16: 123 | E16: 131 | F16: 120 | G16: 92 | H16: 76 | I16: 47 | J16: 77 | K16: 90 | L16: 111 | M16: 122 | N16: 65 | O16: =SUM(C16:N16) -> 1186 | Q16: 19
A17: Logic of Experimentation | B17: JSTOR | C17: 167 | D17: 119 | E17: 127 | F17: 162 | G17: 185 | H17: 140 | I17: 93 | J17: 137 | K17: 123 | L17: 142 | M17: 141 | N17: 97 | O17: =SUM(C17:N17) -> 1633
A18: Logic of Experimentation | B18: Project Muse | O18: =SUM(C18:N18) -> 0
A19: Powers of Divergence | B19: OAPEN | C19: 31 | D19: 29 | E19: 28 | F19: 24 | G19: 28 | H19: 13 | I19: 15 | J19: 25 | K19: 25 | L19: 43 | M19: 32 | N19: 14 | O19: =SUM(C19:N19) -> 307
A20: Powers of Divergence | B20: JSTOR | C20: 86 | D20: 85 | E20: 81 | F20: 79 | G20: 61 | H20: 36 | I20: 54 | J20: 46 | K20: 67 | L20: 55 | M20: 81 | N20: 93 | O20: =SUM(C20:N20) -> 824
A21: Powers of Divergence | B21: Project Muse | O21: =SUM(C21:N21) -> 0
A22: Beyond Provenance | B22: OAPEN | C22: 56 | D22: 46 | E22: 79 | F22: 27 | G22: 32 | H22: 29 | I22: 34 | J22: 29 | K22: 26 | L22: 59 | M22: 35 | N22: 30 | O22: =SUM(C22:N22) -> 482 | Q22: 13
A23: Beyond Provenance | B23: JSTOR | C23: 117 | D23: 71 | E23: 97 | F23: 159 | G23: 77 | H23: 92 | I23: 61 | J23: 46 | K23: 102 | L23: 114 | M23: 67 | N23: 62 | O23: =SUM(C23:N23) -> 1065
A24: Beyond Provenance | B24: Project Muse | O24: =SUM(C24:N24) -> 0
A25: Images of Immigrants and Refugees in Western Europe | B25: OAPEN | C25: 175 | D25: 167 | E25: 261 | F25: 263 | G25: 269 | H25: 145 | I25: 107 | J25: 98 | K25: 160 | L25: 166 | M25: 250 | N25: 191 | O25: =SUM(C25:N25) -> 2252 | Q25: 40
A26: Images of Immigrants and Refugees in Western Europe | B26: JSTOR | C26: 273 | D26: 191 | E26: 301 | F26: 456 | G26: 447 | H26: 265 | I26: 157 | J26: 146 | K26: 274 | L26: 344 | M26: 567 | N26: 355 | O26: =SUM(C26:N26) -> 3776
A27: Images of Immigrants and Refugees in Western Europe | B27: Project Muse | C27: 184 | D27: 207 | E27: 182 | F27: 40 | G27: 48 | H27: 31 | I27: 11 | J27: 8 | K27: 7 | L27: 24 | M27: 28 | N27: 93 | O27: =SUM(C27:N27) -> 863
A28: Brokers of Modernity | B28: OAPEN | C28: 128 | D28: 142 | E28: 108 | F28: 90 | G28: 100 | H28: 100 | I28: 38 | J28: 52 | K28: 84 | L28: 104 | M28: 174 | N28: 90 | O28: =SUM(C28:N28) -> 1210 | Q28: 17
A29: Brokers of Modernity | B29: JSTOR | C29: 147 | D29: 173 | E29: 253 | F29: 237 | G29: 195 | H29: 144 | I29: 125 | J29: 117 | K29: 178 | L29: 226 | M29: 329 | N29: 296 | O29: =SUM(C29:N29) -> 2420
A30: Brokers of Modernity | B30: Project Muse | C30: 209 | D30: 159 | E30: 201 | F30: 14 | G30: 49 | H30: 10 | I30: 11 | J30: 2 | K30: 1 | L30: 7 | M30: 11 | N30: 76 | O30: =SUM(C30:N30) -> 750
A31: Gender and Christianity in Modern Europe | B31: OAPEN | C31: 114 | D31: 80 | E31: 111 | F31: 82 | G31: 83 | H31: 62 | I31: 74 | J31: 44 | K31: 64 | L31: 77 | M31: 65 | N31: 69 | O31: =SUM(C31:N31) -> 925 | Q31: =78+11 -> 89
A32: Gender and Christianity in Modern Europe | B32: JSTOR | C32: 89 | D32: 66 | E32: 120 | F32: 99 | G32: 84 | H32: 75 | I32: 88 | J32: 185 | K32: 98 | L32: 122 | M32: 176 | N32: 164 | O32: =SUM(C32:N32) -> 1366
A33: Gender and Christianity in Modern Europe | B33: Project Muse | C33: 354 | D33: 265 | E33: 305 | F33: 6 | G33: 6 | H33: 6 | I33: 12 | J33: 2 | K33: 7 | L33: 6 | M33: 34 | N33: 94 | O33: =SUM(C33:N33) -> 1097
A34: New Multicultural Identities in Europe | B34: OAPEN | C34: 34 | D34: 30 | E34: 40 | F34: 31 | G34: 39 | H34: 27 | I34: 12 | J34: 19 | K34: 18 | L34: 24 | M34: 31 | N34: 35 | O34: =SUM(C34:N34) -> 340 | Q34: =39+11 -> 50
A35: New Multicultural Identities in Europe | B35: JSTOR | C35: 98 | D35: 46 | E35: 96 | F35: 86 | G35: 116 | H35: 49 | I35: 87 | J35: 48 | K35: 77 | L35: 81 | M35: 148 | N35: 126 | O35: =SUM(C35:N35) -> 1058
A36: New Multicultural Identities in Europe | B36: Project Muse | C36: 0 | D36: 2 | E36: 9 | F36: 4 | G36: 1 | H36: 3 | I36: 3 | J36: 0 | K36: 5 | L36: 8 | M36: 1 | N36: 13 | O36: =SUM(C36:N36) -> 49
A37: Essays on Plato's Epistemology | B37: OAPEN | C37: 280 | D37: 375 | E37: 454 | F37: 359 | G37: 275 | H37: 227 | I37: 206 | J37: 219 | K37: 369 | L37: 336 | M37: 324 | N37: 277 | O37: =SUM(C37:N37) -> 3701 | Q37: 24
A38: Essays on Plato's Epistemology | B38: JSTOR | C38: 57 | D38: 89 | E38: 109 | F38: 159 | G38: 111 | H38: 61 | I38: 44 | J38: 47 | K38: 108 | L38: 105 | M38: 143 | N38: 128 | O38: =SUM(C38:N38) -> 1161
A39: Essays on Plato's Epistemology | B39: Project Muse | C39: 403 | D39: 278 | E39: 332 | F39: 12 | G39: 9 | H39: 3 | I39: 12 | J39: 6 | K39: 7 | L39: 0 | M39: 16 | N39: 74 | O39: =SUM(C39:N39) -> 1152
A40: Virtues for the People | B40: OAPEN | C40: 43 | D40: 40 | E40: 58 | F40: 43 | G40: 38 | H40: 35 | I40: 26 | J40: 27 | K40: 56 | L40: 45 | M40: 42 | N40: 42 | O40: =SUM(C40:N40) -> 495 | Q40: 28
A41: Virtues for the People | B41: JSTOR | C41: 37 | D41: 69 | E41: 70 | F41: 63 | G41: 67 | H41: 77 | I41: 24 | J41: 47 | K41: 105 | L41: 112 | M41: 75 | N41: 126 | O41: =SUM(C41:N41) -> 872
A42: Virtues for the People | B42: Project Muse | C42: 22 | D42: 0 | E42: 6 | F42: 4 | G42: 1 | H42: 2 | I42: 1 | J42: 1 | K42: 19 | L42: 5 | M42: 10 | N42: 33 | O42: =SUM(C42:N42) -> 104
A43: A Small Nation in the Turmoil of the Second World War | B43: OAPEN | C43: 58 | D43: 43 | E43: 37 | F43: 45 | G43: 34 | H43: 44 | I43: 42 | J43: 32 | K43: 45 | L43: 45 | M43: 42 | N43: 39 | O43: =SUM(C43:N43) -> 506 | Q43: 1
A44: A Small Nation in the Turmoil of the Second World War | B44: JSTOR | C44: 25 | D44: 23 | E44: 38 | F44: 33 | G44: 40 | H44: 25 | I44: 23 | J44: 80 | K44: 49 | L44: 117 | M44: 45 | N44: 35 | O44: =SUM(C44:N44) -> 533
A45: A Small Nation in the Turmoil of the Second World War | B45: Project Muse | C45: 711 | D45: 512 | E45: 649 | F45: 9 | G45: 13 | H45: 9 | I45: 24 | J45: 82 | K45: 0 | L45: 3 | M45: 24 | N45: 137 | O45: =SUM(C45:N45) -> 2173
A46: Mapping Landscapes in Transformation | B46: OAPEN | C46: 259 | D46: 405 | E46: 253 | F46: 193 | G46: 105 | H46: 151 | I46: 130 | J46: 143 | K46: 199 | L46: 207 | M46: 275 | N46: 227 | O46: =SUM(C46:N46) -> 2547 | Q46: 47
A47: Mapping Landscapes in Transformation | B47: JSTOR | C47: 157 | D47: 207 | E47: 190 | F47: 133 | G47: 129 | H47: 119 | I47: 145 | J47: 72 | K47: 208 | L47: 176 | M47: 213 | N47: 178 | O47: =SUM(C47:N47) -> 1927
A48: Mapping Landscapes in Transformation | B48: Project Muse | O48: =SUM(C48:N48) -> 0
A49: Modern Islamic Thinking and Activism | B49: OAPEN | C49: 77 | D49: 52 | E49: 49 | F49: 35 | G49: 73 | H49: 48 | I49: 56 | J49: 44 | K49: 84 | L49: 126 | M49: 85 | N49: 111 | O49: =SUM(C49:N49) -> 840 | Q49: =18+7 -> 25
A50: Modern Islamic Thinking and Activism | B50: JSTOR | C50: 122 | D50: 112 | E50: 122 | F50: 145 | G50: 196 | H50: 69 | I50: 69 | J50: 101 | K50: 126 | L50: 113 | M50: 139 | N50: 167 | O50: =SUM(C50:N50) -> 1481
A51: Modern Islamic Thinking and Activism | B51: Project Muse | C51: 2 | D51: 6 | E51: 3 | F51: 3 | G51: 1 | H51: 2 | I51: 8 | J51: 1 | K51: 3 | L51: 2 | M51: 25 | N51: 18 | O51: =SUM(C51:N51) -> 74
A52: Alles verandert altijd | B52: OAPEN | C52: 71 | D52: 99 | E52: 150 | F52: 168 | G52: 171 | H52: 121 | I52: 64 | J52: 63 | K52: 79 | L52: 96 | M52: 92 | N52: 51 | O52: =SUM(C52:N52) -> 1225 | Q52: 26
A53: Alles verandert altijd | B53: JSTOR | C53: 59 | D53: 97 | E53: 71 | F53: 72 | G53: 84 | H53: 47 | I53: 38 | J53: 21 | K53: 50 | L53: 110 | M53: 110 | N53: 52 | O53: =SUM(C53:N53) -> 811
A54: Alles verandert altijd | B54: Project Muse | C54: 363 | D54: 269 | E54: 189 | F54: 8 | G54: 19 | H54: 10 | I54: 10 | J54: 1 | K54: 1 | L54: 4 | M54: 11 | N54: 73 | O54: =SUM(C54:N54) -> 958
A55: Militant Jihadism | B55: OAPEN | C55: 54 | D55: 51 | E55: 71 | F55: 70 | G55: 52 | H55: 37 | I55: 27 | J55: 45 | K55: 23 | L55: 55 | M55: 58 | N55: 43 | O55: =SUM(C55:N55) -> 586 | Q55: =112+12 -> 124
A56: Militant Jihadism | B56: JSTOR | C56: 103 | D56: 137 | E56: 218 | F56: 145 | G56: 110 | H56: 95 | I56: 73 | J56: 71 | K56: 70 | L56: 88 | M56: 188 | N56: 75 | O56: =SUM(C56:N56) -> 1373
A57: Militant Jihadism | B57: Project Muse | C57: 4 | D57: 20 | E57: 12 | F57: 13 | G57: 1 | H57: 0 | I57: 14 | J57: 1 | K57: 5 | L57: 1 | M57: 3 | N57: 0 | O57: =SUM(C57:N57) -> 74
A58: Participatiegolven | B58: OAPEN | C58: 23 | D58: 26 | E58: 51 | F58: 26 | G58: 49 | H58: 32 | I58: 22 | J58: 21 | K58: 21 | L58: 30 | M58: 29 | N58: 33 | O58: =SUM(C58:N58) -> 363
A59: Participatiegolven | B59: JSTOR | C59: 24 | D59: 17 | E59: 43 | F59: 27 | G59: 30 | H59: 34 | I59: 17 | J59: 10 | K59: 34 | L59: 19 | M59: 35 | N59: 38 | O59: =SUM(C59:N59) -> 328
A60: Participatiegolven | B60: Project Muse | C60: 1 | D60: 0 | E60: 3 | F60: 12 | G60: 7 | H60: 8 | I60: 31 | J60: 4 | K60: 0 | L60: 2 | M60: 3 | N60: 9 | O60: =SUM(C60:N60) -> 80
A61: Financing Quality Education for All | B61: OAPEN | C61: 19 | D61: 21 | E61: 28 | F61: 24 | G61: 15 | H61: 25 | I61: 13 | J61: 9 | K61: 14 | L61: 29 | M61: 30 | N61: 12 | O61: =SUM(C61:N61) -> 239 | Q61: =57+12 -> 69
A62: Financing Quality Education for All | B62: JSTOR | C62: 108 | D62: 135 | E62: 196 | F62: 154 | G62: 146 | H62: 121 | I62: 83 | J62: 63 | K62: 116 | L62: 224 | M62: 288 | N62: 235 | O62: =SUM(C62:N62) -> 1869
A63: Financing Quality Education for All | B63: Project Muse | C63: 0 | D63: 15 | E63: 30 | F63: 12 | G63: 5 | H63: 11 | I63: 6 | J63: 3 | K63: 13 | L63: 8 | M63: 4 | N63: 15 | O63: =SUM(C63:N63) -> 122
A64: As German as Kafka | B64: OAPEN | C64: 45 | D64: 42 | E64: 50 | F64: 31 | G64: 22 | H64: 30 | I64: 15 | J64: 47 | K64: 16 | L64: 15 | M64: 33 | N64: 21 | O64: =SUM(C64:N64) -> 367
A65: As German as Kafka | B65: JSTOR | C65: 55 | D65: 49 | E65: 94 | F65: 63 | G65: 33 | H65: 29 | I65: 40 | J65: 36 | K65: 48 | L65: 47 | M65: 37 | N65: 49 | O65: =SUM(C65:N65) -> 580
A66: As German as Kafka | B66: Project Muse | C66: 4 | D66: 11 | E66: 15 | F66: 3 | G66: 13 | H66: 2 | I66: 0 | J66: 0 | K66: 3 | L66: 28 | M66: 7 | N66: 44 | O66: =SUM(C66:N66) -> 130
A67: Oil Wealth and Development in Uganda and Beyond | B67: OAPEN | C67: 100 | D67: 115 | E67: 148 | F67: 130 | G67: 78 | H67: 85 | I67: 102 | J67: 70 | K67: 91 | L67: 127 | M67: 126 | N67: 88 | O67: =SUM(C67:N67) -> 1260 | Q67: 4
A68: Oil Wealth and Development in Uganda and Beyond | B68: JSTOR | C68: 253 | D68: 445 | E68: 604 | F68: 472 | G68: 415 | H68: 345 | I68: 441 | J68: 340 | K68: 359 | L68: 313 | M68: 405 | N68: 228 | O68: =SUM(C68:N68) -> 4620
A69: Oil Wealth and Development in Uganda and Beyond | B69: Project Muse | C69: 1 | D69: 1 | E69: 23 | F69: 13 | G69: 2 | H69: 10 | I69: 33 | J69: 4 | K69: 2 | L69: 4 | M69: 31 | N69: 173 | O69: =SUM(C69:N69) -> 297
A70: European Perspectives for Public Administration | B70: OAPEN | C70: 254 | D70: 161 | E70: 126 | F70: 100 | G70: 321 | H70: 71 | I70: 66 | J70: 356 | K70: 351 | L70: 76 | M70: 92 | N70: 170 | O70: =SUM(C70:N70) -> 2144 | Q70: 1
A71: European Perspectives for Public Administration | B71: JSTOR | C71: 478 | D71: 616 | E71: 675 | F71: 623 | G71: 538 | H71: 504 | I71: 343 | J71: 369 | K71: 556 | L71: 657 | M71: 823 | N71: 719 | O71: =SUM(C71:N71) -> 6901
A72: European Perspectives for Public Administration | B72: Project Muse | C72: 257 | D72: 221 | E72: 191 | F72: 11 | G72: 11 | H72: 11 | I72: 16 | J72: 22 | K72: 13 | L72: 12 | M72: 19 | N72: 175 | O72: =SUM(C72:N72) -> 959
A73: Plutarch's Science of Natural Problems | B73: OAPEN | C73: 16 | D73: 18 | E73: 31 | F73: 16 | G73: 20 | H73: 33 | I73: 22 | J73: 25 | K73: 13 | L73: 46 | M73: 18 | N73: 36 | O73: =SUM(C73:N73) -> 294 | Q73: 3
A74: Plutarch's Science of Natural Problems | B74: JSTOR | C74: 23 | D74: 34 | E74: 37 | F74: 51 | G74: 55 | H74: 38 | I74: 47 | J74: 23 | K74: 29 | L74: 59 | M74: 18 | N74: 37 | O74: =SUM(C74:N74) -> 451
A75: Plutarch's Science of Natural Problems | B75: Project Muse | C75: 240 | D75: 182 | E75: 221 | F75: 1 | G75: 3 | H75: 1 | I75: 3 | J75: 0 | K75: 0 | L75: 1 | M75: 1 | N75: 39 | O75: =SUM(C75:N75) -> 692
A76: Across Anthropology | B76: OAPEN | C76: 489 | D76: 702 | E76: 633 | F76: 558 | G76: 480 | H76: 558 | I76: 480 | J76: 489 | K76: 480 | L76: 543 | M76: 504 | N76: 399 | O76: =SUM(C76:N76) -> 6315 | Q76: =65+67 -> 132
B77: JSTOR | C77: 384 | D77: 487 | E77: 512 | F77: 518 | G77: 518 | H77: 347 | I77: 324 | J77: 413 | K77: 448 | L77: 688 | M77: 539 | N77: 551 | O77: =SUM(C77:N77) -> 5729
B78: Project Muse | C78: 81 | D78: 119 | E78: 48 | F78: 164 | G78: 217 | H78: 13 | I78: 89 | J78: 48 | K78: 44 | L78: 95 | M78: 36 | N78: 207 | O78: =SUM(C78:N78) -> 1161
A79: Migration at Work | B79: OAPEN | C79: 40 | D79: 51 | E79: 89 | F79: 21 | G79: 29 | H79: 32 | I79: 25 | J79: 23 | K79: 43 | L79: 49 | M79: 47 | N79: 37 | O79: =SUM(C79:N79) -> 486 | Q79: =11+6 -> 17
B80: JSTOR | C80: 57 | D80: 63 | E80: 74 | F80: 66 | G80: 81 | H80: 52 | I80: 66 | J80: 35 | K80: 58 | L80: 59 | M80: 88 | N80: 64 | O80: =SUM(C80:N80) -> 763
B81: Project Muse | C81: 6 | D81: 4 | E81: 5 | F81: 2 | G81: 7 | H81: 2 | I81: 3 | J81: 7 | K81: 2 | L81: 0 | M81: 5 | N81: 90 | O81: =SUM(C81:N81) -> 133
A82: Arrival Cities | B82: OAPEN | C82: =190+2 -> 192 | D82: =196+7 -> 203 | E82: 116 | F82: 81 | G82: =158+3 -> 161 | H82: =86+2 -> 88 | I82: =66+23 -> 89 | J82: =56+11 -> 67 | K82: 130 | L82: =116+1 -> 117 | M82: =168+12 -> 180 | N82: =126+4 -> 130 | O82: =SUM(C82:N82) -> 1554 | Q82: =61+13 -> 74
B83: JSTOR | C83: 220 | D83: 280 | E83: 283 | F83: 287 | G83: 229 | H83: 230 | I83: 205 | J83: 166 | K83: 201 | L83: 2013 | M83: 277 | N83: 224 | O83: =SUM(C83:N83) -> 4615
B84: Project Muse | C84: 19 | D84: 16 | E84: 11 | F84: 7 | G84: 8 | H84: 32 | I84: 8 | J84: 21 | K84: 38 | L84: 20 | M84: 15 | N84: 138 | O84: =SUM(C84:N84) -> 333
A85: The Figure of Knowledge | B85: OAPEN | C85: 63 | D85: 102 | E85: 134 | F85: 74 | G85: 64 | H85: 38 | I85: 30 | J85: 69 | K85: 62 | L85: 25 | M85: 34 | N85: 23 | O85: =SUM(C85:N85) -> 718 | Q85: 9
B86: JSTOR | C86: 417 | D86: 415 | E86: 590 | F86: 423 | G86: 408 | H86: 229 | I86: 249 | J86: 277 | K86: 335 | L86: 516 | M86: 517 | N86: 447 | O86: =SUM(C86:N86) -> 4823
B87: Project Muse | C87: 5 | D87: 5 | E87: 15 | F87: 13 | G87: 7 | H87: 26 | I87: 6 | J87: 15 | K87: 5 | L87: 5 | M87: 3 | N87: 256 | O87: =SUM(C87:N87) -> 361
A88: Children's Literature | B88: OAPEN | C88: 609 | D88: 568 | E88: 598 | F88: 584 | G88: 458 | H88: 390 | I88: 261 | J88: 328 | K88: 436 | L88: 547 | M88: 618 | N88: 682 | O88: =SUM(C88:N88) -> 6079 | Q88: 27
B89: JSTOR | C89: 407 | D89: 364 | E89: 416 | F89: 359 | G89: 461 | H89: 245 | I89: 188 | J89: 210 | K89: 255 | L89: 367 | M89: 497 | N89: 424 | O89: =SUM(C89:N89) -> 4193
B90: Project Muse | C90: 16 | D90: 31 | E90: 33 | F90: 59 | G90: 18 | H90: 50 | I90: 16 | J90: 27 | K90: 42 | L90: 40 | M90: 59 | N90: 221 | O90: =SUM(C90:N90) -> 612
A91: Turkish German Muslims | B91: OAPEN | C91: 87 | D91: 111 | E91: 90 | F91: 59 | G91: 134 | H91: 81 | I91: 79 | J91: 88 | K91: 118 | L91: 200 | M91: 201 | N91: 168 | O91: =SUM(C91:N91) -> 1416 | Q91: 1
B92: JSTOR | C92: 38 | D92: 52 | E92: 70 | F92: 60 | G92: 65 | H92: 73 | I92: 61 | J92: 46 | K92: 51 | L92: 54 | M92: 68 | N92: 79 | O92: =SUM(C92:N92) -> 717
B93: Project Muse | C93: 1 | D93: 0 | E93: 19 | F93: 1 | G93: 5 | H93: 0 | I93: 1 | J93: 0 | K93: 0 | L93: 2 | M93: 52 | N93: 36 | O93: =SUM(C93:N93) -> 117
A94: Dialogen over België | B94: OAPEN | C94: 18 | D94: 20 | E94: 18 | F94: 22 | G94: 23 | H94: 19 | I94: 15 | J94: 7 | K94: 10 | L94: 12 | M94: 35 | N94: 16 | O94: =SUM(C94:N94) -> 215 | Q94: 3
B95: JSTOR | C95: 15 | D95: 22 | E95: 17 | F95: 22 | G95: 26 | H95: 19 | I95: 11 | J95: 15 | K95: 15 | L95: 24 | M95: 33 | N95: 6 | O95: =SUM(C95:N95) -> 225
B96: Project Muse | C96: 3 | D96: 3 | E96: 3 | F96: 2 | G96: 2 | H96: 0 | I96: 4 | J96: 0 | K96: 3 | L96: 0 | M96: 5 | N96: 1 | O96: =SUM(C96:N96) -> 26
A97: Performing Hysteria | B97: OAPEN | C97: 288 | D97: 302 | E97: 462 | F97: 386 | G97: 518 | H97: 262 | I97: 182 | J97: 150 | K97: 242 | L97: 286 | M97: 294 | N97: 280 | O97: =SUM(C97:N97) -> 3652 | Q97: =63+5 -> 68
B98: JSTOR | C98: 484 | D98: 486 | E98: 701 | F98: 730 | G98: 679 | H98: 318 | I98: 211 | J98: 258 | K98: 560 | L98: 668 | M98: 1040 | N98: 950 | O98: =SUM(C98:N98) -> 7085
B99: Project Muse | C99: 12 | D99: 30 | E99: 17 | F99: 12 | G99: 8 | H99: 15 | I99: 41 | J99: 7 | K99: 18 | L99: 12 | M99: 53 | N99: 88 | O99: =SUM(C99:N99) -> 313
A100: Mongameli Mabona | B100: OAPEN | C100: 18 | D100: 29 | E100: 20 | F100: 19 | G100: 15 | H100: 49 | I100: 22 | J100: 17 | K100: 63 | L100: 22 | M100: 28 | N100: 23 | O100: =SUM(C100:N100) -> 325
...

Sheet 2023
A1: User Statistics Open Access
A2: Title | B2: Platform | C2: 2023 | O2: total 2023 | Q2: Open Research Library
C3: Jan | D3: Feb | E3: March | F3: April | G3: May | H3: June | I3: July | J3: Aug | K3: Sept | L3: Oct | M3: Nov | N3: Dec
A4: Glass Making in the Greco-Roman World | B4: OAPEN | C4: 98 | D4: 111 | E4: 67 | F4: 36 | G4: 38 | H4: 36 | I4: 26 | J4: 32 | K4: 42 | L4: 73 | M4: 51 | N4: 75 | O4: =SUM(C4:N4) -> 685 | P4: book downloads | Q4: 0
B5: JSTOR | C5: 65 | D5: 69 | E5: 69 | F5: 74 | G5: 42 | H5: 37 | I5: 29 | J5: 83 | K5: 46 | L5: 71 | M5: 68 | N5: 68 | O5: =SUM(C5:N5) -> 721 | P5: chapter views + downloads
B6: Project Muse | O6: =SUM(C6:N6) -> 0 | P6: chapter views + downloads
A7: Experimental Affinities in Music | B7: OAPEN | C7: 54 | D7: 52 | E7: 42 | F7: 40 | G7: 36 | H7: 34 | I7: 20 | J7: 22 | K7: 26 | L7: 41 | M7: 31 | N7: 52 | O7: =SUM(C7:N7) -> 450
B8: JSTOR | C8: 60 | D8: 81 | E8: 89 | F8: 108 | G8: 63 | H8: 49 | I8: 53 | J8: 55 | K8: 93 | L8: 121 | M8: 98 | N8: 97 | O8: =SUM(C8:N8) -> 967
B9: Project Muse | O9: =SUM(C9:N9) -> 0
A10: Transpositions | B10: OAPEN | C10: 45 | D10: 58 | E10: 55 | F10: 45 | G10: 67 | H10: 48 | I10: 49 | J10: 47 | K10: 53 | L10: 57 | M10: 49 | N10: 77 | O10: =SUM(C10:N10) -> 650
A11: Transpositions | B11: JSTOR | C11: 128 | D11: 108 | E11: 200 | F11: 163 | G11: 156 | H11: 78 | I11: 75 | J11: 106 | K11: 158 | L11: 165 | M11: 206 | N11: 95 | O11: =SUM(C11:N11) -> 1638
A12: Transpositions | B12: Project Muse | O12: =SUM(C12:N12) -> 0
A13: Virtual Works – Actual Things | B13: OAPEN | C13: 31 | D13: 45 | E13: 35 | F13: 40 | G13: 35 | H13: 26 | I13: 29 | J13: 11 | K13: 41 | L13: 33 | M13: 37 | N13: 28 | O13: =SUM(C13:N13) -> 391
A14: Virtual Works – Actual Things | B14: JSTOR | C14: 142 | D14: 109 | E14: 182 | F14: 102 | G14: 140 | H14: 128 | I14: 73 | J14: 72 | K14: 156 | L14: 161 | M14: 150 | N14: 133 | O14: =SUM(C14:N14) -> 1548
A15: Virtual Works – Actual Things | B15: Project Muse | O15: =SUM(C15:N15) -> 0
A16: Logic of Experimentation | B16: OAPEN | C16: 119 | D16: 92 | E16: 85 | F16: 50 | G16: 83 | H16: 103 | I16: 65 | J16: 49 | K16: 118 | L16: 102 | M16: 86 | N16: 73 | O16: =SUM(C16:N16) -> 1025
A17: Logic of Experimentation | B17: JSTOR | C17: 183 | D17: 118 | E17: 94 | F17: 65 | G17: 91 | H17: 57 | I17: 48 | J17: 34 | K17: 63 | L17: 105 | M17: 80 | N17: 41 | O17: =SUM(C17:N17) -> 979
A18: Logic of Experimentation | B18: Project Muse | O18: =SUM(C18:N18) -> 0
A19: Powers of Divergence | B19: OAPEN | C19: 24 | D19: 23 | E19: 26 | F19: 20 | G19: 34 | H19: 26 | I19: 12 | J19: 25 | K19: 30 | L19: 25 | M19: 28 | N19: 21 | O19: =SUM(C19:N19) -> 294
A20: Powers of Divergence | B20: JSTOR | C20: 38 | D20: 36 | E20: 108 | F20: 39 | G20: 35 | H20: 32 | I20: 69 | J20: 17 | K20: 32 | L20: 35 | M20: 64 | N20: 29 | O20: =SUM(C20:N20) -> 534
A21: Powers of Divergence | B21: Project Muse | O21: =SUM(C21:N21) -> 0
A22: Beyond Provenance | B22: OAPEN | C22: 53 | D22: 31 | E22: 44 | F22: 28 | G22: 37 | H22: 42 | I22: 15 | J22: 15 | K22: 15 | L22: 17 | M22: 28 | N22: 21 | O22: =SUM(C22:N22) -> 346
A23: Beyond Provenance | B23: JSTOR | C23: 94 | D23: 89 | E23: 41 | F23: 22 | G23: 41 | H23: 44 | I23: 9 | J23: 26 | K23: 41 | L23: 90 | M23: 65 | N23: 36 | O23: =SUM(C23:N23) -> 598
A24: Beyond Provenance | B24: Project Muse | O24: =SUM(C24:N24) -> 0
A25: Images of Immigrants and Refugees in Western Europe | B25: OAPEN | C25: 210 | D25: 198 | E25: 203 | F25: 205 | G25: 254 | H25: 170 | I25: 145 | J25: 137 | K25: 168 | L25: 236 | M25: 290 | N25: 275 | O25: =SUM(C25:N25) -> 2491
A26: Images of Immigrants and Refugees in Western Europe | B26: JSTOR | C26: 322 | D26: 387 | E26: 567 | F26: 521 | G26: 430 | H26: 243 | I26: 219 | J26: 203 | K26: 247 | L26: 550 | M26: 597 | N26: 463 | O26: =SUM(C26:N26) -> 4749
A27: Images of Immigrants and Refugees in Western Europe | B27: Project Muse | C27: 44 | D27: 83 | E27: 122 | F27: 92 | G27: 66 | H27: 18 | I27: 11 | J27: 11 | K27: 21 | L27: 24 | M27: 74 | N27: 16 | O27: =SUM(C27:N27) -> 582
A28: Brokers of Modernity | B28: OAPEN | C28: 108 | D28: 256 | E28: 70 | F28: 80 | G28: 78 | H28: 108 | I28: 36 | J28: 30 | K28: 50 | L28: 84 | M28: 62 | N28: 56 | O28: =SUM(C28:N28) -> 1018
A29: Brokers of Modernity | B29: JSTOR | C29: 257 | D29: 268 | E29: 377 | F29: 299 | G29: 220 | H29: 151 | I29: 135 | J29: 163 | K29: 208 | L29: 310 | M29: 338 | N29: 198 | O29: =SUM(C29:N29) -> 2924
A30: Brokers of Modernity | B30: Project Muse | C30: 9 | D30: 27 | E30: 73 | F30: 50 | G30: 70 | H30: 42 | I30: 21 | J30: 89 | K30: 109 | L30: 50 | M30: 83 | N30: 57 | O30: =SUM(C30:N30) -> 680
A31: Gender and Christianity in Modern Europe | B31: OAPEN | C31: 77 | D31: 58 | E31: 51 | F31: 36 | G31: 55 | H31: 30 | I31: 10 | J31: 7 | K31: 5 | L31: 51 | M31: 43 | N31: 37 | O31: =SUM(C31:N31) -> 460
A32: Gender and Christianity in Modern Europe | B32: JSTOR | C32: 116 | D32: 80 | E32: 155 | F32: 106 | G32: 101 | H32: 54 | I32: 57 | J32: 57 | K32: 75 | L32: 106 | M32: 133 | N32: 82 | O32: =SUM(C32:N32) -> 1122
A33: Gender and Christianity in Modern Europe | B33: Project Muse | C33: 41 | D33: 44 | E33: 116 | F33: 75 | G33: 53 | H33: 24 | I33: 28 | J33: 45 | K33: 26 | L33: 52 | M33: 43 | N33: 38 | O33: =SUM(C33:N33) -> 585
A34: New Multicultural Identities in Europe | B34: OAPEN | C34: 41 | D34: 36 | E34: 46 | F34: 31 | G34: 40 | H34: 27 | I34: 16 | J34: 12 | K34: 17 | L34: 27 | M34: 37 | N34: 34 | O34: =SUM(C34:N34) -> 364
A35: New Multicultural Identities in Europe | B35: JSTOR | C35: 121 | D35: 88 | E35: 102 | F35: 122 | G35: 79 | H35: 95 | I35: 82 | J35: 49 | K35: 93 | L35: 149 | M35: 161 | N35: 102 | O35: =SUM(C35:N35) -> 1243
A36: New Multicultural Identities in Europe | B36: Project Muse | C36: 4 | D36: 9 | E36: 35 | F36: 10 | G36: 52 | H36: 5 | I36: 7 | J36: 19 | K36: 8 | L36: 5 | M36: 16 | N36: 12 | O36: =SUM(C36:N36) -> 182
... A45: A Small Nation in the Turmoil of the Second World War | B45: Project Muse | C45: 75 | D45: 24 | E45: 101 | F45: 110 | G45: 182 | H45: 16 | I45: 22 | J45: 39 | K45: 22 | L45: 65 | M45: 87 | N45: 24 | O45: =SUM(C45:N45) -> 767
A46: Mapping Landscapes in Transformation | B46: OAPEN | C46: =44+7+5+28+9+36+9+4+16+2+3+8+8 -> 179 | D46: =61+4+5+16+21+31+7+7+18+3+18+11+4 -> 206 | E46: =28+15+11+12+2+11+11+1+5+3+2+9+6 -> 116 | F46: =47+32+5+1+9 -> 94 | G46: =2+18+4+4+3+7+3+4+4+1+3+42+3 -> 98 | H46: =5+8+8+2+2+5+4+8+9+3+1+45+5 -> 105 | I46: =3+6+5+6+2+3+5+6+9+2+32+2 -> 81 | J46: =18+3+6+1+6+3+18+7+3 -> 65 | K46: =29+2+23+7+6+7+6+7+4+29+7 -> 127 | L46: =11+14+6+13+10+1+11+9+8+8+1+4+21 -> 117 | M46: =25+19+11+24+10+15+10+12+10+7+17+8+41 -> 209 | N46: =10+21+10+9+13+9+17+4+5+7+2+6+33 -> 146 | O46: =SUM(C46:N46) -> 1543
A47: Mapping Landscapes in Transformation | B47: JSTOR | C47: 90 | D47: 187 | E47: 225 | F47: 168 | G47: 142 | H47: 85 | I47: 118 | J47: 172 | K47: 159 | L47: 186 | M47: 240 | N47: 265 | O47: =SUM(C47:N47) -> 2037
A48: Mapping Landscapes in Transformation | B48: Project Muse | O48: =SUM(C48:N48) -> 0
A49: Modern Islamic Thinking and Activism | B49: OAPEN | C49: 90 | D49: 96 | E49: 81 | F49: 44 | G49: 18 | H49: 39 | I49: 11 | J49: 13 | K49: 18 | L49: 41 | M49: 51 | N49: 65 | O49: =SUM(C49:N49) -> 567
A50: Modern Islamic Thinking and Activism | B50: JSTOR | C50: 121 | D50: 96 | E50: 160 | F50: 123 | G50: 119 | H50: 95 | I50: 79 | J50: 31 | K50: 93 | L50: 129 | M50: 255 | N50: 95 | O50: =SUM(C50:N50) -> 1396
A51: Modern Islamic Thinking and Activism | B51: Project Muse | C51: 8 | D51: 30 | E51: 76 | F51: 70 | G51: 85 | H51: 14 | I51: 12 | J51: 15 | K51: 22 | L51: 20 | M51: 39 | N51: 37 | O51: =SUM(C51:N51) -> 428
A52: Alles verandert altijd | B52: OAPEN | C52: 62 | D52: 38 | E52: 43 | F52: 36 | G52: 66 | H52: 79 | I52: 29 | J52: 29 | K52: 28 | L52: 31 | M52: 63 | N52: 19 | O52: =SUM(C52:N52) -> 523
A53: Alles verandert altijd | B53: JSTOR | C53: 29 | D53: 53 | E53: 56 | F53: 26 | G53: 49 | H53: 64 | I53: 73 | J53: 32 | K53: 47 | L53: 68 | M53: 114 | N53: 54 | O53: =SUM(C53:N53) -> 665
A54: Alles verandert altijd | B54: Project Muse | C54: 109 | D54: 51 | E54: 204 | F54: 142 | G54: =43+73 -> 116 | H54: 82 | I54: =21+26 -> 47 | J54: 70 | K54: 60 | L54: 109 | M54: 72 | N54: 54 | O54: =SUM(C54:N54) -> 1116
A55: Militant Jihadism | B55: OAPEN | C55: 27 | D55: 23 | E55: 41 | F55: 28 | G55: 38 | H55: 27 | I55: 89 | J55: 18 | K55: 39 | L55: 47 | M55: 21 | N55: 15 | O55: =SUM(C55:N55) -> 413
A56: Militant Jihadism | B56: JSTOR | C56: 76 | D56: 102 | E56: 104 | F56: 136 | G56: 92 | H56: 90 | I56: 58 | J56: 62 | K56: 98 | L56: 93 | M56: 151 | N56: 57 | O56: =SUM(C56:N56) -> 1119
A57: Militant Jihadism | B57: Project Muse | C57: 9 | D57: 59 | E57: 17 | F57: 44 | G57: 62 | H57: 5 | I57: 5 | J57: 7 | K57: 4 | L57: 7 | M57: 25 | N57: 21 | O57: =SUM(C57:N57) -> 265
A58: Participatiegolven | B58: OAPEN | C58: 47 | D58: 28 | E58: 29 | F58: 21 | G58: 29 | H58: 22 | I58: 4 | J58: 10 | K58: 30 | L58: 20 | M58: 24 | N58: 28 | O58: =SUM(C58:N58) -> 292
A59: Participatiegolven | B59: JSTOR | C59: 63 | D59: 39 | E59: 40 | F59: 28 | G59: 25 | H59: 16 | I59: 14 | J59: 17 | K59: 39 | L59: 41 | M59: 34 | N59: 34 | O59: =SUM(C59:N59) -> 390
A60: Participatiegolven | B60: Project Muse | C60: 29 | D60: 36 | E60: 50 | F60: 111 | G60: =34+56 -> 90 | H60: 37 | I60: 15 | J60: =6+35 -> 41 | K60: 12 | L60: 24 | M60: 37 | N60: 57 | O60: =SUM(C60:N60) -> 539
A61: Financing Quality Education for All | B61: OAPEN | C61: 21 | D61: 37 | E61: 36 | F61: 18 | G61: 13 | H61: 11 | I61: 11 | J61: 9 | K61: 31 | L61: 28 | M61: 19 | N61: 21 | O61: =SUM(C61:N61) -> 255
A62: Financing Quality Education for All | B62: JSTOR | C62: 162 | D62: 227 | E62: 315 | F62: 349 | G62: 274 | H62: 152 | I62: 122 | J62: 132 | K62: 338 | L62: 396 | M62: 462 | N62: 256 | O62: =SUM(C62:N62) -> 3185
A63: Financing Quality Education for All | B63: Project Muse | C63: 18 | D63: 35 | E63: 27 | F63: 25 | G63: 58 | H63: 4 | I63: 13 | J63: =17+5 -> 22 | K63: 35 | L63: 7 | M63: 13 | N63: 20 | O63: =SUM(C63:N63) -> 277
A64: As German as Kafka | B64: OAPEN | C64: 36 | D64: 33 | E64: 34 | F64: 13 | G64: 79 | H64: 111 | I64: 44 | J64: 60 | K64: 73 | L64: 51 | M64: 48 | N64: 54 | O64: =SUM(C64:N64) -> 636
A65: As German as Kafka | B65: JSTOR | C65: 37 | D65: 32 | E65: 51 | F65: 22 | G65: 37 | H65: 25 | I65: 27 | J65: 30 | K65: 23 | L65: 30 | M65: 30 | N65: 29 | O65: =SUM(C65:N65) -> 373
A66: As German as Kafka | B66: Project Muse | C66: 6 | D66: 3 | E66: 39 | F66: 66 | G66: =25+71 -> 96 | H66: 39 | I66: =32+9 -> 41 | J66: =60+66 -> 126 | K66: 41 | L66: 49 | M66: 63 | N66: 65 | O66: =SUM(C66:N66) -> 634
A67: Oil Wealth and Development in Uganda and Beyond | B67: OAPEN | C67: 54 | D67: 26 | E67: 30 | F67: 18 | G67: 70 | H67: 52 | I67: 33 | J67: 32 | K67: 63 | L67: 40 | M67: 35 | N67: 101 | O67: =SUM(C67:N67) -> 554
A68: Oil Wealth and Development in Uganda and Beyond | B68: JSTOR | C68: 308 | D68: 235 | E68: 355 | F68: 293 | G68: 238 | H68: 195 | I68: 117 | J68: 177 | K68: 202 | L68: 194 | M68: 224 | N68: 179 | O68: =SUM(C68:N68) -> 2717
A69: Oil Wealth and Development in Uganda and Beyond | B69: Project Muse | C69: 51 | D69: 118 | E69: 79 | F69: 87 | G69: 91 | H69: =34+57 -> 91 | I69: 20 | J69: =4+39 -> 43 | K69: 61 | L69: 47 | M69: 42 | N69: 41 | O69: =SUM(C69:N69) -> 771
A70: European Perspectives for Public Administration | B70: OAPEN | C70: 172 | D70: 153 | E70: 148 | F70: 109 | G70: 77 | H70: 76 | I70: 77 | J70: 79 | K70: 88 | L70: 75 | M70: 147 | N70: 153 | O70: =SUM(C70:N70) -> 1354
A71: European Perspectives for Public Administration | B71: JSTOR | C71: 677 | D71: 519 | E71: 400 | F71: 351 | G71: 336 | H71: 300 | I71: 273 | J71: 243 | K71: 534 | L71: 739 | M71: 444 | N71: 362 | O71: =SUM(C71:N71) -> 5178
A72: European Perspectives for Public Administration | B72: Project Muse | C72: 58 | D72: 54 | E72: 65 | F72: 68 | G72: =48+54 -> 102 | H72: 24 | I72: =14+45 -> 59 | J72: =19+16 -> 35 | K72: 81 | L72: 42 | M72: 50 | N72: 62 | O72: =SUM(C72:N72) -> 700
A73: Plutarch's Science of Natural Problems | B73: OAPEN | C73: 25 | D73: 26 | E73: 11 | F73: 4 | G73: 20 | H73: 7 | I73: 6 | J73: 7 | K73: 24 | L73: 37 | M73: 32 | N73: 41 | O73: =SUM(C73:N73) -> 240
A74: Plutarch's Science of Natural Problems | B74: JSTOR | C74: 49 | D74: 22 | E74: 15 | F74: 11 | G74: 17 | H74: 7 | I74: 19 | J74: 6 | K74: 10 | L74: 6 | M74: 8 | N74: 4 | O74: =SUM(C74:N74) -> 174
A75: Plutarch's Science of Natural Problems | B75: Project Muse | C75: 0 | D75: 19 | E75: 48 | F75: 46 | G75: 141 | H75: 27 | I75: 34 | J75: 44 | K75: 35 | L75: 48 | M75: 32 | N75: 37 | O75: =SUM(C75:N75) -> 511
A76: Across Anthropology | B76: OAPEN | C76: 609 | D76: 513 | E76: 315 | F76: 381 | G76: 474 | H76: 348 | I76: 240 | J76: 249 | K76: 288 | L76: 318 | M76: 450 | N76: 327 | O76: =SUM(C76:N76) -> 4512
B77: JSTOR | C77: 615 | D77: 749 | E77: 858 | F77: 839 | G77: 604 | H77: 625 | I77: 390 | J77: 487 | K77: 575 | L77: 706 | M77: 818 | N77: 854 | O77: =SUM(C77:N77) -> 8120
B78: Project Muse | C78: 219 | D78: 219 | E78: 232 | F78: 168 | G78: 400 | H78: 155 | I78: =65+186 -> 251 | J78: =50+148 -> 198 | K78: 241 | L78: 159 | M78: 114 | N78: 140 | O78: =SUM(C78:N78) -> 2496
A79: Migration at Work | B79: OAPEN | C79: 59 | D79: 63 | E79: 81 | F79: 48 | G79: 64 | H79: 25 | I79: 23 | J79: 36 | K79: 39 | L79: 54 | M79: 38 | N79: 29 | O79: =SUM(C79:N79) -> 559
B80: JSTOR | C80: 76 | D80: 82 | E80: 134 | F80: 100 | G80: 140 | H80: 91 | I80: 63 | J80: 60 | K80: 97 | L80: 126 | M80: 81 | N80: 79 | O80: =SUM(C80:N80) -> 1129
B81: Project Muse | C81: 69 | D81: 54 | E81: 16 | F81: 38 | G81: 64 | H81: 14 | I81: 7 | J81: =18+14 -> 32 | K81: 17 | L81: 19 | M81: 32 | N81: 23 | O81: =SUM(C81:N81) -> 385
A82: Arrival Cities | B82: OAPEN | C82: =168+3 -> 171 | D82: 136 | E82: 98 | F82: 86 | G82: 106 | H82: 112 | I82: 64 | J82: 54 | K82: 60 | L82: 56 | M82: 80 | N82: 106 | O82: =SUM(C82:N82) -> 1129
B83: JSTOR | C83: 259 | D83: 243 | E83: 271 | F83: 275 | G83: 218 | H83: 243 | I83: 162 | J83: 199 | K83: 237 | L83: 340 | M83: 346 | N83: 268 | O83: =SUM(C83:N83) -> 3061
B84: Project Muse | C84: 131 | D84: 192 | E84: 169 | F84: 216 | G84: 108 | H84: =49+65 -> 114 | I84: =12+97 -> 109 | J84: =18+30 -> 48 | K84: 97 | L84: 51 | M84: 130 | N84: 149 | O84: =SUM(C84:N84) -> 1514
A85: The Figure of Knowledge | B85: OAPEN | C85: 23 | D85: 53 | E85: 101 | F85: 44 | G85: 18 | H85: 33 | I85: 15 | J85: 17 | K85: 22 | L85: 26 | M85: 24 | N85: 31 | O85: =SUM(C85:N85) -> 407
B86: JSTOR | C86: 396 | D86: 388 | E86: 813 | F86: 561 | G86: 446 | H86: 343 | I86: 352 | J86: 339 | K86: 413 | L86: 593 | M86: 586 | N86: 458 | O86: =SUM(C86:N86) -> 5688
B87: Project Muse | C87: 5 | D87: 134 | E87: 108 | F87: 137 | G87: =89+47 -> 136 | H87: =53+16 -> 69 | I87: 62 | J87: =61+72 -> 133 | K87: 125 | L87: 127 | M87: 166 | N87: 160 | O87: =SUM(C87:N87) -> 1362
A88: Children's Literature | B88: OAPEN | C88: 672 | D88: 549 | E88: 439 | F88: 424 | G88: 653 | H88: 475 | I88: 126 | J88: 271 | K88: 370 | L88: 591 | M88: 540 | N88: 542 | O88: =SUM(C88:N88) -> 5652
B89: JSTOR | C89: 459 | D89: 480 | E89: 688 | F89: 579 | G89: 437 | H89: 275 | I89: 233 | J89: 348 | K89: 523 | L89: 708 | M89: 724 | N89: 564 | O89: =SUM(C89:N89) -> 6018
B90: Project Muse | C90: 108 | D90: 124 | E90: 132 | F90: 180 | G90: =107+69 -> 176 | H90: =72+26 -> 98 | I90: =63+19 -> 82 | J90: =72+24 -> 96 | K90: 128 | L90: 192 | M90: 211 | N90: 168 | O90: =SUM(C90:N90) -> 1695
A91: Turkish German Muslims | B91: OAPEN | C91: 193 | D91: 130 | E91: 118 | F91: 93 | G91: 420 | H91: 193 | I91: 30 | J91: 65 | K91: 55 | L91: 176 | M91: 89 | N91: 87 | O91: =SUM(C91:N91) -> 1649
B92: JSTOR | C92: 41 | D92: 65 | E92: 90 | F92: 82 | G92: 65 | H92: 45 | I92: 36 | J92: 12 | K92: 59 | L92: 54 | M92: 82 | N92: 40 | O92: =SUM(C92:N92) -> 671
B93: Project Muse | C93: 37 | D93: 79 | E93: 27 | F93: 15 | G93: =18+33 -> 51 | H93: =6+18 -> 24 | I93: =3+19 -> 22 | J93: 34 | K93: 30 | L93: 54 | M93: 76 | N93: 100 | O93: =SUM(C93:N93) -> 549
A94: Dialogen over België | B94: OAPEN | C94: 25 | D94: 25 | E94: 11 | F94: 6 | G94: 24 | H94: 21 | I94: 6 | J94: 7 | K94: 19 | L94: 21 | M94: 13 | N94: 9 | O94: =SUM(C94:N94) -> 187
B95: JSTOR | C95: 13 | D95: 7 | E95: 16 | F95: 4 | G95: 30 | H95: 8 | I95: 7 | J95: 1 | K95: 9 | L95: 2 | M95: 6 | N95: 14 | O95: =SUM(C95:N95) -> 117
B96: Project Muse | C96: 0 | D96: 1 | E96: 14 | F96: 73 | G96: =33+331 -> 364 | H96: =2+214 -> 216 | I96: 28 | J96: 91 | K96: 87 | L96: 151 | M96: 122 | N96: 103 | O96: =SUM(C96:N96) -> 1250
A97: Performing Hysteria | B97: OAPEN | C97: 288 | D97: 302 | E97: 240 | F97: 242 | G97: 186 | H97: 134 | I97: 118 | J97: 162 | K97: 434 | L97: 388 | M97: 470 | N97: 246 | O97: =SUM(C97:N97) -> 3210
B98: JSTOR | C98: 739 | D98: 856 | E98: 1272 | F98: 1167 | G98: 977 | H98: 433 | I98: 472 | J98: 458 | K98: 778 | L98: 1137 | M98: 1255 | N98: 868 | O98: =SUM(C98:N98) -> 10412
B99: Project Muse | C99: 71 | D99: 259 | E99: 238 | F99: 184 | G99: =64+77 -> 141 | H99: =32+24 -> 56 | I99: =30+18 -> 48 | J99: =60+35 -> 95 | K99: 115 | L99: 108 | M99: 164 | N99: 151 | O99: =SUM(C99:N99) -> 1630
A100: Mongameli Mabona | B100: OAPEN | C100: 43 | D100: 43 | E100: 25 | F100: 23 | G100: 17 | H100: 22 | I100: 8 | J100: 5 | K100: 9 | L100: 12 | M100: 9 | N100: 11 | O100: =SUM(C100:N100) -> 227
B101: JSTOR | C101: 35 | D101: 43 | E101: 42 | F101: 35 | G101: 54 | H101: 20 | I101: 39 | J101: 29 | K101: 44 | L101: 41 | M101: 41 | N101: 20 | O101: =SUM(C101:N101) -> 443
B102: Project Muse | C102: 44 | D102: 60 | E102: 61 | F102: 10 | G102: =27+48 -> 75 | H102: 7 | I102: 46 | J102: =47+15 -> 62 | K102: 74 | L102: 28 | M102: 40 | N102: 61 | O102: =SUM(C102:N102) -> 568
A103: Public Administration in Ethiopia | B103: OAPEN | C103: 601 | D103: 435 | E103: 240 | F103: 201 | G103: 307 | H103: 288 | I103: 70 | J103: 69 | K103: 89 | L103: 166 | M103: 175 | N103: 168 | O103: =SUM(C103:N103) -> 2809
B104: JSTOR | C104: 2096 | D104: 746 | E104: 444 | F104: 476 | G104: 591 | H104: 482 | I104: 398 | J104: 336 | K104: 349 | L104: 638 | M104: 864 | N104: 1094 | O104: =SUM(C104:N104) -> 8514
B105: Project Muse | C105: 226 | D105: 92 | E105: 153 | F105: 123 | G105: =208+241 -> 449 | H105: =241+187 -> 428 | I105: =193+202 -> 395 | J105: =257+201 -> 458 | K105: 420 | L105: 1069 | M105: 1304 | N105: 1364 | O105: =SUM(C105:N105) -> 6481
A106: Revival after the Great War | B106: OAPEN | C106: 88 | D106: 66 | E106: 80 | F106: 24 | G106: 56 | H106: 29 | I106: 22 | J106: 19 | K106: 22 | L106: 49 | M106: 37 | N106: 38 | O106: =SUM(C106:N106) -> 530
B107: JSTOR | C107: 271 | D107: 225 | E107: 274 | F107: 226 | G107: 270 | H107: 121 | I107: 146 | J107: 125 | K107: 208 | L107: 289 | M107: 257 | N107: 215 | O107: =SUM(C107:N107) -> 2627
B108: Project Muse | C108: 71 | D108: 113 | E108: 146 | F108: 94 | G108: =61+92 -> 153 | H108: =15+23 -> 38 | I108: =41+19 -> 60 | J108: =69+18 -> 87 | K108: 71 | L108: 36 | M108: 45 | N108: 74 | O108: =SUM(C108:N108) -> 988
...

Sheet 2024
A1: User Statistics Open Access
A2: Title | B2: Platform | C2: 2024 | O2: total 2024 | Q2: Open Research Library
C3: Jan | D3: Feb | E3: March | F3: April | G3: May | H3: June | I3: July | J3: Aug | K3: Sept | L3: Oct | M3: Nov | N3: Dec
A4: Glass Making in the Greco-Roman World | B4: OAPEN | C4: 52 | D4: 71 | E4: 85 | F4: 99 | G4: 96 | H4: 25 | I4: 42 | J4: 39 | K4: 40 | L4: 58 | M4: 58 | N4: 48 | O4: =SUM(C4:N4) -> 713 | P4: book downloads | Q4: 0
B5: JSTOR | C5: 49 | D5: 39 | E5: 68 | F5: 87 | G5: 48 | H5: 27 | I5: 60 | J5: 69 | K5: 45 | L5: 52 | M5: 87 | N5: 120 | O5: =SUM(C5:N5) -> 751 | P5: chapter views + downloads
B6: Project Muse | O6: =SUM(C6:N6) -> 0 | P6: chapter views + downloads
A7: Experimental Affinities in Music | B7: OAPEN | C7: 55 | D7: 40 | E7: 63 | F7: 63 | G7: 51 | H7: 27 | I7: 35 | J7: 24 | K7: 41 | L7: 52 | M7: 64 | N7: 29 | O7: =SUM(C7:N7) -> 544
B8: JSTOR | C8: 85 | D8: 84 | E8: 107 | F8: 79 | G8: 95 | H8: 50 | I8: 38 | J8: 51 | K8: 68 | L8: 135 | M8: 88 | N8: 93 | O8: =SUM(C8:N8) -> 973
B9: Project Muse | O9: =SUM(C9:N9) -> 0
A10: Transpositions | B10: OAPEN | C10: 91 | D10: 69 | E10: 128 | F10: 78 | G10: 60 | H10: 66 | I10: 71 | J10: 33 | K10: 44 | L10: 54 | M10: 52 | N10: 34 | O10: =SUM(C10:N10) -> 780
A11: Transpositions | B11: JSTOR | C11: 101 | D11: 93 | E11: 133 | F11: 190 | G11: 127 | H11: 66 | I11: 68 | J11: 93 | K11: 125 | L11: 106 | M11: 128 | N11: 120 | O11: =SUM(C11:N11) -> 1350
A12: Transpositions | B12: Project Muse | O12: =SUM(C12:N12) -> 0
A13: Virtual Works – Actual Things | B13: OAPEN | C13: 38 | D13: 45 | E13: 79 | F13: 104 | G13: 108 | H13: 69 | I13: 78 | J13: 77 | K13: 64 | L13: 89 | M13: 91 | N13: 82 | O13: =SUM(C13:N13) -> 924
A14: Virtual Works – Actual Things | B14: JSTOR | C14: 124 | D14: 131 | E14: 188 | F14: 160 | G14: 148 | H14: 82 | I14: 54 | J14: 75 | K14: 66 | L14: 112 | M14: 146 | N14: 118 | O14: =SUM(C14:N14) -> 1404
A15: Virtual Works – Actual Things | B15: Project Muse | C15: 53 | D15: 70 | E15: 42 | F15: 30 | G15: 70 | H15: 61 | I15: 112 | J15: 60 | K15: 78 | L15: 84 | M15: 61 | N15: 110 | O15: =SUM(C15:N15) -> 831
A16: Logic of Experimentation | B16: OAPEN | C16: 77 | D16: 88 | E16: 127 | F16: 140 | G16: 144 | H16: 76 | I16: 71 | J16: 56 | K16: 73 | L16: 98 | M16: 89 | N16: 49 | O16: =SUM(C16:N16) -> 1088
A17: Logic of Experimentation | B17: JSTOR | C17: 77 | D17: 50 | E17: 90 | F17: 92 | G17: 103 | H17: 64 | I17: 79 | J17: 78 | K17: 98 | L17: 103 | M17: 58 | N17: 75 | O17: =SUM(C17:N17) -> 967
A18: Logic of Experimentation | B18: Project Muse | O18: =SUM(C18:N18) -> 0
A19: Powers of Divergence | B19: OAPEN | C19: 28 | D19: 37 | E19: 25 | F19: 36 | G19: 40 | H19: 19 | I19: 13 | J19: 18 | K19: 36 | L19: 51 | M19: 55 | N19: 31 | O19: =SUM(C19:N19) -> 389
A20: Powers of Divergence | B20: JSTOR | C20: 37 | D20: 109 | E20: 33 | F20: 33 | G20: 71 | H20: 23 | I20: 19 | J20: 63 | K20: 34 | L20: 45 | M20: 49 | N20: 48 | O20: =SUM(C20:N20) -> 564
A21: Powers of Divergence | B21: Project Muse | O21: =SUM(C21:N21) -> 0
A22: Beyond Provenance | B22: OAPEN | C22: 26 | D22: 34 | E22: 53 | F22: 52 | G22: 48 | H22: 22 | I22: 20 | J22: 33 | K22: 37 | L22: 34 | M22: 45 | N22: 28 | O22: =SUM(C22:N22) -> 432
A23: Beyond Provenance | B23: JSTOR | C23: 69 | D23: 38 | E23: 89 | F23: 48 | G23: 72 | H23: 26 | I23: 44 | J23: 49 | K23: 40 | L23: 14 | M23: 32 | N23: 65 | O23: =SUM(C23:N23) -> 586
A24: Beyond Provenance | B24: Project Muse | C24: 57 | D24: 44 | E24: 39 | F24: 46 | G24: 151 | H24: 46 | I24: 47 | J24: 24 | K24: 30 | L24: 53 | M24: 20 | N24: 40 | O24: =SUM(C24:N24) -> 597
A25: Images of Immigrants and Refugees in Western Europe | B25: OAPEN | C25: 217 | D25: 188 | E25: 193 | F25: 258 | G25: 243 | H25: 124 | I25: 126 | J25: 94 | K25: 123 | L25: 177 | M25: 162 | N25: 171 | O25: =SUM(C25:N25) -> 2076
A26: Images of Immigrants and Refugees in Western Europe | B26: JSTOR | C26: 447 | D26: 342 | E26: 512 | F26: 543 | G26: 375 | H26: 176 | I26: 186 | J26: 168 | K26: 253 | L26: 466 | M26: 376 | N26: 357 | O26: =SUM(C26:N26) -> 4201
A27: Images of Immigrants and Refugees in Western Europe | B27: Project Muse | C27: 81 | D27: 48 | E27: 75 | F27: 63 | G27: 86 | H27: 63 | I27: 67 | J27: 57 | K27: 113 | L27: 61 | M27: 81 | N27: 84 | O27: =SUM(C27:N27) -> 879
A28: Brokers of Modernity | B28: OAPEN | C28: 84 | D28: 52 | E28: 58 | F28: 70 | G28: 94 | H28: 74 | I28: 168 | J28: 84 | K28: 110 | L28: 74 | M28: 100 | N28: 40 | O28: =SUM(C28:N28) -> 1008
A29: Brokers of Modernity | B29: JSTOR | C29: 212 | D29: 292 | E29: 384 | F29: 249 | G29: 266 | H29: 91 | I29: 92 | J29: 127 | K29: 207 | L29: 277 | M29: 293 | N29: 235 | O29: =SUM(C29:N29) -> 2725
A30: Brokers of Modernity | B30: Project Muse | C30: 101 | D30: 240 | E30: 171 | F30: 118 | G30: 165 | H30: 94 | I30: 192 | J30: 94 | K30: 84 | L30: 180 | M30: 72 | N30: 111 | O30: =SUM(C30:N30) -> 1622
A31: Gender and Christianity in Modern Europe | B31: OAPEN | C31: 40 | D31: 33 | E31: 168 | F31: 83 | G31: 51 | H31: 30 | I31: 19 | J31: 36 | K31: 24 | L31: 22 | M31: 6 | N31: 29 | O31: =SUM(C31:N31) -> 541
A32: Gender and Christianity in Modern Europe | B32: JSTOR | C32: 96 | D32: 88 | E32: 146 | F32: 167 | G32: 87 | H32: 66 | I32: 75 | J32: 51 | K32: 96 | L32: 99 | M32: 96 | N32: 91 | O32: =SUM(C32:N32) -> 1158
A33: Gender and Christianity in Modern Europe | B33: Project Muse | C33: 75 | D33: 128 | E33: 118 | F33: 99 | G33: 166 | H33: 112 | I33: 129 | J33: 96 | K33: 76 | L33: 117 | M33: 99 | N33: 126 | O33: =SUM(C33:N33) -> 1341
... A45: A Small Nation in the Turmoil of the Second World War | B45: Project Muse | C45: 57 | D45: 130 | E45: 120 | F45: 90 | G45: 154 | H45: 87 | I45: 94 | J45: 72 | K45: 70 | L45: 75 | M45: 129 | N45: 204 | O45: =SUM(C45:N45) -> 1282
A46: Mapping Landscapes in Transformation | B46: OAPEN | C46: =46+16+13+11+10+6+5+30+17+13+13+8+12+9+7+6 -> 222 | D46: =45+5+14+4+14+3+13+5+20+15+47+5+13+21+5+2+3 -> 234 | E46: =49+7+20+10+6+14+12+29+17+18+4+5+13+7+3+15 -> 229 | F46: =28+18+21+16+17+28+12+24+15+29+16+14+28+13+23+22 -> 324 | G46: =33+5+20+11+9+14+10+16+5+13+10+13+8+5+6+6 -> 184 | H46: =45+5+7+8+2+9+16+12+4+24+13+11+6+9+7+1 -> 179 | I46: =7+7+14+7+1+2+9+2+5+3+26+7+14+30+12+35 -> 181 | J46: =11+1+3+3+3+4+5+7+7+9+13+15+17+20+32 -> 150 | K46: =13+11+14+12+10+8+2+5+6+1+20+13+11+9+23+42 -> 200 | L46: =7+6+16+6+3+5+13+9+7+6+16+14+13+14+12+43 -> 190 | M46: =9+11+7+8+5+9+3+4+10+8+32+16+5+16+9+38 -> 190 | N46: =23+8+5+6+10+5+7+11+14+6+14+4+4 -> 117 | O46: =SUM(C46:N46) -> 2400
A47: Mapping Landscapes in Transformation | B47: JSTOR | C47: 233 | D47: 206 | E47: 185 | F47: 254 | G47: 182 | H47: 114 | I47: 138 | J47: 116 | K47: 240 | L47: 204 | M47: 209 | N47: 215 | O47: =SUM(C47:N47) -> 2296
A48: Mapping Landscapes in Transformation | B48: Project Muse | O48: =SUM(C48:N48) -> 0
A49: Modern Islamic Thinking and Activism | B49: OAPEN | C49: 62 | D49: 63 | E49: 70 | F49: 56 | G49: 68 | H49: 59 | I49: 30 | J49: 45 | K49: 52 | L49: 60 | M49: 44 | N49: 38 | O49: =SUM(C49:N49) -> 647
A50: Modern Islamic Thinking and Activism | B50: JSTOR | C50: 58 | D50: 68 | E50: 95 | F50: 103 | G50: 442 | H50: 67 | I50: 66 | J50: 51 | K50: 66 | L50: 120 | M50: 135 | N50: 96 | O50: =SUM(C50:N50) -> 1367
A51: Modern Islamic Thinking and Activism | B51: Project Muse | C51: 37 | D51: 82 | E51: 217 | F51: 168 | G51: 187 | H51: 129 | I51: 140 | J51: 152 | K51: 111 | L51: 98 | M51: 145 | N51: 132 | O51: =SUM(C51:N51) -> 1598
A52: Alles verandert altijd | B52: OAPEN | C52: 0 | D52: 0 | E52: 0 | F52: 0 | G52: 0 | H52: 0 | I52: 0 | J52: 0 | K52: 0 | L52: 0 | M52: 0 | N52: 0 | O52: =SUM(C52:N52) -> 0
A53: Alles verandert altijd | B53: JSTOR | C53: 33 | D53: 60 | E53: 21 | F53: 45 | G53: 40 | H53: 48 | I53: 13 | J53: 16 | K53: 31 | L53: 54 | M53: 66 | N53: 76 | O53: =SUM(C53:N53) -> 503
A54: Alles verandert altijd | B54: Project Muse | C54: 127 | D54: 186 | E54: 260 | F54: 111 | G54: 293 | H54: 259 | I54: 205 | J54: 125 | K54: 239 | L54: 250 | M54: 225 | N54: 226 | O54: =SUM(C54:N54) -> 2506
A55: Militant Jihadism | B55: OAPEN | C55: 52 | D55: 37 | E55: 52 | F55: 69 | G55: 39 | H55: 25 | I55: 52 | J55: 20 | K55: 29 | L55: 52 | M55: 36 | N55: 40 | O55: =SUM(C55:N55) -> 503
A56: Militant Jihadism | B56: JSTOR | C56: 100 | D56: 141 | E56: 87 | F56: 112 | G56: 98 | H56: 53 | I56: 56 | J56: 46 | K56: 99 | L56: 177 | M56: 151 | N56: 97 | O56: =SUM(C56:N56) -> 1217
A57: Militant Jihadism | B57: Project Muse | C57: 55 | D57: 29 | E57: 43 | F57: 44 | G57: 116 | H57: 56 | I57: 114 | J57: 78 | K57: 52 | L57: 105 | M57: 62 | N57: 98 | O57: =SUM(C57:N57) -> 852
A58: Participatiegolven | B58: OAPEN | C58: 39 | D58: 28 | E58: 28 | F58: 64 | G58: 49 | H58: 29 | I58: 10 | J58: 25 | K58: 9 | L58: 32 | M58: 32 | N58: 30 | O58: =SUM(C58:N58) -> 375
A59: Participatiegolven | B59: JSTOR | C59: 26 | D59: 22 | E59: 36 | F59: 37 | G59: 31 | H59: 10 | I59: 29 | J59: 12 | K59: 2 | L59: 20 | M59: 25 | N59: 19 | O59: =SUM(C59:N59) -> 269
A60: Participatiegolven | B60: Project Muse | C60: 107 | D60: 86 | E60: 85 | F60: 139 | G60: 168 | H60: 159 | I60: 94 | J60: 30 | K60: 43 | L60: 64 | M60: 101 | N60: 97 | O60: =SUM(C60:N60) -> 1173
... A76: Across Anthropology | B76: OAPEN | C76: 291 | D76: 354 | E76: 309 | F76: 357 | G76: 213 | H76: 132 | I76: 189 | J76: 189 | K76: 216 | L76: 411 | M76: 324 | N76: 198 | O76: =SUM(C76:N76) -> 3183
B77: JSTOR | C77: 636 | D77: 663 | E77: 755 | F77: 802 | G77: 700 | H77: 448 | I77: 358 | J77: 314 | K77: 758 | L77: 863 | M77: 817 | N77: 570 | O77: =SUM(C77:N77) -> 7684
B78: Project Muse | C78: 400 | D78: 282 | E78: 257 | F78: 270 | G78: 406 | H78: 319 | I78: 233 | J78: 146 | K78: 167 | L78: 242 | M78: 201 | N78: 347 | O78: =SUM(C78:N78) -> 3270
A79: Migration at Work | B79: OAPEN | C79: 44 | D79: 65 | E79: 83 | F79: 79 | G79: 57 | H79: 55 | I79: 49 | J79: 71 | K79: 82 | L79: 69 | M79: 48 | N79: 39 | O79: =SUM(C79:N79) -> 741
B80: JSTOR | C80: 100 | D80: 93 | E80: 112 | F80: 109 | G80: 79 | H80: 38 | I80: 76 | J80: 114 | K80: 83 | L80: 125 | M80: 70 | N80: 49 | O80: =SUM(C80:N80) -> 1048
B81: Project Muse | C81: 79 | D81: 70 | E81: 66 | F81: 75 | G81: 119 | H81: 82 | I81: 52 | J81: 46 | K81: 115 | L81: 133 | M81: 82 | N81: 87 | O81: =SUM(C81:N81) -> 1006
A82: Arrival Cities | B82: OAPEN | C82: 84 | D82: 128 | E82: 122 | F82: 168 | G82: 130 | H82: 104 | I82: 90 | J82: 88 | K82: 86 | L82: 118 | M82: 104 | N82: 76 | O82: =SUM(C82:N82) -> 1298
B83: JSTOR | C83: 230 | D83: 306 | E83: 374 | F83: 404 | G83: 228 | H83: 132 | I83: 129 | J83: 142 | K83: 207 | L83: 221 | M83: 307 | N83: 248 | O83: =SUM(C83:N83) -> 2928
B84: Project Muse | C84: 3306 | D84: 279 | E84: 334 | F84: 180 | G84: 299 | H84: 206 | I84: 334 | J84: 210 | K84: 133 | L84: 234 | M84: 132 | N84: 183 | O84: =SUM(C84:N84) -> 5830
A85: The Figure of Knowledge | B85: OAPEN | C85: 26 | D85: 43 | E85: 27 | F85: 49 | G85: 50 | H85: 49 | I85: 41 | J85: 35 | K85: 44 | L85: 46 | M85: 50 | N85: 38 | O85: =SUM(C85:N85) -> 498
B86: JSTOR | C86: 393 | D86: 579 | E86: 627 | F86: 531 | G86: 477 | H86: 349 | I86: 327 | J86: 318 | K86: 459 | L86: 715 | M86: 540 | N86: 418 | O86: =SUM(C86:N86) -> 5733
B87: Project Muse | C87: 230 | D87: 210 | E87: 210 | F87: 207 | G87: 317 | H87: 226 | I87: 200 | J87: 150 | K87: 196 | L87: 216 | M87: 275 | N87: 280 | O87: =SUM(C87:N87) -> 2717
A88: Children's Literature | B88: OAPEN | C88: 564 | D88: 449 | E88: 529 | F88: 541 | G88: 542 | H88: 359 | I88: 263 | J88: 313 | K88: 335 | L88: 400 | M88: 456 | N88: 313 | O88: =SUM(C88:N88) -> 5064
B89: JSTOR | C89: 474 | D89: 670 | E89: 639 | F89: 715 | G89: 558 | H89: 346 | I89: 280 | J89: 273 | K89: 318 | L89: 615 | M89: 752 | N89: 539 | O89: =SUM(C89:N89) -> 6179
B90: Project Muse | C90: 279 | D90: 294 | E90: 272 | F90: 460 | G90: 426 | H90: 226 | I90: 227 | J90: 284 | K90: 266 | L90: 286 | M90: 287 | N90: 264 | O90: =SUM(C90:N90) -> 3571
A91: Turkish German Muslims | B91: OAPEN | C91: 52 | D91: 41 | E91: 48 | F91: 55 | G91: 48 | H91: 30 | I91: 38 | J91: 16 | K91: 9 | L91: 29 | M91: 28 | N91: 20 | O91: =SUM(C91:N91) -> 414
B92: JSTOR | C92: 37 | D92: 44 | E92: 40 | F92: 97 | G92: 67 | H92: 24 | I92: 12 | J92: 33 | K92: 39 | L92: 43 | M92: 68 | N92: 53 | O92: =SUM(C92:N92) -> 557
B93: Project Muse | C93: 125 | D93: 116 | E93: 112 | F93: 123 | G93: 178 | H93: 154 | I93: 101 | J93: 146 | K93: 113 | L93: 118 | M93: 91 | N93: 129 | O93: =SUM(C93:N93) -> 1506
A94: Dialogen over België | B94: OAPEN | C94: 17 | D94: 20 | E94: 17 | F94: 27 | G94: 21 | H94: 20 | I94: 6 | J94: 12 | K94: 16 | L94: 19 | M94: 8 | N94: 17 | O94: =SUM(C94:N94) -> 200
B95: JSTOR | C95: 4 | D95: 5 | E95: 11 | F95: 7 | G95: 11 | H95: 6 | I95: 24 | J95: 2 | K95: 3 | L95: 17 | M95: 13 | N95: 11 | O95: =SUM(C95:N95) -> 114
B96: Project Muse | C96: 154 | D96: 99 | E96: 71 | F96: 56 | G96: 79 | H96: 131 | I96: 72 | J96: 40 | K96: 11 | L96: 25 | M96: 8 | N96: 4 | O96: =SUM(C96:N96) -> 750
A97: Performing Hysteria | B97: OAPEN | C97: 188 | D97: 196 | E97: 246 | F97: 276 | G97: 176 | H97: 178 | I97: 134 | J97: 172 | K97: 288 | L97: 268 | M97: 230 | N97: 148 | O97: =SUM(C97:N97) -> 2500
B98: JSTOR | C98: 932 | D98: 1167 | E98: 1265 | F98: 1547 | G98: 951 | H98: 371 | I98: 385 | J98: 444 | K98: 854 | L98: 1263 | M98: 1233 | N98: 1041 | O98: =SUM(C98:N98) -> 11453
B99: Project Muse | C99: 331 | D99: 337 | E99: 276 | F99: 317 | G99: 360 | H99: 240 | I99: 271 | J99: 217 | K99: 246 | L99: 385 | M99: 370 | N99: 340 | O99: =SUM(C99:N99) -> 3690
A100: Mongameli Mabona | B100: OAPEN | C100: 41 | D100: 15 | E100: 18 | F100: 42 | G100: 20 | H100: 17 | I100: 15 | J100: 31 | K100: 6 | L100: 19 | M100: 28 | N100: 12 | O100: =SUM(C100:N100) -> 264
B101: JSTOR | C101: 35 | D101: 23 | E101: 43 | F101: 54 | G101: 27 | H101: 22 | I101: 22 | J101: 38 | K101: 19 | L101: 27 | M101: 40 | N101: 37 | O101: =SUM(C101:N101) -> 387
B102: Project Muse | C102: 75 | D102: 78 | E102: 123 | F102: 607 | G102: 129 | H102: 54 | I102: 84 | J102: 68 | K102: 95 | L102: 75 | M102: 93 | N102: 64 | O102: =SUM(C102:N102) -> 1545
A103: Public Administration in Ethiopia | B103: OAPEN | C103: 164 | D103: 159 | E103: 180 | F103: 146 | G103: 70 | H103: 55 | I103: 48 | J103: 88 | K103: 62 | L103: 76 | M103: 70 | N103: 64 | O103: =SUM(C103:N103) -> 1182
B104: JSTOR | C104: 856 | D104: 712 | E104: 873 | F104: 676 | G104: 539 | H104: 238 | I104: 146 | J104: 339 | K104: 295 | L104: 469 | M104: 291 | N104: 357 | O104: =SUM(C104:N104) -> 5791
B105: Project Muse | C105: 1146 | D105: 851 | E105: 853 | F105: 742 | G105: 1057 | H105: 674 | I105: 629 | J105: 1103 | K105: 708 | L105: 738 | M105: 872 | N105: 1049 | O105: =SUM(C105:N105) -> 10422
A106: Revival after the Great War | B106: OAPEN | C106: 30 | D106: 55 | E106: 75 | F106: 72 | G106: 48 | H106: 31 | I106: 56 | J106: 34 | K106: 40 | L106: 33 | M106: 30 | N106: 39 | O106: =SUM(C106:N106) -> 543
B107: JSTOR | C107: 215 | D107: 253 | E107: 325 | F107: 354 | G107: 315 | H107: 118 | I107: 132 | J107: 116 | K107: 115 | L107: 246 | M107: 303 | N107: 211 | O107: =SUM(C107:N107) -> 2703
B108: Project Muse | C108: 178 | D108: 337 | E108: 352 | F108: 353 | G108: 409 | H108: 223 | I108: 216 | J108: 183 | K108: 249 | L108: 306 | M108: 239 | N108: 252 | O108: =SUM(C108:N108) -> 3297
A109: Strategic Imaginations | B109: OAPEN | C109: 48 | D109: 48 | E109: 41 | F109: 52 | G109: 41 | H109: 21 | I109: 17 | J109: 23 | K109: 19 | L109: 28 | M109: 25 | N109: 25 | O109: =SUM(C109:N109) -> 388
B110: JSTOR | C110: 204 | D110: 351 | E110: 368 | F110: 413 | G110: 400 | H110: 199 | I110: 215 | J110: 230 | K110: 345 | L110: 448 | M110: 418 | N110: 362 | O110: =SUM(C110:N110) -> 3953
B111: Project Muse | C111: 82 | D111: 217 | E111: 272 | F111: 236 | G111: 298 | H111: 225 | I111: 156 | J111: 112 | K111: 119 | L111: 148 | M111: 151 | N111: 157 | O111: =SUM(C111:N111) -> 2173
A112: Fake News | B112: OAPEN | C112: 16 | D112: 15 | E112: 15 | F112: 25 | G112: 28 | H112: 21 | I112: 22 | J112: 17 | K112: 36 | L112: 45 | M112: 37 | N112: 25 | O112: =SUM(C112:N112) -> 302
B113: JSTOR | C113: 7 | D113: 11 | E113: 11 | F113: 16 | G113: 4 | H113: 2 | I113: 13 | J113: 13 | K113: 17 | L113: 2 | M113: 10 | N113: 10 | O113: =SUM(C113:N113) -> 116
B114: Project Muse | C114: 112 | D114: 74 | E114: 76 | F114: 59 | G114: 153 | H114: 74 | I114: 56 | J114: 102 | K114: 65 | L114: 89 | M114: 93 | N114: 73 | O114: =SUM(C114:N114) -> 1026
A115: Living with History | B115: OAPEN | C115: 17 | D115: 21 | E115: 13 | F115: 22 | G115: 22 | H115: 11 | I115: 9 | J115: 12 | K115: 16 | L115: 12 | M115: 28 | N115: 16 | O115: =SUM(C115:N115) -> 199
B116: JSTOR | C116: 105 | D116: 102 | E116: 140 | F116: 73 | G116: 46 | H116: 56 | I116: 75 | J116: 38 | K116: 50 | L116: 106 | M116: 186 | N116: 94 | O116: =SUM(C116:N116) -> 1071
B117: Project Muse | C117: 171 | D117: 263 | E117: 276 | F117: 180 | G117: 197 | H117: 166 | I117: 251 | J117: 123 | K117: 145 | L117: 154 | M117: 177 | N117: 209 | O117: =SUM(C117:N117) -> 2312
A118: The Tacit Dimension | B118: OAPEN | C118: 182 | D118: 131 | E118: 188 | F118: 192 | G118: 157 | H118: 107 | I118: 115 | J118: 108 | K118: 173 | L118: 190 | M118: 211 | N118: 146 | O118: =SUM(C118:N118) -> 1900
B119: JSTOR | C119: 66 | D119: 62 | E119: 107 | F119: 67 | G119: 48 | H119: 93 | I119: 62 | J119: 83 | K119: 117 | L119: 145 | M119: 201 | N119: 88 | O119: =SUM(C119:N119) -> 1139
B120: Project Muse | C120: 76 | D120: 94 | E120: 63 | F120: 226 | G120: 147 | H120: 119 | I120: 153 | J120: 160 | K120: 100 | L120: 233 | M120: 195 | N120: 186 | O120: =SUM(C120:N120) -> 1752
A121: Contact Zones | B121: OAPEN | C121: 40 | D121: 44 | E121: 53 | F121: 46 | G121: 43 | H121: 76 | I121: 73 | J121: 49 | K121: 30 | L121: 22 | M121: 42 | N121: 12 | O121: =SUM(C121:N121) -> 530
B122: JSTOR | C122: 102 | D122: 127 | E122: 124 | F122: 167 | G122: 105 | H122: 72 | I122: 57 | J122: 50 | K122: 79 | L122: 129 | M122: 97 | N122: 68 | O122: =SUM(C122:N122) -> 1177
B123: Project Muse | C123: 195 | D123: 187 | E123: 166 | F123: 162 | G123: 205 | H123: 186 | I123: 182 | J123: 121 | K123: 74 | L123: 68 | M123: 51 | N123: 94 | O123: =SUM(C123:N123) -> 1691
A124: Spatial Boundaries, Abounding Spaces | B124: OAPEN | C124: 14 | D124: 35 | E124: 38 | F124: 36 | G124: 37 | H124: 19 | I124: 20 | J124: 20 | K124: 17 | L124: 14 | M124: 12 | N124: 15 | O124: =SUM(C124:N124) -> 277
B125: JSTOR | C125: 14 | D125: 22 | E125: 36 | F125: 32 | G125: 19 | H125: 15 | I125: 8 | J125: 19 | K125: 11 | L125: 33 | M125: 19 | N125: 33 | O125: =SUM(C125:N125) -> 261
B126: Project Muse | C126: 57 | D126: 93 | E126: 80 | F126: 101 | G126: 131 | H126: 69 | I126: 119 | J126: 158 | K126: 78 | L126: 74 | M126: 86 | N126: 167 | O126: =SUM(C126:N126) -> 1213
...

Sheet 2025
A1: User Statistics Open Access
A2: Title | B2: Platform | C2: 2025 | O2: total 2025 | Q2: Open Research Library
C3: Jan | D3: Feb | E3: March | F3: April | G3: May | H3: June | I3: July | J3: Aug | K3: Sept | L3: Oct | M3: Nov | N3: Dec
A4: Glass Making in the Greco-Roman World | B4: OAPEN | C4: 87 | D4: 49 | E4: 44 | F4: 49 | G4: 83 | H4: 59 | I4: 50 | J4: 80 | K4: 54 | L4: 31 | O4: =SUM(C4:N4) -> 586 | P4: book downloads | Q4: 0
B5: JSTOR | C5: 97 | D5: 63 | E5: 47 | F5: 52 | G5: 73 | H5: 36 | I5: 104 | J5: 43 | K5: 42 | L5: 48 | M5: 70 | N5: 72 | O5: =SUM(C5:N5) -> 747 | P5: chapter views + downloads
B6: Project Muse | O6: =SUM(C6:N6) -> 0 | P6: chapter views + downloads
A7: Experimental Affinities in Music | B7: OAPEN | C7: 38 | D7: 19 | E7: 49 | F7: 116 | G7: 54 | H7: 39 | I7: 56 | J7: 41 | K7: 58 | L7: 24 | O7: =SUM(C7:N7) -> 494
B8: JSTOR | C8: 84 | D8: 58 | E8: 110 | F8: 66 | G8: 57 | H8: 73 | I8: 80 | J8: 68 | K8: 104 | L8: 96 | M8: 97 | N8: 83 | O8: =SUM(C8:N8) -> 976
B9: Project Muse | O9: =SUM(C9:N9) -> 0
A10: Transpositions | B10: OAPEN | C10: 38 | D10: 29 | E10: 44 | F10: 35 | G10: 52 | H10: 47 | I10: 58 | J10: 67 | K10: 49 | L10: 29 | O10: =SUM(C10:N10) -> 448
A11: Transpositions | B11: JSTOR | C11: 99 | D11: 86 | E11: 116 | F11: 146 | G11: 120 | H11: 76 | I11: 149 | J11: 83 | K11: 97 | L11: 84 | M11: 108 | N11: 87 | O11: =SUM(C11:N11) -> 1251
A12: Transpositions | B12: Project Muse | O12: =SUM(C12:N12) -> 0
A13: Virtual Works – Actual Things | B13: OAPEN | C13: 56 | D13: 48 | E13: 113 | F13: 100 | G13: 93 | H13: 89 | I13: 31 | J13: 78 | K13: 69 | L13: 55 | O13: =SUM(C13:N13) -> 732
A14: Virtual Works – Actual Things | B14: JSTOR | C14: 108 | D14: 114 | E14: 159 | F14: 224 | G14: 115 | H14: 95 | I14: 87 | J14: 26 | K14: 106 | L14: 149 | M14: 112 | N14: 76 | O14: =SUM(C14:N14) -> 1371
A15: Virtual Works – Actual Things | B15: Project Muse | O15: =SUM(C15:N15) -> 0
A16: Logic of Experimentation | B16: OAPEN | C16: 69 | D16: 54 | E16: 62 | F16: 116 | G16: 60 | H16: 147 | I16: 72 | J16: 106 | K16: 123 | L16: 47 | O16: =SUM(C16:N16) -> 856
A17: Logic of Experimentation | B17: JSTOR | C17: 95 | D17: 82 | E17: 84 | F17: 65 | G17: 35 | H17: 52 | I17: 46 | J17: 55 | K17: 47 | L17: 71 | M17: 94 | N17: 77 | O17: =SUM(C17:N17) -> 803
A18: Logic of Experimentation | B18: Project Muse | O18: =SUM(C18:N18) -> 0
A19: Powers of Divergence | B19: OAPEN | C19: 27 | D19: 18 | E19: 17 | F19: 30 | G19: 31 | H19: 33 | I19: 47 | J19: 24 | K19: 19 | L19: 11 | O19: =SUM(C19:N19) -> 257
A20: Powers of Divergence | B20: JSTOR | C20: 31 | D20: 39 | E20: 27 | F20: 64 | G20: 33 | H20: 33 | I20: 149 | J20: 13 | K20: 22 | L20: 29 | M20: 16 | N20: 33 | O20: =SUM(C20:N20) -> 489
A21: Powers of Divergence | B21: Project Muse | O21: =SUM(C21:N21) -> 0
A22: Beyond Provenance | B22: OAPEN | C22: 24 | D22: 45 | E22: 51 | F22: 57 | G22: 36 | H22: 73 | I22: 24 | J22: 25 | K22: 32 | L22: 46 | O22: =SUM(C22:N22) -> 413
A23: Beyond Provenance | B23: JSTOR | C23: 16 | D23: 45 | E23: 43 | F23: 38 | G23: 19 | H23: 19 | I23: 33 | J23: 7 | K23: 18 | L23: 24 | M23: 34 | N23: 29 | O23: =SUM(C23:N23) -> 325
A24: Beyond Provenance | B24: Project Muse | C24: 96 | D24: 87 | E24: 75 | F24: 70 | G24: 74 | H24: 86 | I24: 108 | J24: 122 | K24: 26 | L24: 11 | M24: 11 | N24: 7 | O24: =SUM(C24:N24) -> 773
A25: Images of Immigrants and Refugees in Western Europe | B25: OAPEN | C25: 158 | D25: 119 | E25: 100 | F25: 123 | G25: 121 | H25: 123 | I25: 61 | J25: 68 | K25: 80 | L25: 53 | O25: =SUM(C25:N25) -> 1006
A26: Images of Immigrants and Refugees in Western Europe | B26: JSTOR | C26: 219 | D26: 245 | E26: 461 | F26: 321 | G26: 253 | H26: 152 | I26: 141 | J26: 4 | K26: 24 | L26: 16 | M26: 13 | N26: 39 | O26: =SUM(C26:N26) -> 1888
A27: Images of Immigrants and Refugees in Western Europe | B27: Project Muse | C27: 220 | D27: 149 | E27: 108 | F27: 283 | G27: 359 | H27: 299 | I27: 144 | J27: 188 | K27: 184 | L27: 140 | M27: 150 | N27: 117 | O27: =SUM(C27:N27) -> 2341
A28: Brokers of Modernity | B28: OAPEN | C28: 74 | D28: 42 | E28: 124 | F28: 166 | G28: 82 | H28: 58 | I28: 36 | J28: 82 | K28: 72 | L28: 72 | O28: =SUM(C28:N28) -> 808
A29: Brokers of Modernity | B29: JSTOR | C29: 196 | D29: 206 | E29: 308 | F29: 291 | G29: 237 | H29: 80 | I29: 75 | J29: 86 | K29: 202 | L29: 233 | M29: 165 | N29: 168 | O29: =SUM(C29:N29) -> 2247
A30: Brokers of Modernity | B30: Project Muse | C30: 182 | D30: 109 | E30: 202 | F30: 876 | G30: 908 | H30: 413 | I30: 286 | J30: 465 | K30: 172 | L30: 134 | M30: 147 | N30: 137 | O30: =SUM(C30:N30) -> 4031
A31: Gender and Christianity in Modern Europe | B31: OAPEN | C31: 43 | D31: 22 | E31: 34 | F31: 41 | G31: 32 | H31: 49 | I31: 61 | J31: 105 | K31: 42 | L31: 29 | O31: =SUM(C31:N31) -> 458
A32: Gender and Christianity in Modern Europe | B32: JSTOR | C32: 53 | D32: 69 | E32: 79 | F32: 71 | G32: 74 | H32: 55 | I32: 60 | J32: 52 | K32: 42 | L32: 70 | M32: 106 | N32: 99 | O32: =SUM(C32:N32) -> 830
A33: Gender and Christianity in Modern Europe | B33: Project Muse | C33: 177 | D33: 105 | E33: 146 | F33: 228 | G33: 297 | H33: 240 | I33: 173 | J33: 294 | K33: 247 | L33: 21 | M33: 21 | N33: 15 | O33: =SUM(C33:N33) -> 1964
A34: New Multicultural Identities in Europe | B34: OAPEN | C34: 29 | D34: 25 | E34: 44 | F34: 22 | G34: 45 | H34: 32 | I34: 33 | J34: 20 | K34: 29 | L34: 15 | O34: =SUM(C34:N34) -> 294
A35: New Multicultural Identities in Europe | B35: JSTOR | C35: 108 | D35: 78 | E35: 175 | F35: 151 | G35: 98 | H35: 47 | I35: 69 | J35: 23 | K35: 102 | L35: 79 | M35: 86 | N35: 115 | O35: =SUM(C35:N35) -> 1131
A36: New Multicultural Identities in Europe | B36: Project Muse | C36: 105 | D36: 93 | E36: 54 | F36: 179 | G36: 236 | H36: 137 | I36: 56 | J36: 106 | K36: 89 | L36: 11 | M36: 52 | N36: 15 | O36: =SUM(C36:N36) -> 1133
A37: Essays on Plato's Epistemology | B37: OAPEN | C37: 30 | D37: 52 | E37: 86 | F37: 73 | G37: 54 | H37: 61 | I37: 53 | J37: 59 | K37: 103 | L37: 64 | O37: =SUM(C37:N37) -> 635
A38: Essays on Plato's Epistemology | B38: JSTOR | C38: 66 | D38: 89 | E38: 118 | F38: 130 | G38: 94 | H38: 52 | I38: 62 | J38: 46 | K38: 75 | L38: 110 | M38: 162 | N38: 82 | O38: =SUM(C38:N38) -> 1086
A39: Essays on Plato's Epistemology | B39: Project Muse | C39: 83 | D39: 91 | E39: 128 | F39: 275 | G39: 632 | H39: 302 | I39: 144 | J39: 222 | K39: 91 | L39: 5 | M39: 0 | N39: 7 | O39: =SUM(C39:N39) -> 1980
A40: Virtues for the People | B40: OAPEN | C40: 40 | D40: 44 | E40: 53 | F40: 54 | G40: 51 | H40: 93 | I40: 39 | J40: 43 | K40: 71 | L40: 35 | O40: =SUM(C40:N40) -> 523
A41: Virtues for the People | B41: JSTOR | C41: 38 | D41: 63 | E41: 136 | F41: 76 | G41: 71 | H41: 40 | I41: 20 | J41: 15 | K41: 97 | L41: 93 | M41: 87 | N41: 57 | O41: =SUM(C41:N41) -> 793
A42: Virtues for the People | B42: Project Muse | C42: 147 | D42: 61 | E42: 108 | F42: 329 | G42: 395 | H42: 195 | I42: 96 | J42: 148 | K42: 76 | L42: 46 | M42: 26 | N42: 71 | O42: =SUM(C42:N42) -> 1698
A43: A Small Nation in the Turmoil of the Second World War | B43: OAPEN | C43: 23 | D43: 34 | E43: 24 | F43: 610 | G43: 68 | H43: 49 | I43: 75 | J43: 62 | K43: 39 | L43: 39 | O43: =SUM(C43:N43) -> 1023
A44: A Small Nation in the Turmoil of the Second World War | B44: JSTOR | C44: 46 | D44: 4 | E44: 17 | F44: 4 | G44: 51 | H44: 84 | I44: 113 | J44: 16 | K44: 48 | L44: 26 | M44: 20 | N44: 11 | O44: =SUM(C44:N44) -> 440
A45: A Small Nation in the Turmoil of the Second World War | B45: Project Muse | C45: 163 | D45: 155 | E45: 160 | F45: 362 | G45: 577 | H45: 388 | I45: 218 | J45: 375 | K45: 86 | L45: 13 | M45: 14 | N45: 5 | O45: =SUM(C45:N45) -> 2516
A46: Mapping Landscapes in Transformation | B46: OAPEN | C46: 107 | D46: 138 | E46: 309 | F46: 153 | G46: 133 | H46: 188 | I46: =26+15+9+10+29+2+5+60+41 -> 197 | J46: =17+15+16+15+8+7+8+7+14+90+42 -> 239 | K46: =16+19+13+19+17+11+4+5+8+68+38 -> 218 | L46: =23+25+23+11+5+2+8+2+2+42+24 -> 167 | O46: =SUM(C46:N46) -> 1849
A47: Mapping Landscapes in Transformation | B47: JSTOR | C47: 208 | D47: 187 | E47: 269 | F47: 215 | G47: 149 | H47: 93 | I47: 49 | J47: 89 | K47: 164 | L47: 178 | M47: 158 | N47: 141 | O47: =SUM(C47:N47) -> 1900
A48: Mapping Landscapes in Transformation | B48: Project Muse | O48: =SUM(C48:N48) -> 0
A49: Modern Islamic Thinking and Activism | B49: OAPEN | C49: 51 | D49: 35 | E49: 39 | F49: 35 | G49: 49 | H49: 70 | I49: 69 | J49: 54 | K49: 57 | L49: 39 | O49: =SUM(C49:N49) -> 498
A50: Modern Islamic Thinking and Activism | B50: JSTOR | C50: 101 | D50: 73 | E50: 70 | F50: 87 | G50: 108 | H50: 45 | I50: 69 | J50: 52 | K50: 40 | L50: 85 | M50: 55 | N50: 79 | O50: =SUM(C50:N50) -> 864
A51: Modern Islamic Thinking and Activism | B51: Project Muse | C51: 178 | D51: 108 | E51: 116 | F51: 242 | G51: 254 | H51: 212 | I51: 103 | J51: 254 | K51: 94 | L51: 29 | M51: 27 | N51: 19 | O51: =SUM(C51:N51) -> 1636
A52: Alles verandert altijd | B52: OAPEN | O52: =SUM(C52:N52) -> 0
A53: Alles verandert altijd | B53: JSTOR | C53: 50 | D53: 28 | E53: 32 | F53: 26 | G53: 32 | H53: 41 | I53: 183 | J53: 54 | K53: 38 | L53: 43 | M53: 64 | N53: 44 | O53: =SUM(C53:N53) -> 635
A54: Alles verandert altijd | B54: Project Muse | C54: 400 | D54: 261 | E54: 624 | F54: 434 | G54: 468 | H54: 406 | I54: 242 | J54: 179 | K54: 230 | L54: 140 | M54: 197 | N54: 89 | O54: =SUM(C54:N54) -> 3670
A55: Militant Jihadism | B55: OAPEN | C55: 37 | D55: 47 | E55: 47 | F55: 49 | G55: 41 | H55: 21 | I55: 31 | J55: 31 | K55: 29 | L55: 32 | O55: =SUM(C55:N55) -> 365
A56: Militant Jihadism | B56: JSTOR | C56: 70 | D56: 77 | E56: 49 | F56: 98 | G56: 91 | H56: 27 | I56: 40 | J56: 42 | K56: 42 | L56: 78 | M56: 90 | N56: 61 | O56: =SUM(C56:N56) -> 765
A57: Militant Jihadism | B57: Project Muse | C57: 167 | D57: 126 | E57: 143 | F57: 250 | G57: 615 | H57: 191 | I57: 150 | J57: 349 | K57: 182 | L57: 192 | M57: 327 | N57: 176 | O57: =SUM(C57:N57) -> 2868
A58: Participatiegolven | B58: OAPEN | C58: 35 | D58: 19 | E58: 20 | F58: 42 | G58: 46 | H58: 35 | I58: 25 | J58: 18 | K58: 28 | L58: 37 | O58: =SUM(C58:N58) -> 305
A59: Participatiegolven | B59: JSTOR | C59: 11 | D59: 14 | E59: 19 | F59: 12 | G59: 15 | H59: 6 | I59: 82 | J59: 6 | K59: 17 | L59: 10 | M59: 9 | N59: 14 | O59: =SUM(C59:N59) -> 215
A60: Participatiegolven | B60: Project Muse | C60: 213 | D60: 100 | E60: 112 | F60: 121 | G60: 153 | H60: 208 | I60: 110 | J60: 118 | K60: 199 | L60: 98 | M60: 84 | N60: 98 | O60: =SUM(C60:N60) -> 1614
A61: Financing Quality Education for All | B61: OAPEN | C61: 25 | D61: 17 | E61: 27 | F61: 18 | G61: 13 | H61: 23 | I61: 12 | J61: 14 | K61: 13 | L61: 8 | O61: =SUM(C61:N61) -> 170
A62: Financing Quality Education for All | B62: JSTOR | C62: 209 | D62: 270 | E62: 401 | F62: 271 | G62: 196 | H62: 133 | I62: 122 | J62: 94 | K62: 254 | L62: 277 | M62: 266 | N62: 199 | O62: =SUM(C62:N62) -> 2692
A63: Financing Quality Education for All | B63: Project Muse | C63: 203 | D63: 66 | E63: 88 | F63: 249 | G63: 248 | H63: 217 | I63: 65 | J63: 82 | K63: 21 | L63: 12 | M63: 22 | N63: 9 | O63: =SUM(C63:N63) -> 1282
A64: As German as Kafka | B64: OAPEN | C64: 36 | D64: 13 | E64: 27 | F64: 39 | G64: 24 | H64: 27 | I64: 34 | J64: 23 | K64: 46 | L64: 25 | O64: =SUM(C64:N64) -> 294
A65: As German as Kafka | B65: JSTOR | C65: 22 | D65: 27 | E65: 72 | F65: 29 | G65: 9 | H65: 7 | I65: 10 | J65: 27 | K65: 13 | L65: 45 | M65: 27 | N65: 30 | O65: =SUM(C65:N65) -> 318
A66: As German as Kafka | B66: Project Muse | C66: 490 | D66: 511 | E66: 697 | F66: 797 | G66: 422 | H66: 417 | I66: 288 | J66: 450 | K66: 185 | L66: 169 | M66: 237 | N66: 145 | O66: =SUM(C66:N66) -> 4808
A67: Oil Wealth and Development in Uganda and Beyond | B67: OAPEN | C67: 22 | D67: 18 | E67: 16 | F67: 26 | G67: 19 | H67: 22 | I67: 33 | J67: 22 | K67: 20 | L67: 21 | O67: =SUM(C67:N67) -> 219
A68: Oil Wealth and Development in Uganda and Beyond | B68: JSTOR | C68: 133 | D68: 165 | E68: 142 | F68: 185 | G68: 117 | H68: 77 | I68: 107 | J68: 91 | K68: 139 | L68: 169 | M68: 98 | N68: 120 | O68: =SUM(C68:N68) -> 1543
A69: Oil Wealth and Development in Uganda and Beyond | B69: Project Muse | C69: 210 | D69: 194 | E69: 335 | F69: 886 | G69: 1126 | H69: 650 | I69: 519 | J69: 518 | K69: 515 | L69: 188 | M69: 342 | N69: 235 | O69: =SUM(C69:N69) -> 5718
A70: European Perspectives for Public Administration | B70: OAPEN | C70: 82 | D70: 82 | E70: 0 | F70: 129 | G70: 125 | H70: 116 | I70: 109 | J70: 119 | K70: 194 | L70: 102 | O70: =SUM(C70:N70) -> 1058
A71: European Perspectives for Public Administration | B71: JSTOR | C71: 235 | D71: 233 | E71: 234 | F71: 220 | G71: 242 | H71: 173 | I71: 123 | J71: 252 | K71: 316 | L71: 317 | M71: 288 | N71: 245 | O71: =SUM(C71:N71) -> 2878
A72: European Perspectives for Public Administration | B72: Project Muse | C72: 328 | D72: 269 | E72: 218 | F72: 535 | G72: 847 | H72: 594 | I72: 335 | J72: 440 | K72: 360 | L72: 316 | M72: 323 | N72: 211 | O72: =SUM(C72:N72) -> 4776
A73: Plutarch's Science of Natural Problems | B73: OAPEN | C73: 29 | D73: 47 | E73: 0 | F73: 43 | G73: 42 | H73: 48 | I73: 34 | J73: 44 | K73: 53 | L73: 27 | O73: =SUM(C73:N73) -> 367
A74: Plutarch's Science of Natural Problems | B74: JSTOR | C74: 6 | D74: 6 | E74: 6 | F74: 3 | G74: 11 | H74: 50 | I74: 17 | J74: 3 | K74: 11 | L74: 26 | M74: 11 | N74: 2 | O74: =SUM(C74:N74) -> 152
A75: Plutarch's Science of Natural Problems | B75: Project Muse | C75: 55 | D75: 65 | E75: 729 | F75: 105 | G75: 72 | H75: 94 | I75: 59 | J75: 102 | K75: 33 | L75: 0 | M75: 6 | N75: 1 | O75: =SUM(C75:N75) -> 1321
A76: Across Anthropology | B76: OAPEN | C76: 417 | D76: 252 | E76: 0 | F76: 285 | G76: 291 | H76: 258 | I76: 390 | J76: 384 | K76: 381 | L76: 216 | O76: =SUM(C76:N76) -> 2874
B77: JSTOR | C77: 684 | D77: 706 | E77: 714 | F77: 784 | G77: 537 | H77: 277 | I77: 485 | J77: 404 | K77: 499 | L77: 598 | M77: 642 | N77: 610 | O77: =SUM(C77:N77) -> 6940
B78: Project Muse | C78: 456 | D78: 590 | E78: 434 | F78: 491 | G78: 593 | H78: 730 | I78: 511 | J78: 543 | K78: 618 | L78: 566 | M78: 357 | N78: 397 | O78: =SUM(C78:N78) -> 6286
A79: Migration at Work | B79: OAPEN | C79: 41 | D79: 49 | E79: 0 | F79: 45 | G79: 45 | H79: 49 | I79: 41 | J79: 27 | K79: 36 | L79: 21 | O79: =SUM(C79:N79) -> 354
B80: JSTOR | C80: 75 | D80: 105 | E80: 68 | F80: 79 | G80: 64 | H80: 39 | I80: 85 | J80: 37 | K80: 62 | L80: 82 | M80: 87 | N80: 60 | O80: =SUM(C80:N80) -> 843
B81: Project Muse | C81: 185 | D81: 123 | E81: 135 | F81: 147 | G81: 345 | H81: 399 | I81: 200 | J81: 219 | K81: 207 | L81: 160 | M81: 176 | N81: 84 | O81: =SUM(C81:N81) -> 2380
A82: Arrival Cities | B82: OAPEN | C82: 124 | D82: 122 | E82: 0 | F82: 118 | G82: 142 | H82: 362 | I82: 308 | J82: 246 | K82: 210 | L82: 86 | O82: =SUM(C82:N82) -> 1718
B83: JSTOR | C83: 170 | D83: 273 | E83: 226 | F83: 276 | G83: 222 | H83: 120 | I83: 200 | J83: 130 | K83: 213 | L83: 295 | M83: 275 | N83: 198 | O83: =SUM(C83:N83) -> 2598
B84: Project Muse | C84: 225 | D84: 278 | E84: 362 | F84: 426 | G84: 547 | H84: 780 | I84: 755 | J84: 2004 | K84: 1150 | L84: 604 | M84: 680 | N84: 205 | O84: =SUM(C84:N84) -> 8016
A85: The Figure of Knowledge | B85: OAPEN | C85: 56 | D85: 41 | E85: 0 | F85: 58 | G85: 36 | H85: 50 | I85: 57 | J85: 50 | K85: 75 | L85: 32 | O85: =SUM(C85:N85) -> 455
B86: JSTOR | C86: 327 | D86: 399 | E86: 538 | F86: 442 | G86: 395 | H86: 203 | I86: 269 | J86: 199 | K86: 360 | L86: 457 | M86: 363 | N86: 332 | O86: =SUM(C86:N86) -> 4284
B87: Project Muse | C87: 303 | D87: 290 | E87: 301 | F87: 695 | G87: 642 | H87: 562 | I87: 433 | J87: 619 | K87: 479 | L87: 322 | M87: 263 | N87: 142 | O87: =SUM(C87:N87) -> 5051
A88: Children's Literature | B88: OAPEN | C88: 317 | D88: 311 | E88: 0 | F88: 511 | G88: 525 | H88: 887 | I88: 601 | J88: 1655 | K88: 460 | L88: 442 | O88: =SUM(C88:N88) -> 5709
B89: JSTOR | C89: 438 | D89: 512 | E89: 706 | F89: 583 | G89: 367 | H89: 299 | I89: 225 | J89: 175 | K89: 306 | L89: 457 | M89: 418 | N89: 311 | O89: =SUM(C89:N89) -> 4797
B90: Project Muse | C90: 360 | D90: 291 | E90: 432 | F90: 1183 | G90: 650 | H90: 592 | I90: 442 | J90: 563 | K90: 562 | L90: 386 | M90: 384 | N90: 163 | O90: =SUM(C90:N90) -> 6008
A91: Turkish German Muslims | B91: OAPEN | C91: 23 | D91: 27 | E91: 0 | F91: 26 | G91: 40 | H91: 44 | I91: 45 | J91: 33 | K91: 49 | L91: 20 | O91: =SUM(C91:N91) -> 307
B92: JSTOR | C92: 43 | D92: 41 | E92: 54 | F92: 35 | G92: 34 | H92: 17 | I92: 20 | J92: 35 | K92: 22 | L92: 23 | M92: 39 | N92: 42 | O92: =SUM(C92:N92) -> 405
B93: Project Muse | C93: 198 | D93: 133 | E93: 194 | F93: 447 | G93: 461 | H93: 252 | I93: 182 | J93: 271 | K93: 76 | L93: 5 | M93: 6 | N93: 8 | O93: =SUM(C93:N93) -> 2233
A94: Dialogen over België | B94: OAPEN | C94: 13 | D94: 13 | E94: 0 | F94: 13 | G94: 26 | H94: 34 | I94: 14 | J94: 11 | K94: 20 | L94: 22 | O94: =SUM(C94:N94) -> 166
B95: JSTOR | C95: 0 | D95: 2 | E95: 4 | F95: 4 | G95: 2 | H95: 6 | I95: 38 | J95: 7 | K95: 9 | L95: 5 | M95: 16 | N95: 6 | O95: =SUM(C95:N95) -> 99
B96: Project Muse | C96: 23 | D96: 12 | E96: 9 | F96: 7 | G96: 41 | H96: 16 | I96: 7 | J96: 49 | K96: 19 | L96: 3 | M96: 26 | N96: 3 | O96: =SUM(C96:N96) -> 215
A97: Performing Hysteria | B97: OAPEN | C97: 120 | D97: 218 | E97: 0 | F97: 388 | G97: 290 | H97: 170 | I97: 144 | J97: 218 | K97: 286 | L97: 172 | O97: =SUM(C97:N97) -> 2006
B98: JSTOR | C98: 727 | D98: 997 | E98: 1259 | F98: 1300 | G98: 944 | H98: 422 | I98: 424 | J98: 335 | K98: 891 | L98: 1101 | M98: 1159 | N98: 927 | O98: =SUM(C98:N98) -> 10486
B99: Project Muse | C99: 380 | D99: 375 | E99: 406 | F99: 604 | G99: 950 | H99: 583 | I99: 466 | J99: 529 | K99: 417 | L99: 374 | M99: 303 | N99: 191 | O99: =SUM(C99:N99) -> 5578
A100: Mongameli Mabona | B100: OAPEN | C100: 9 | D100: 7 | E100: 0 | F100: 10 | G100: 18 | H100: 71 | I100: 90 | J100: 101 | K100: 45 | L100: 13 | O100: =SUM(C100:N100) -> 364
...

Sheet 2026
A1: User Statistics Open Access
A2: Title | B2: Platform | C2: 2026 | O2: total 2026 | Q2: Open Research Library | R2: downloads & views
C3: Jan | D3: Feb | E3: March | F3: April | G3: May | H3: June | I3: July | J3: Aug | K3: Sept | L3: Oct | M3: Nov | N3: Dec
A4: Glass Making in the Greco-Roman World | B4: OAPEN | D4: 103 | E4: 110 | F4: 81 | O4: =SUM(C4:N4) -> 294 | P4: book downloads | Q4: 59
B5: JSTOR | C5: 72 | D5: 53 | E5: 120 | F5: 128 | G5: 186 | H5: 159 | I5: 119 | O5: =SUM(C5:N5) -> 837 | P5: chapter views + downloads
B6: Project Muse | O6: =SUM(C6:N6) -> 0 | P6: chapter views + downloads
A7: Experimental Affinities in Music | B7: OAPEN | D7: 52 | E7: 94 | F7: 48 | O7: =SUM(C7:N7) -> 194 | Q7: 26
B8: JSTOR | C8: 79 | D8: 117 | E8: 130 | F8: 164 | G8: 223 | H8: 134 | I8: 156 | O8: =SUM(C8:N8) -> 1003
B9: Project Muse | O9: =SUM(C9:N9) -> 0
A10: Transpositions | B10: OAPEN | D10: 34 | E10: 100 | F10: 88 | O10: =SUM(C10:N10) -> 222 | Q10: 35
A11: Transpositions | B11: JSTOR | C11: 119 | D11: 100 | E11: 135 | F11: 199 | G11: 303 | H11: 181 | I11: 221 | O11: =SUM(C11:N11) -> 1258
A12: Transpositions | B12: Project Muse | O12: =SUM(C12:N12) -> 0
A13: Virtual Works – Actual Things | B13: OAPEN | D13: 50 | E13: 66 | F13: 68 | O13: =SUM(C13:N13) -> 184 | Q13: 17
A14: Virtual Works – Actual Things | B14: JSTOR | C14: 166 | D14: 100 | E14: 181 | F14: 130 | G14: 246 | H14: 134 | I14: 140 | O14: =SUM(C14:N14) -> 1097
A15: Virtual Works – Actual Things | B15: Project Muse | O15: =SUM(C15:N15) -> 0
A16: Logic of Experimentation | B16: OAPEN | D16: 57 | E16: 121 | F16: 76 | O16: =SUM(C16:N16) -> 254 | Q16: 647
A17: Logic of Experimentation | B17: JSTOR | C17: 169 | D17: 157 | E17: 210 | F17: 315 | G17: 301 | H17: 213 | I17: 211 | O17: =SUM(C17:N17) -> 1576
A18: Logic of Experimentation | B18: Project Muse | O18: =SUM(C18:N18) -> 0
A19: Powers of Divergence | B19: OAPEN | D19: 21 | E19: 61 | F19: 37 | O19: =SUM(C19:N19) -> 119 | Q19: 11
A20: Powers of Divergence | B20: JSTOR | C20: 197 | D20: 96 | E20: 224 | F20: 298 | G20: 365 | H20: 178 | I20: 300 | O20: =SUM(C20:N20) -> 1658
A21: Powers of Divergence | B21: Project Muse | O21: =SUM(C21:N21) -> 0
A22: Beyond Provenance | B22: OAPEN | D22: 34 | E22: 134 | F22: 74 | O22: =SUM(C22:N22) -> 242 | Q22: 7
A23: Beyond Provenance | B23: JSTOR | C23: 107 | D23: 68 | E23: 43 | F23: 68 | G23: 80 | H23: 44 | I23: 76 | O23: =SUM(C23:N23) -> 486
A24: Beyond Provenance | B24: Project Muse | C24: 8 | D24: 3 | E24: 2 | F24: 2 | G24: 0 | H24: 1 | I24: 2 | O24: =SUM(C24:N24) -> 18
A25: Images of Immigrants and Refugees in Western Europe | B25: OAPEN | D25: 62 | E25: 78 | F25: 46 | O25: =SUM(C25:N25) -> 186 | Q25: 18
A26: Images of Immigrants and Refugees in Western Europe | B26: JSTOR | C26: 24 | D26: 30 | E26: 36 | F26: 83 | G26: 95 | H26: 113 | I26: 66 | O26: =SUM(C26:N26) -> 447
A27: Images of Immigrants and Refugees in Western Europe | B27: Project Muse | C27: 29 | D27: 36 | E27: 47 | F27: 42 | G27: 55 | H27: 21 | I27: 21 | O27: =SUM(C27:N27) -> 251
A28: Brokers of Modernity | B28: OAPEN | D28: 94 | E28: 176 | F28: 86 | O28: =SUM(C28:N28) -> 356 | Q28: 24
A29: Brokers of Modernity | B29: JSTOR | C29: 254 | D29: 390 | E29: 1146 | F29: 988 | G29: 997 | H29: 372 | I29: 147 | O29: =SUM(C29:N29) -> 4294
A30: Brokers of Modernity | B30: Project Muse | C30: 24 | D30: 18 | E30: 10 | F30: 5 | G30: 21 | H30: 19 | I30: 16 | O30: =SUM(C30:N30) -> 113
A31: Gender and Christianity in Modern Europe | B31: OAPEN | D31: 74 | E31: 124 | F31: 103 | O31: =SUM(C31:N31) -> 301 | Q31: 74
A32: Gender and Christianity in Modern Europe | B32: JSTOR | C32: 110 | D32: 119 | E32: 129 | F32: 198 | G32: 212 | H32: 113 | I32: 164 | O32: =SUM(C32:N32) -> 1045
A33: Gender and Christianity in Modern Europe | B33: Project Muse | C33: 9 | D33: 12 | E33: 4 | F33: 16 | G33: 1 | H33: 22 | I33: 10 | O33: =SUM(C33:N33) -> 74
A34: New Multicultural Identities in Europe | B34: OAPEN | D34: 51 | E34: 97 | F34: 106 | O34: =SUM(C34:N34) -> 254 | Q34: 24
A35: New Multicultural Identities in Europe | B35: JSTOR | C35: 111 | D35: 144 | E35: 188 | F35: 274 | G35: 257 | H35: 258 | I35: 149 | O35: =SUM(C35:N35) -> 1381
A36: New Multicultural Identities in Europe | B36: Project Muse | C36: 7 | D36: 7 | E36: 6 | F36: 4 | G36: 8 | H36: 7 | I36: 3 | O36: =SUM(C36:N36) -> 42
A37: Essays on Plato's Epistemology | B37: OAPEN | D37: 103 | E37: 122 | F37: 88 | O37: =SUM(C37:N37) -> 313 | Q37: 39
A38: Essays on Plato's Epistemology | B38: JSTOR | C38: 131 | D38: 91 | E38: 116 | F38: 332 | G38: 277 | H38: 215 | I38: 207 | O38: =SUM(C38:N38) -> 1369
A39: Essays on Plato's Epistemology | B39: Project Muse | C39: 14 | D39: 5 | E39: 3 | F39: 0 | G39: 2 | H39: 6 | I39: 2 | O39: =SUM(C39:N39) -> 32
A40: Virtues for the People | B40: OAPEN | D40: 24 | E40: 70 | F40: 42 | O40: =SUM(C40:N40) -> 136 | Q40: 38
A41: Virtues for the People | B41: JSTOR | C41: 87 | D41: 52 | E41: 116 | F41: 192 | G41: 234 | H41: 166 | I41: 185 | O41: =SUM(C41:N41) -> 1032
A42: Virtues for the People | B42: Project Muse | C42: 13 | D42: 11 | E42: 8 | F42: 19 | G42: 16 | H42: 9 | I42: 15 | O42: =SUM(C42:N42) -> 91
A43: A Small Nation in the Turmoil of the Second World War | B43: OAPEN | D43: 50 | E43: 136 | F43: 103 | O43: =SUM(C43:N43) -> 289 | Q43: 42
A44: A Small Nation in the Turmoil of the Second World War | B44: JSTOR | C44: 114 | D44: 67 | E44: 79 | F44: 238 | G44: 265 | H44: 318 | I44: 157 | O44: =SUM(C44:N44) -> 1238
A45: A Small Nation in the Turmoil of the Second World War | B45: Project Muse | C45: 6 | D45: 6 | E45: 2 | F45: 3 | G45: 0 | H45: 0 | I45: 3 | O45: =SUM(C45:N45) -> 20
A46: Mapping Landscapes in Transformation | B46: OAPEN | D46: 270 | E46: 523 | F46: 355 | O46: =SUM(C46:N46) -> 1148 | Q46: 61
A47: Mapping Landscapes in Transformation | B47: JSTOR | C47: 160 | D47: 143 | E47: 292 | F47: 255 | G47: 181 | H47: 241 | I47: 205 | O47: =SUM(C47:N47) -> 1477
A48: Mapping Landscapes in Transformation | B48: Project Muse | O48: =SUM(C48:N48) -> 0
A49: Modern Islamic Thinking and Activism | B49: OAPEN | D49: 72 | E49: 91 | F49: 39 | O49: =SUM(C49:N49) -> 202 | Q49: 41
A50: Modern Islamic Thinking and Activism | B50: JSTOR | C50: 80 | D50: 73 | E50: 131 | F50: 98 | G50: 102 | H50: 92 | I50: 91 | O50: =SUM(C50:N50) -> 667
A51: Modern Islamic Thinking and Activism | B51: Project Muse | C51: 6 | D51: 7 | E51: 17 | F51: 12 | G51: 12 | H51: 7 | I51: 9 | O51: =SUM(C51:N51) -> 70
A52: Alles verandert altijd | B52: OAPEN | O52: =SUM(C52:N52) -> 0 | Q52: 49
A53: Alles verandert altijd | B53: JSTOR | C53: 45 | D53: 31 | E53: 85 | F53: 130 | G53: 277 | H53: 196 | I53: 195 | O53: =SUM(C53:N53) -> 959
A54: Alles verandert altijd | B54: Project Muse | C54: 38 | D54: 73 | E54: 93 | F54: 41 | G54: 32 | H54: 23 | I54: 21 | O54: =SUM(C54:N54) -> 321
A55: Militant Jihadism | B55: OAPEN | D55: 34 | E55: 85 | F55: 34 | O55: =SUM(C55:N55) -> 153 | Q55: 16
A56: Militant Jihadism | B56: JSTOR | C56: 162 | D56: 114 | E56: 181 | F56: 180 | G56: 140 | H56: 101 | I56: 154 | O56: =SUM(C56:N56) -> 1032
A57: Militant Jihadism | B57: Project Muse | C57: 78 | D57: 77 | E57: 43 | F57: 99 | G57: 127 | H57: 26 | I57: 36 | O57: =SUM(C57:N57) -> 486
A58: Participatiegolven | B58: OAPEN | D58: 23 | E58: 60 | F58: 56 | O58: =SUM(C58:N58) -> 139 | Q58: 18
A59: Participatiegolven | B59: JSTOR | C59: 73 | D59: 33 | E59: 23 | F59: 114 | G59: 127 | H59: 116 | I59: 53 | O59: =SUM(C59:N59) -> 539
A60: Participatiegolven | B60: Project Muse | C60: 39 | D60: 22 | E60: 19 | F60: 15 | G60: 8 | H60: 18 | I60: 10 | O60: =SUM(C60:N60) -> 131
A61: Financing Quality Education for All | B61: OAPEN | D61: 23 | E61: 45 | F61: 12 | O61: =SUM(C61:N61) -> 80 | Q61: 14
A62: Financing Quality Education for All | B62: JSTOR | C62: 205 | D62: 172 | E62: 208 | F62: 273 | G62: 190 | H62: 100 | I62: 58 | O62: =SUM(C62:N62) -> 1206
A63: Financing Quality Education for All | B63: Project Muse | C63: 5 | D63: 12 | E63: 5 | F63: 12 | G63: 4 | H63: 4 | I63: 2 | O63: =SUM(C63:N63) -> 44
A64: As German as Kafka | B64: OAPEN | D64: 76 | E64: 97 | F64: 76 | O64: =SUM(C64:N64) -> 249 | Q64: 32
A65: As German as Kafka | B65: JSTOR | C65: 79 | D65: 8 | E65: 66 | F65: 55 | G65: 153 | H65: 75 | I65: 126 | O65: =SUM(C65:N65) -> 562
A66: As German as Kafka | B66: Project Muse | C66: 10 | D66: 15 | E66: 11 | F66: 13 | G66: 17 | H66: 21 | I66: 14 | O66: =SUM(C66:N66) -> 101
A67: Oil Wealth and Development in Uganda and Beyond | B67: OAPEN | D67: 24 | E67: 92 | F67: 59 | O67: =SUM(C67:N67) -> 175 | Q67: 13
A68: Oil Wealth and Development in Uganda and Beyond | B68: JSTOR | C68: 176 | D68: 137 | E68: 166 | F68: 361 | G68: 504 | H68: 219 | I68: 185 | O68: =SUM(C68:N68) -> 1748
A69: Oil Wealth and Development in Uganda and Beyond | B69: Project Muse | C69: 40 | D69: 53 | E69: 56 | F69: 49 | G69: 85 | H69: 36 | I69: 57 | O69: =SUM(C69:N69) -> 376
A70: European Perspectives for Public Administration | B70: OAPEN | D70: 59 | E70: 116 | F70: 95 | O70: =SUM(C70:N70) -> 270 | Q70: 13
A71: European Perspectives for Public Administration | B71: JSTOR | C71: 280 | D71: 248 | E71: 421 | F71: 358 | G71: 513 | H71: 231 | I71: 261 | O71: =SUM(C71:N71) -> 2312
A72: European Perspectives for Public Administration | B72: Project Muse | C72: 45 | D72: 97 | E72: 52 | F72: 88 | G72: 59 | H72: 55 | I72: 79 | O72: =SUM(C72:N72) -> 475
A73: Plutarch's Science of Natural Problems | B73: OAPEN | D73: 9 | E73: 47 | F73: 29 | O73: =SUM(C73:N73) -> 85 | Q73: 15
A74: Plutarch's Science of Natural Problems | B74: JSTOR | C74: 43 | D74: 33 | E74: 244 | F74: 109 | G74: 253 | H74: 100 | I74: 156 | O74: =SUM(C74:N74) -> 938
A75: Plutarch's Science of Natural Problems | B75: Project Muse | C75: 4 | D75: 2 | E75: 2 | F75: 0 | G75: 7 | H75: 0 | I75: 7 | O75: =SUM(C75:N75) -> 22
A76: Across Anthropology | B76: OAPEN | D76: 339 | E76: 477 | F76: 138 | O76: =SUM(C76:N76) -> 954 | Q76: 49
B77: JSTOR | C77: 516 | D77: 447 | E77: 732 | F77: 744 | G77: 711 | H77: 615 | I77: 383 | O77: =SUM(C77:N77) -> 4148
B78: Project Muse | C78: 159 | D78: 95 | E78: 92 | F78: 105 | G78: 75 | H78: 102 | I78: 58 | O78: =SUM(C78:N78) -> 686
A79: Migration at Work | B79: OAPEN | D79: 22 | E79: 35 | F79: 25 | O79: =SUM(C79:N79) -> 82 | Q79: 24
B80: JSTOR | C80: 67 | D80: 84 | E80: 71 | F80: 93 | G80: 130 | H80: 137 | I80: 106 | O80: =SUM(C80:N80) -> 688
B81: Project Muse | C81: 20 | D81: 26 | E81: 21 | F81: 16 | G81: 46 | H81: 33 | I81: 34 | O81: =SUM(C81:N81) -> 196
A82: Arrival Cities | B82: OAPEN | D82: 740 | E82: 484 | F82: 248 | O82: =SUM(C82:N82) -> 1472 | Q82: 27
B83: JSTOR | C83: 257 | D83: 200 | E83: 368 | F83: 364 | G83: 279 | H83: 151 | I83: 193 | O83: =SUM(C83:N83) -> 1812
B84: Project Muse | C84: 78 | D84: 67 | E84: 86 | F84: 118 | G84: 83 | H84: 70 | I84: 70 | O84: =SUM(C84:N84) -> 572
A85: The Figure of Knowledge | B85: OAPEN | D85: 55 | E85: 148 | F85: 78 | O85: =SUM(C85:N85) -> 281 | Q85: 111
B86: JSTOR | C86: 354 | D86: 380 | E86: 591 | F86: 569 | G86: 437 | H86: 274 | I86: 241 | O86: =SUM(C86:N86) -> 2846
B87: Project Muse | C87: 44 | D87: 64 | E87: 73 | F87: 124 | G87: 103 | H87: 81 | I87: 89 | O87: =SUM(C87:N87) -> 578
A88: Children's Literature | B88: OAPEN | D88: 220 | E88: 344 | F88: 235 | O88: =SUM(C88:N88) -> 799 | Q88: 18
B89: JSTOR | C89: 338 | D89: 398 | E89: 518 | F89: 492 | G89: 568 | H89: 321 | I89: 246 | O89: =SUM(C89:N89) -> 2881
B90: Project Muse | C90: 89 | D90: 51 | E90: 75 | F90: 96 | G90: 87 | H90: 64 | I90: 55 | O90: =SUM(C90:N90) -> 517
A91: Turkish German Muslims | B91: OAPEN | D91: 43 | E91: 78 | F91: 64 | O91: =SUM(C91:N91) -> 185 | Q91: 21
B92: JSTOR | C92: 67 | D92: 40 | E92: 132 | F92: 167 | G92: 284 | H92: 328 | I92: 233 | O92: =SUM(C92:N92) -> 1251
B93: Project Muse | C93: 5 | D93: 5 | E93: 2 | F93: 8 | G93: 0 | H93: 0 | I93: 2 | O93: =SUM(C93:N93) -> 22
A94: Dialogen over België | B94: OAPEN | D94: 40 | E94: 63 | F94: 44 | O94: =SUM(C94:N94) -> 147 | Q94: 13
B95: JSTOR | C95: 14 | D95: 4 | E95: 18 | F95: 60 | G95: 87 | H95: 85 | I95: 76 | O95: =SUM(C95:N95) -> 344
B96: Project Muse | C96: 1 | D96: 4 | E96: 3 | F96: 0 | G96: 0 | H96: 6 | I96: 0 | O96: =SUM(C96:N96) -> 14
A97: Performing Hysteria | B97: OAPEN | D97: 208 | E97: 280 | F97: 190 | O97: =SUM(C97:N97) -> 678 | Q97: 9
B98: JSTOR | C98: 719 | D98: 932 | E98: 1285 | F98: 1420 | G98: 1140 | H98: 660 | I98: 720 | O98: =SUM(C98:N98) -> 6876
B99: Project Muse | C99: 133 | D99: 142 | E99: 143 | F99: 238 | G99: 276 | H99: 99 | I99: 70 | O99: =SUM(C99:N99) -> 1101
A100: Mongameli Mabona | B100: OAPEN | D100: 22 | E100: 63 | F100: 30 | O100: =SUM(C100:N100) -> 115 | Q100: 70
...

Sheet all
A1: User Statistics Open Access
A2: Title | B2: Platform | C2: all | O2: total all | Q2: Open Research Library | R2: downloads & views
C3: Jan | D3: Feb | E3: March | F3: April | G3: May | H3: June | I3: July | J3: Aug | K3: Sept | L3: Oct | M3: Nov | N3: Dec
A4: Glass Making in the Greco-Roman World | B4: OAPEN | C4: =SUM('2015:2026'!C4) -> 1038 | D4: =SUM('2015:2026'!D4) -> 1198 | E4: =SUM('2015:2026'!E4) -> 1103 | F4: =SUM('2015:2026'!F4) -> 938 | G4: =SUM('2015:2026'!G4) -> 893 | H4: =SUM('2015:2026'!H4) -> 595 | I4: =SUM('2015:2026'!I4) -> 503 | J4: =SUM('2015:2026'!J4) -> 552 | ... N4: =SUM('2015:2026'!N4) -> 701 | O4: =SUM(C4:N4) -> 9690 | P4: book downloads | Q4: =SUM('2019'!Q4:Q6,'2020'!Q4:Q6,'2021'!Q4:Q6,'2022'!Q4:Q6,'2023'!Q4:Q6,'2024'!Q4:Q6,'2025'!Q4:Q6,'2026'!Q4:Q6) -> 135
B5: JSTOR | C5: =SUM('2015:2026'!C5) -> 566 | D5: =SUM('2015:2026'!D5) -> 561 | E5: =SUM('2015:2026'!E5) -> 775 | F5: =SUM('2015:2026'!F5) -> 711 | G5: =SUM('2015:2026'!G5) -> 708 | H5: =SUM('2015:2026'!H5) -> 480 | I5: =SUM('2015:2026'!I5) -> 548 | J5: =SUM('2015:2026'!J5) -> 443 | ... N5: =SUM('2015:2026'!N5) -> 640 | O5: =SUM(C5:N5) -> 7319 | P5: chapter views + downloads
B6: Project Muse | C6: =SUM('2015:2026'!C6) -> 0 | D6: =SUM('2015:2026'!D6) -> 0 | E6: =SUM('2015:2026'!E6) -> 0 | F6: =SUM('2015:2026'!F6) -> 0 | G6: =SUM('2015:2026'!G6) -> 0 | H6: =SUM('2015:2026'!H6) -> 0 | I6: =SUM('2015:2026'!I6) -> 0 | J6: =SUM('2015:2026'!J6) -> 0 | ... N6: =SUM('2015:2026'!N6) -> 0 | O6: =SUM(C6:N6) -> 0 | P6: chapter views + downloads
A7: Experimental Affinities in Music | B7: OAPEN | C7: =SUM('2015:2026'!C7) -> 651 | D7: =SUM('2015:2026'!D7) -> 525 | E7: =SUM('2015:2026'!E7) -> 711 | F7: =SUM('2015:2026'!F7) -> 823 | G7: =SUM('2015:2026'!G7) -> 537 | H7: =SUM('2015:2026'!H7) -> 499 | I7: =SUM('2015:2026'!I7) -> 426 | J7: =SUM('2015:2026'!J7) -> 387 | ... N7: =SUM('2015:2026'!N7) -> 468 | O7: =SUM(C7:N7) -> 6692 | Q7: =SUM('2019'!Q7:Q9,'2020'!Q7:Q9,'2021'!Q7:Q9,'2022'!Q7:Q9,'2023'!Q7:Q9,'2024'!Q7:Q9,'2025'!Q7:Q9,'2026'!Q7:Q9) -> 78
B8: JSTOR | C8: =SUM('2015:2026'!C8) -> 745 | D8: =SUM('2015:2026'!D8) -> 903 | E8: =SUM('2015:2026'!E8) -> 1114 | F8: =SUM('2015:2026'!F8) -> 942 | G8: =SUM('2015:2026'!G8) -> 907 | H8: =SUM('2015:2026'!H8) -> 619 | I8: =SUM('2015:2026'!I8) -> 718 | J8: =SUM('2015:2026'!J8) -> 505 | ... N8: =SUM('2015:2026'!N8) -> 918 | O8: =SUM(C8:N8) -> 10478
B9: Project Muse | C9: =SUM('2015:2026'!C9) -> 0 | D9: =SUM('2015:2026'!D9) -> 0 | E9: =SUM('2015:2026'!E9) -> 0 | F9: =SUM('2015:2026'!F9) -> 0 | G9: =SUM('2015:2026'!G9) -> 0 | H9: =SUM('2015:2026'!H9) -> 0 | I9: =SUM('2015:2026'!I9) -> 0 | J9: =SUM('2015:2026'!J9) -> 0 | ... N9: =SUM('2015:2026'!N9) -> 0 | O9: =SUM(C9:N9) -> 0
A10: Transpositions | B10: OAPEN | C10: =SUM('2015:2026'!C10) -> 467 | D10: =SUM('2015:2026'!D10) -> 426 | E10: =SUM('2015:2026'!E10) -> 588 | F10: =SUM('2015:2026'!F10) -> 453 | G10: =SUM('2015:2026'!G10) -> 371 | H10: =SUM('2015:2026'!H10) -> 385 | I10: =SUM('2015:2026'!I10) -> 493 | J10: =SUM('2015:2026'!J10) -> 514 | ... N10: =SUM('2015:2026'!N10) -> 417 | O10: =SUM(C10:N10) -> 6166 | Q10: =SUM('2019'!Q10:Q12,'2020'!Q10:Q12,'2021'!Q10:Q12,'2022'!Q10:Q12,'2023'!Q10:Q12,'2024'!Q10:Q12,'2025'!Q10:Q12,'2026'!Q10:Q12) -> 84
A11: Transpositions | B11: JSTOR | C11: =SUM('2015:2026'!C11) -> 1314 | D11: =SUM('2015:2026'!D11) -> 1211 | E11: =SUM('2015:2026'!E11) -> 1557 | F11: =SUM('2015:2026'!F11) -> 1573 | G11: =SUM('2015:2026'!G11) -> 1402 | H11: =SUM('2015:2026'!H11) -> 962 | I11: =SUM('2015:2026'!I11) -> 1073 | J11: =SUM('2015:2026'!J11) -> 863 | ... N11: =SUM('2015:2026'!N11) -> 1302 | O11: =SUM(C11:N11) -> 16186
A12: Transpositions | B12: Project Muse | C12: =SUM('2015:2026'!C12) -> 0 | D12: =SUM('2015:2026'!D12) -> 0 | E12: =SUM('2015:2026'!E12) -> 0 | F12: =SUM('2015:2026'!F12) -> 0 | G12: =SUM('2015:2026'!G12) -> 0 | H12: =SUM('2015:2026'!H12) -> 0 | I12: =SUM('2015:2026'!I12) -> 0 | J12: =SUM('2015:2026'!J12) -> 0 | ... N12: =SUM('2015:2026'!N12) -> 0 | O12: =SUM(C12:N12) -> 0
A13: Virtual Works – Actual Things | B13: OAPEN | C13: =SUM('2015:2026'!C13) -> 317 | D13: =SUM('2015:2026'!D13) -> 432 | E13: =SUM('2015:2026'!E13) -> 493 | F13: =SUM('2015:2026'!F13) -> 480 | G13: =SUM('2015:2026'!G13) -> 451 | H13: =SUM('2015:2026'!H13) -> 436 | I13: =SUM('2015:2026'!I13) -> 352 | J13: =SUM('2015:2026'!J13) -> 411 | ... N13: =SUM('2015:2026'!N13) -> 315 | O13: =SUM(C13:N13) -> 4987 | Q13: =SUM('2019'!Q13:Q15,'2020'!Q13:Q15,'2021'!Q13:Q15,'2022'!Q13:Q15,'2023'!Q13:Q15,'2024'!Q13:Q15,'2025'!Q13:Q15,'2026'!Q13:Q15) -> 72
A14: Virtual Works – Actual Things | B14: JSTOR | C14: =SUM('2015:2026'!C14) -> 1301 | D14: =SUM('2015:2026'!D14) -> 1399 | E14: =SUM('2015:2026'!E14) -> 1687 | F14: =SUM('2015:2026'!F14) -> 1419 | G14: =SUM('2015:2026'!G14) -> 1279 | H14: =SUM('2015:2026'!H14) -> 827 | I14: =SUM('2015:2026'!I14) -> 777 | J14: =SUM('2015:2026'!J14) -> 561 | ... N14: =SUM('2015:2026'!N14) -> 1154 | O14: =SUM(C14:N14) -> 14385
A15: Virtual Works – Actual Things | B15: Project Muse | C15: =SUM('2015:2026'!C15) -> 53 | D15: =SUM('2015:2026'!D15) -> 70 | E15: =SUM('2015:2026'!E15) -> 42 | F15: =SUM('2015:2026'!F15) -> 30 | G15: =SUM('2015:2026'!G15) -> 70 | H15: =SUM('2015:2026'!H15) -> 61 | I15: =SUM('2015:2026'!I15) -> 112 | J15: =SUM('2015:2026'!J15) -> 60 | ... N15: =SUM('2015:2026'!N15) -> 110 | O15: =SUM(C15:N15) -> 831
A16: Logic of Experimentation | B16: OAPEN | C16: =SUM('2015:2026'!C16) -> 634 | D16: =SUM('2015:2026'!D16) -> 596 | E16: =SUM('2015:2026'!E16) -> 698 | F16: =SUM('2015:2026'!F16) -> 680 | G16: =SUM('2015:2026'!G16) -> 620 | H16: =SUM('2015:2026'!H16) -> 636 | I16: =SUM('2015:2026'!I16) -> 387 | J16: =SUM('2015:2026'!J16) -> 459 | ... N16: =SUM('2015:2026'!N16) -> 449 | O16: =SUM(C16:N16) -> 7241 | Q16: =SUM('2019'!Q16:Q18,'2020'!Q16:Q18,'2021'!Q16:Q18,'2022'!Q16:Q18,'2023'!Q16:Q18,'2024'!Q16:Q18,'2025'!Q16:Q18,'2026'!Q16:Q18) -> 702
A17: Logic of Experimentation | B17: JSTOR | C17: =SUM('2015:2026'!C17) -> 1281 | D17: =SUM('2015:2026'!D17) -> 1281 | E17: =SUM('2015:2026'!E17) -> 1262 | F17: =SUM('2015:2026'!F17) -> 1545 | G17: =SUM('2015:2026'!G17) -> 1289 | H17: =SUM('2015:2026'!H17) -> 946 | I17: =SUM('2015:2026'!I17) -> 910 | J17: =SUM('2015:2026'!J17) -> 786 | ... N17: =SUM('2015:2026'!N17) -> 1005 | O17: =SUM(C17:N17) -> 13382
A18: Logic of Experimentation | B18: Project Muse | C18: =SUM('2015:2026'!C18) -> 0 | D18: =SUM('2015:2026'!D18) -> 0 | E18: =SUM('2015:2026'!E18) -> 0 | F18: =SUM('2015:2026'!F18) -> 0 | G18: =SUM('2015:2026'!G18) -> 0 | H18: =SUM('2015:2026'!H18) -> 0 | I18: =SUM('2015:2026'!I18) -> 0 | J18: =SUM('2015:2026'!J18) -> 0 | ... N18: =SUM('2015:2026'!N18) -> 0 | O18: =SUM(C18:N18) -> 0
A19: Powers of Divergence | B19: OAPEN | C19: =SUM('2015:2026'!C19) -> 180 | D19: =SUM('2015:2026'!D19) -> 197 | E19: =SUM('2015:2026'!E19) -> 227 | F19: =SUM('2015:2026'!F19) -> 220 | G19: =SUM('2015:2026'!G19) -> 239 | H19: =SUM('2015:2026'!H19) -> 164 | I19: =SUM('2015:2026'!I19) -> 173 | J19: =SUM('2015:2026'!J19) -> 193 | ... N19: =SUM('2015:2026'!N19) -> 143 | O19: =SUM(C19:N19) -> 2457 | Q19: =SUM('2019'!Q19:Q21,'2020'!Q19:Q21,'2021'!Q19:Q21,'2022'!Q19:Q21,'2023'!Q19:Q21,'2024'!Q19:Q21,'2025'!Q19:Q21,'2026'!Q19:Q21) -> 85
A20: Powers of Divergence | B20: JSTOR | C20: =SUM('2015:2026'!C20) -> 751 | D20: =SUM('2015:2026'!D20) -> 770 | E20: =SUM('2015:2026'!E20) -> 1120 | F20: =SUM('2015:2026'!F20) -> 949 | G20: =SUM('2015:2026'!G20) -> 1021 | H20: =SUM('2015:2026'!H20) -> 665 | I20: =SUM('2015:2026'!I20) -> 833 | J20: =SUM('2015:2026'!J20) -> 438 | ... N20: =SUM('2015:2026'!N20) -> 837 | O20: =SUM(C20:N20) -> 9967
A21: Powers of Divergence | B21: Project Muse | C21: =SUM('2015:2026'!C21) -> 0 | D21: =SUM('2015:2026'!D21) -> 0 | E21: =SUM('2015:2026'!E21) -> 0 | F21: =SUM('2015:2026'!F21) -> 0 | G21: =SUM('2015:2026'!G21) -> 0 | H21: =SUM('2015:2026'!H21) -> 0 | I21: =SUM('2015:2026'!I21) -> 0 | J21: =SUM('2015:2026'!J21) -> 0 | ... N21: =SUM('2015:2026'!N21) -> 0 | O21: =SUM(C21:N21) -> 0
A22: Beyond Provenance | B22: OAPEN | C22: =SUM('2015:2026'!C22) -> 252 | D22: =SUM('2015:2026'!D22) -> 237 | E22: =SUM('2015:2026'!E22) -> 472 | F22: =SUM('2015:2026'!F22) -> 350 | G22: =SUM('2015:2026'!G22) -> 234 | H22: =SUM('2015:2026'!H22) -> 282 | I22: =SUM('2015:2026'!I22) -> 166 | J22: =SUM('2015:2026'!J22) -> 159 | ... N22: =SUM('2015:2026'!N22) -> 189 | O22: =SUM(C22:N22) -> 3062 | Q22: =SUM('2019'!Q22:Q24,'2020'!Q22:Q24,'2021'!Q22:Q24,'2022'!Q22:Q24,'2023'!Q22:Q24,'2024'!Q22:Q24,'2025'!Q22:Q24,'2026'!Q22:Q24) -> 33
A23: Beyond Provenance | B23: JSTOR | C23: =SUM('2015:2026'!C23) -> 729 | D23: =SUM('2015:2026'!D23) -> 536 | E23: =SUM('2015:2026'!E23) -> 661 | F23: =SUM('2015:2026'!F23) -> 605 | G23: =SUM('2015:2026'!G23) -> 583 | H23: =SUM('2015:2026'!H23) -> 433 | I23: =SUM('2015:2026'!I23) -> 386 | J23: =SUM('2015:2026'!J23) -> 294 | ... N23: =SUM('2015:2026'!N23) -> 588 | O23: =SUM(C23:N23) -> 6475
A24: Beyond Provenance | B24: Project Muse | C24: =SUM('2015:2026'!C24) -> 161 | D24: =SUM('2015:2026'!D24) -> 134 | E24: =SUM('2015:2026'!E24) -> 116 | F24: =SUM('2015:2026'!F24) -> 118 | G24: =SUM('2015:2026'!G24) -> 225 | H24: =SUM('2015:2026'!H24) -> 133 | I24: =SUM('2015:2026'!I24) -> 157 | J24: =SUM('2015:2026'!J24) -> 146 | ... N24: =SUM('2015:2026'!N24) -> 47 | O24: =SUM(C24:N24) -> 1388
A25: Images of Immigrants and Refugees in Western Europe | B25: OAPEN | C25: =SUM('2015:2026'!C25) -> 1025 | D25: =SUM('2015:2026'!D25) -> 1048 | E25: =SUM('2015:2026'!E25) -> 1181 | F25: =SUM('2015:2026'!F25) -> 1243 | G25: =SUM('2015:2026'!G25) -> 1677 | H25: =SUM('2015:2026'!H25) -> 1090 | I25: =SUM('2015:2026'!I25) -> 730 | J25: =SUM('2015:2026'!J25) -> 703 | ... N25: =SUM('2015:2026'!N25) -> 1117 | O25: =SUM(C25:N25) -> 13067 | Q25: =SUM('2019'!Q25:Q27,'2020'!Q25:Q27,'2021'!Q25:Q27,'2022'!Q25:Q27,'2023'!Q25:Q27,'2024'!Q25:Q27,'2025'!Q25:Q27,'2026'!Q25:Q27) -> 94
A26: Images of Immigrants and Refugees in Western Europe | B26: JSTOR | C26: =SUM('2015:2026'!C26) -> 2234 | D26: =SUM('2015:2026'!D26) -> 2214 | E26: =SUM('2015:2026'!E26) -> 3104 | F26: =SUM('2015:2026'!F26) -> 3126 | G26: =SUM('2015:2026'!G26) -> 2825 | H26: =SUM('2015:2026'!H26) -> 1901 | I26: =SUM('2015:2026'!I26) -> 1644 | J26: =SUM('2015:2026'!J26) -> 1170 | ... N26: =SUM('2015:2026'!N26) -> 3043 | O26: =SUM(C26:N26) -> 30861
A27: Images of Immigrants and Refugees in Western Europe | B27: Project Muse | C27: =SUM('2015:2026'!C27) -> 612 | D27: =SUM('2015:2026'!D27) -> 588 | E27: =SUM('2015:2026'!E27) -> 599 | F27: =SUM('2015:2026'!F27) -> 565 | G27: =SUM('2015:2026'!G27) -> 704 | H27: =SUM('2015:2026'!H27) -> 523 | I27: =SUM('2015:2026'!I27) -> 457 | J27: =SUM('2015:2026'!J27) -> 446 | ... N27: =SUM('2015:2026'!N27) -> 539 | O27: =SUM(C27:N27) -> 6501
A28: Brokers of Modernity | B28: OAPEN | C28: =SUM('2015:2026'!C28) -> 559 | D28: =SUM('2015:2026'!D28) -> 752 | E28: =SUM('2015:2026'!E28) -> 922 | F28: =SUM('2015:2026'!F28) -> 792 | G28: =SUM('2015:2026'!G28) -> 681 | H28: =SUM('2015:2026'!H28) -> 563 | I28: =SUM('2015:2026'!I28) -> 497 | J28: =SUM('2015:2026'!J28) -> 451 | ... N28: =SUM('2015:2026'!N28) -> 459 | O28: =SUM(C28:N28) -> 7329 | Q28: =SUM('2019'!Q28:Q30,'2020'!Q28:Q30,'2021'!Q28:Q30,'2022'!Q28:Q30,'2023'!Q28:Q30,'2024'!Q28:Q30,'2025'!Q28:Q30,'2026'!Q28:Q30) -> 83
A29: Brokers of Modernity | B29: JSTOR | C29: =SUM('2015:2026'!C29) -> 1738 | D29: =SUM('2015:2026'!D29) -> 2185 | E29: =SUM('2015:2026'!E29) -> 3943 | F29: =SUM('2015:2026'!F29) -> 3283 | G29: =SUM('2015:2026'!G29) -> 2809 | H29: =SUM('2015:2026'!H29) -> 1450 | I29: =SUM('2015:2026'!I29) -> 965 | J29: =SUM('2015:2026'!J29) -> 1033 | ... N29: =SUM('2015:2026'!N29) -> 1889 | O29: =SUM(C29:N29) -> 25384
A30: Brokers of Modernity | B30: Project Muse | C30: =SUM('2015:2026'!C30) -> 594 | D30: =SUM('2015:2026'!D30) -> 591 | E30: =SUM('2015:2026'!E30) -> 1860 | F30: =SUM('2015:2026'!F30) -> 1245 | G30: =SUM('2015:2026'!G30) -> 1491 | H30: =SUM('2015:2026'!H30) -> 875 | I30: =SUM('2015:2026'!I30) -> 759 | J30: =SUM('2015:2026'!J30) -> 921 | ... N30: =SUM('2015:2026'!N30) -> 602 | O30: =SUM(C30:N30) -> 10597
A31: Gender and Christianity in Modern Europe | B31: OAPEN | C31: =SUM('2015:2026'!C31) -> 490 | D31: =SUM('2015:2026'!D31) -> 443 | E31: =SUM('2015:2026'!E31) -> 704 | F31: =SUM('2015:2026'!F31) -> 503 | G31: =SUM('2015:2026'!G31) -> 436 | H31: =SUM('2015:2026'!H31) -> 345 | I31: =SUM('2015:2026'!I31) -> 294 | J31: =SUM('2015:2026'!J31) -> 345 | ... N31: =SUM('2015:2026'!N31) -> 347 | O31: =SUM(C31:N31) -> 4961 | Q31: =SUM('2019'!Q31:Q33,'2020'!Q31:Q33,'2021'!Q31:Q33,'2022'!Q31:Q33,'2023'!Q31:Q33,'2024'!Q31:Q33,'2025'!Q31:Q33,'2026'!Q31:Q33) -> 241
A32: Gender and Christianity in Modern Europe | B32: JSTOR | C32: =SUM('2015:2026'!C32) -> 647 | D32: =SUM('2015:2026'!D32) -> 787 | E32: =SUM('2015:2026'!E32) -> 1111 | F32: =SUM('2015:2026'!F32) -> 1049 | G32: =SUM('2015:2026'!G32) -> 921 | H32: =SUM('2015:2026'!H32) -> 567 | I32: =SUM('2015:2026'!I32) -> 643 | J32: =SUM('2015:2026'!J32) -> 559 | ... N32: =SUM('2015:2026'!N32) -> 758 | O32: =SUM(C32:N32) -> 9427
A33: Gender and Christianity in Modern Europe | B33: Project Muse | C33: =SUM('2015:2026'!C33) -> 672 | D33: =SUM('2015:2026'!D33) -> 617 | E33: =SUM('2015:2026'!E33) -> 713 | F33: =SUM('2015:2026'!F33) -> 610 | G33: =SUM('2015:2026'!G33) -> 622 | H33: =SUM('2015:2026'!H33) -> 737 | I33: =SUM('2015:2026'!I33) -> 647 | J33: =SUM('2015:2026'!J33) -> 763 | ... N33: =SUM('2015:2026'!N33) -> 579 | O33: =SUM(C33:N33) -> 7583
A34: New Multicultural Identities in Europe | B34: OAPEN | C34: =SUM('2015:2026'!C34) -> 228 | D34: =SUM('2015:2026'!D34) -> 235 | E34: =SUM('2015:2026'!E34) -> 359 | F34: =SUM('2015:2026'!F34) -> 359 | G34: =SUM('2015:2026'!G34) -> 299 | H34: =SUM('2015:2026'!H34) -> 222 | I34: =SUM('2015:2026'!I34) -> 157 | J34: =SUM('2015:2026'!J34) -> 147 | ... N34: =SUM('2015:2026'!N34) -> 225 | O34: =SUM(C34:N34) -> 2814 | Q34: =SUM('2019'!Q34:Q36,'2020'!Q34:Q36,'2021'!Q34:Q36,'2022'!Q34:Q36,'2023'!Q34:Q36,'2024'!Q34:Q36,'2025'!Q34:Q36,'2026'!Q34:Q36) -> 144
A35: New Multicultural Identities in Europe | B35: JSTOR | C35: =SUM('2015:2026'!C35) -> 919 | D35: =SUM('2015:2026'!D35) -> 990 | E35: =SUM('2015:2026'!E35) -> 1445 | F35: =SUM('2015:2026'!F35) -> 1662 | G35: =SUM('2015:2026'!G35) -> 1267 | H35: =SUM('2015:2026'!H35) -> 1071 | I35: =SUM('2015:2026'!I35) -> 773 | J35: =SUM('2015:2026'!J35) -> 475 | ... N35: =SUM('2015:2026'!N35) -> 1142 | O35: =SUM(C35:N35) -> 13068
A36: New Multicultural Identities in Europe | B36: Project Muse | C36: =SUM('2015:2026'!C36) -> 224 | D36: =SUM('2015:2026'!D36) -> 169 | E36: =SUM('2015:2026'!E36) -> 261 | F36: =SUM('2015:2026'!F36) -> 315 | G36: =SUM('2015:2026'!G36) -> 479 | H36: =SUM('2015:2026'!H36) -> 289 | I36: =SUM('2015:2026'!I36) -> 212 | J36: =SUM('2015:2026'!J36) -> 178 | ... N36: =SUM('2015:2026'!N36) -> 177 | O36: =SUM(C36:N36) -> 2686
A37: Essays on Plato's Epistemology | B37: OAPEN | C37: =SUM('2015:2026'!C37) -> 931 | D37: =SUM('2015:2026'!D37) -> 1289 | E37: =SUM('2015:2026'!E37) -> 1538 | F37: =SUM('2015:2026'!F37) -> 1203 | G37: =SUM('2015:2026'!G37) -> 1186 | H37: =SUM('2015:2026'!H37) -> 1001 | I37: =SUM('2015:2026'!I37) -> 783 | J37: =SUM('2015:2026'!J37) -> 837 | ... N37: =SUM('2015:2026'!N37) -> 1049 | O37: =SUM(C37:N37) -> 14599 | Q37: =SUM('2019'!Q37:Q39,'2020'!Q37:Q39,'2021'!Q37:Q39,'2022'!Q37:Q39,'2023'!Q37:Q39,'2024'!Q37:Q39,'2025'!Q37:Q39,'2026'!Q37:Q39) -> 141
A38: Essays on Plato's Epistemology | B38: JSTOR | C38: =SUM('2015:2026'!C38) -> 799 | D38: =SUM('2015:2026'!D38) -> 1349 | E38: =SUM('2015:2026'!E38) -> 1494 | F38: =SUM('2015:2026'!F38) -> 1432 | G38: =SUM('2015:2026'!G38) -> 1195 | H38: =SUM('2015:2026'!H38) -> 883 | I38: =SUM('2015:2026'!I38) -> 755 | J38: =SUM('2015:2026'!J38) -> 500 | ... N38: =SUM('2015:2026'!N38) -> 1044 | O38: =SUM(C38:N38) -> 13166
A39: Essays on Plato's Epistemology | B39: Project Muse | C39: =SUM('2015:2026'!C39) -> 675 | D39: =SUM('2015:2026'!D39) -> 497 | E39: =SUM('2015:2026'!E39) -> 748 | F39: =SUM('2015:2026'!F39) -> 585 | G39: =SUM('2015:2026'!G39) -> 963 | H39: =SUM('2015:2026'!H39) -> 417 | I39: =SUM('2015:2026'!I39) -> 465 | J39: =SUM('2015:2026'!J39) -> 344 | ... N39: =SUM('2015:2026'!N39) -> 567 | O39: =SUM(C39:N39) -> 6546
A40: Virtues for the People | B40: OAPEN | C40: =SUM('2015:2026'!C40) -> 362 | D40: =SUM('2015:2026'!D40) -> 383 | E40: =SUM('2015:2026'!E40) -> 510 | F40: =SUM('2015:2026'!F40) -> 354 | G40: =SUM('2015:2026'!G40) -> 375 | H40: =SUM('2015:2026'!H40) -> 340 | I40: =SUM('2015:2026'!I40) -> 322 | J40: =SUM('2015:2026'!J40) -> 268 | ... N40: =SUM('2015:2026'!N40) -> 281 | O40: =SUM(C40:N40) -> 4180 | Q40: =SUM('2019'!Q40:Q42,'2020'!Q40:Q42,'2021'!Q40:Q42,'2022'!Q40:Q42,'2023'!Q40:Q42,'2024'!Q40:Q42,'2025'!Q40:Q42,'2026'!Q40:Q42) -> 160
A41: Virtues for the People | B41: JSTOR | C41: =SUM('2015:2026'!C41) -> 389 | D41: =SUM('2015:2026'!D41) -> 555 | E41: =SUM('2015:2026'!E41) -> 965 | F41: =SUM('2015:2026'!F41) -> 752 | G41: =SUM('2015:2026'!G41) -> 747 | H41: =SUM('2015:2026'!H41) -> 534 | I41: =SUM('2015:2026'!I41) -> 534 | J41: =SUM('2015:2026'!J41) -> 354 | ... N41: =SUM('2015:2026'!N41) -> 559 | O41: =SUM(C41:N41) -> 7234
A42: Virtues for the People | B42: Project Muse | C42: =SUM('2015:2026'!C42) -> 260 | D42: =SUM('2015:2026'!D42) -> 352 | E42: =SUM('2015:2026'!E42) -> 339 | F42: =SUM('2015:2026'!F42) -> 616 | G42: =SUM('2015:2026'!G42) -> 679 | H42: =SUM('2015:2026'!H42) -> 414 | I42: =SUM('2015:2026'!I42) -> 338 | J42: =SUM('2015:2026'!J42) -> 293 | ... N42: =SUM('2015:2026'!N42) -> 248 | O42: =SUM(C42:N42) -> 3942
A43: A Small Nation in the Turmoil of the Second World War | B43: OAPEN | C43: =SUM('2015:2026'!C43) -> 218 | D43: =SUM('2015:2026'!D43) -> 312 | E43: =SUM('2015:2026'!E43) -> 361 | F43: =SUM('2015:2026'!F43) -> 868 | G43: =SUM('2015:2026'!G43) -> 210 | H43: =SUM('2015:2026'!H43) -> 252 | I43: =SUM('2015:2026'!I43) -> 231 | J43: =SUM('2015:2026'!J43) -> 201 | ... N43: =SUM('2015:2026'!N43) -> 206 | O43: =SUM(C43:N43) -> 3536 | Q43: =SUM('2019'!Q43:Q45,'2020'!Q43:Q45,'2021'!Q43:Q45,'2022'!Q43:Q45,'2023'!Q43:Q45,'2024'!Q43:Q45,'2025'!Q43:Q45,'2026'!Q43:Q45) -> 70
A44: A Small Nation in the Turmoil of the Second World War | B44: JSTOR | C44: =SUM('2015:2026'!C44) -> 281 | D44: =SUM('2015:2026'!D44) -> 387 | E44: =SUM('2015:2026'!E44) -> 457 | F44: =SUM('2015:2026'!F44) -> 460 | G44: =SUM('2015:2026'!G44) -> 674 | H44: =SUM('2015:2026'!H44) -> 621 | I44: =SUM('2015:2026'!I44) -> 481 | J44: =SUM('2015:2026'!J44) -> 223 | ... N44: =SUM('2015:2026'!N44) -> 169 | O44: =SUM(C44:N44) -> 4841
A45: A Small Nation in the Turmoil of the Second World War | B45: Project Muse | C45: =SUM('2015:2026'!C45) -> 1026 | D45: =SUM('2015:2026'!D45) -> 895 | E45: =SUM('2015:2026'!E45) -> 1136 | F45: =SUM('2015:2026'!F45) -> 728 | G45: =SUM('2015:2026'!G45) -> 1564 | H45: =SUM('2015:2026'!H45) -> 1379 | I45: =SUM('2015:2026'!I45) -> 1136 | J45: =SUM('2015:2026'!J45) -> 1273 | ... N45: =SUM('2015:2026'!N45) -> 970 | O45: =SUM(C45:N45) -> 12462
A46: Mapping Landscapes in Transformation | B46: OAPEN | C46: =SUM('2015:2026'!C46) -> 1196 | D46: =SUM('2015:2026'!D46) -> 1562 | E46: =SUM('2015:2026'!E46) -> 1965 | F46: =SUM('2015:2026'!F46) -> 1659 | G46: =SUM('2015:2026'!G46) -> 1004 | H46: =SUM('2015:2026'!H46) -> 1579 | I46: =SUM('2015:2026'!I46) -> 1356 | J46: =SUM('2015:2026'!J46) -> 1605 | ... N46: =SUM('2015:2026'!N46) -> 980 | O46: =SUM(C46:N46) -> 17061 | Q46: =SUM('2019'!Q46:Q48,'2020'!Q46:Q48,'2021'!Q46:Q48,'2022'!Q46:Q48,'2023'!Q46:Q48,'2024'!Q46:Q48,'2025'!Q46:Q48,'2026'!Q46:Q48) -> 135
A47: Mapping Landscapes in Transformation | B47: JSTOR | C47: =SUM('2015:2026'!C47) -> 1485 | D47: =SUM('2015:2026'!D47) -> 1637 | E47: =SUM('2015:2026'!E47) -> 2105 | F47: =SUM('2015:2026'!F47) -> 1781 | G47: =SUM('2015:2026'!G47) -> 1451 | H47: =SUM('2015:2026'!H47) -> 1349 | I47: =SUM('2015:2026'!I47) -> 1274 | J47: =SUM('2015:2026'!J47) -> 1155 | ... N47: =SUM('2015:2026'!N47) -> 1804 | O47: =SUM(C47:N47) -> 19761
A48: Mapping Landscapes in Transformation | B48: Project Muse | C48: =SUM('2015:2026'!C48) -> 0 | D48: =SUM('2015:2026'!D48) -> 0 | E48: =SUM('2015:2026'!E48) -> 0 | F48: =SUM('2015:2026'!F48) -> 0 | G48: =SUM('2015:2026'!G48) -> 0 | H48: =SUM('2015:2026'!H48) -> 0 | I48: =SUM('2015:2026'!I48) -> 0 | J48: =SUM('2015:2026'!J48) -> 0 | ... N48: =SUM('2015:2026'!N48) -> 0 | O48: =SUM(C48:N48) -> 0
A49: Modern Islamic Thinking and Activism | B49: OAPEN | C49: =SUM('2015:2026'!C49) -> 332 | D49: =SUM('2015:2026'!D49) -> 398 | E49: =SUM('2015:2026'!E49) -> 444 | F49: =SUM('2015:2026'!F49) -> 317 | G49: =SUM('2015:2026'!G49) -> 302 | H49: =SUM('2015:2026'!H49) -> 351 | I49: =SUM('2015:2026'!I49) -> 289 | J49: =SUM('2015:2026'!J49) -> 280 | ... N49: =SUM('2015:2026'!N49) -> 376 | O49: =SUM(C49:N49) -> 4144 | Q49: =SUM('2019'!Q49:Q51,'2020'!Q49:Q51,'2021'!Q49:Q51,'2022'!Q49:Q51,'2023'!Q49:Q51,'2024'!Q49:Q51,'2025'!Q49:Q51,'2026'!Q49:Q51) -> 142
A50: Modern Islamic Thinking and Activism | B50: JSTOR | C50: =SUM('2015:2026'!C50) -> 980 | D50: =SUM('2015:2026'!D50) -> 992 | E50: =SUM('2015:2026'!E50) -> 1446 | F50: =SUM('2015:2026'!F50) -> 1362 | G50: =SUM('2015:2026'!G50) -> 1622 | H50: =SUM('2015:2026'!H50) -> 933 | I50: =SUM('2015:2026'!I50) -> 809 | J50: =SUM('2015:2026'!J50) -> 855 | ... N50: =SUM('2015:2026'!N50) -> 1248 | O50: =SUM(C50:N50) -> 14034
A51: Modern Islamic Thinking and Activism | B51: Project Muse | C51: =SUM('2015:2026'!C51) -> 302 | D51: =SUM('2015:2026'!D51) -> 280 | E51: =SUM('2015:2026'!E51) -> 470 | F51: =SUM('2015:2026'!F51) -> 595 | G51: =SUM('2015:2026'!G51) -> 592 | H51: =SUM('2015:2026'!H51) -> 421 | I51: =SUM('2015:2026'!I51) -> 347 | J51: =SUM('2015:2026'!J51) -> 472 | ... N51: =SUM('2015:2026'!N51) -> 219 | O51: =SUM(C51:N51) -> 4393
A52: Alles verandert altijd | B52: OAPEN | C52: =SUM('2015:2026'!C52) -> 258 | D52: =SUM('2015:2026'!D52) -> 303 | E52: =SUM('2015:2026'!E52) -> 421 | F52: =SUM('2015:2026'!F52) -> 388 | G52: =SUM('2015:2026'!G52) -> 439 | H52: =SUM('2015:2026'!H52) -> 367 | I52: =SUM('2015:2026'!I52) -> 257 | J52: =SUM('2015:2026'!J52) -> 221 | ... N52: =SUM('2015:2026'!N52) -> 264 | O52: =SUM(C52:N52) -> 4085 | Q52: =SUM('2019'!Q52:Q54,'2020'!Q52:Q54,'2021'!Q52:Q54,'2022'!Q52:Q54,'2023'!Q52:Q54,'2024'!Q52:Q54,'2025'!Q52:Q54,'2026'!Q52:Q54) -> 119
A53: Alles verandert altijd | B53: JSTOR | C53: =SUM('2015:2026'!C53) -> 384 | D53: =SUM('2015:2026'!D53) -> 540 | E53: =SUM('2015:2026'!E53) -> 631 | F53: =SUM('2015:2026'!F53) -> 526 | G53: =SUM('2015:2026'!G53) -> 690 | H53: =SUM('2015:2026'!H53) -> 547 | I53: =SUM('2015:2026'!I53) -> 590 | J53: =SUM('2015:2026'!J53) -> 293 | ... N53: =SUM('2015:2026'!N53) -> 512 | O53: =SUM(C53:N53) -> 6308
A54: Alles verandert altijd | B54: Project Muse | C54: =SUM('2015:2026'!C54) -> 1075 | D54: =SUM('2015:2026'!D54) -> 873 | E54: =SUM('2015:2026'!E54) -> 1591 | F54: =SUM('2015:2026'!F54) -> 837 | G54: =SUM('2015:2026'!G54) -> 1038 | H54: =SUM('2015:2026'!H54) -> 817 | I54: =SUM('2015:2026'!I54) -> 531 | J54: =SUM('2015:2026'!J54) -> 424 | ... N54: =SUM('2015:2026'!N54) -> 562 | O54: =SUM(C54:N54) -> 9452
A55: Militant Jihadism | B55: OAPEN | C55: =SUM('2015:2026'!C55) -> 277 | D55: =SUM('2015:2026'!D55) -> 353 | E55: =SUM('2015:2026'!E55) -> 520 | F55: =SUM('2015:2026'!F55) -> 380 | G55: =SUM('2015:2026'!G55) -> 310 | H55: =SUM('2015:2026'!H55) -> 245 | I55: =SUM('2015:2026'!I55) -> 309 | J55: =SUM('2015:2026'!J55) -> 239 | ... N55: =SUM('2015:2026'!N55) -> 360 | O55: =SUM(C55:N55) -> 4034 | Q55: =SUM('2019'!Q55:Q57,'2020'!Q55:Q57,'2021'!Q55:Q57,'2022'!Q55:Q57,'2023'!Q55:Q57,'2024'!Q55:Q57,'2025'!Q55:Q57,'2026'!Q55:Q57) -> 163
A56: Militant Jihadism | B56: JSTOR | C56: =SUM('2015:2026'!C56) -> 1048 | D56: =SUM('2015:2026'!D56) -> 1069 | E56: =SUM('2015:2026'!E56) -> 1294 | F56: =SUM('2015:2026'!F56) -> 1465 | G56: =SUM('2015:2026'!G56) -> 1180 | H56: =SUM('2015:2026'!H56) -> 719 | I56: =SUM('2015:2026'!I56) -> 661 | J56: =SUM('2015:2026'!J56) -> 515 | ... N56: =SUM('2015:2026'!N56) -> 1035 | O56: =SUM(C56:N56) -> 12714
A57: Militant Jihadism | B57: Project Muse | C57: =SUM('2015:2026'!C57) -> 317 | D57: =SUM('2015:2026'!D57) -> 420 | E57: =SUM('2015:2026'!E57) -> 329 | F57: =SUM('2015:2026'!F57) -> 523 | G57: =SUM('2015:2026'!G57) -> 1011 | H57: =SUM('2015:2026'!H57) -> 364 | I57: =SUM('2015:2026'!I57) -> 354 | J57: =SUM('2015:2026'!J57) -> 524 | ... N57: =SUM('2015:2026'!N57) -> 295 | O57: =SUM(C57:N57) -> 5222
A58: Participatiegolven | B58: OAPEN | C58: =SUM('2015:2026'!C58) -> 224 | D58: =SUM('2015:2026'!D58) -> 242 | E58: =SUM('2015:2026'!E58) -> 283 | F58: =SUM('2015:2026'!F58) -> 268 | G58: =SUM('2015:2026'!G58) -> 272 | H58: =SUM('2015:2026'!H58) -> 176 | I58: =SUM('2015:2026'!I58) -> 116 | J58: =SUM('2015:2026'!J58) -> 135 | ... N58: =SUM('2015:2026'!N58) -> 236 | O58: =SUM(C58:N58) -> 2582 | Q58: =SUM('2019'!Q58:Q60,'2020'!Q58:Q60,'2021'!Q58:Q60,'2022'!Q58:Q60,'2023'!Q58:Q60,'2024'!Q58:Q60,'2025'!Q58:Q60,'2026'!Q58:Q60) -> 25
A59: Participatiegolven | B59: JSTOR | C59: =SUM('2015:2026'!C59) -> 320 | D59: =SUM('2015:2026'!D59) -> 245 | E59: =SUM('2015:2026'!E59) -> 326 | F59: =SUM('2015:2026'!F59) -> 305 | G59: =SUM('2015:2026'!G59) -> 338 | H59: =SUM('2015:2026'!H59) -> 268 | I59: =SUM('2015:2026'!I59) -> 241 | J59: =SUM('2015:2026'!J59) -> 126 | ... N59: =SUM('2015:2026'!N59) -> 301 | O59: =SUM(C59:N59) -> 3207
A60: Participatiegolven | B60: Project Muse | C60: =SUM('2015:2026'!C60) -> 462 | D60: =SUM('2015:2026'!D60) -> 278 | E60: =SUM('2015:2026'!E60) -> 356 | F60: =SUM('2015:2026'!F60) -> 412 | G60: =SUM('2015:2026'!G60) -> 488 | H60: =SUM('2015:2026'!H60) -> 499 | I60: =SUM('2015:2026'!I60) -> 286 | J60: =SUM('2015:2026'!J60) -> 197 | ... N60: =SUM('2015:2026'!N60) -> 281 | O60: =SUM(C60:N60) -> 3962
A61: Financing Quality Education for All | B61: OAPEN | C61: =SUM('2015:2026'!C61) -> 125 | D61: =SUM('2015:2026'!D61) -> 155 | E61: =SUM('2015:2026'!E61) -> 186 | F61: =SUM('2015:2026'!F61) -> 149 | G61: =SUM('2015:2026'!G61) -> 168 | H61: =SUM('2015:2026'!H61) -> 150 | I61: =SUM('2015:2026'!I61) -> 93 | J61: =SUM('2015:2026'!J61) -> 158 | ... N61: =SUM('2015:2026'!N61) -> 115 | O61: =SUM(C61:N61) -> 1870 | Q61: =SUM('2019'!Q61:Q63,'2020'!Q61:Q63,'2021'!Q61:Q63,'2022'!Q61:Q63,'2023'!Q61:Q63,'2024'!Q61:Q63,'2025'!Q61:Q63,'2026'!Q61:Q63) -> 125
A62: Financing Quality Education for All | B62: JSTOR | C62: =SUM('2015:2026'!C62) -> 1469 | D62: =SUM('2015:2026'!D62) -> 1823 | E62: =SUM('2015:2026'!E62) -> 2089 | F62: =SUM('2015:2026'!F62) -> 2108 | G62: =SUM('2015:2026'!G62) -> 1530 | H62: =SUM('2015:2026'!H62) -> 990 | I62: =SUM('2015:2026'!I62) -> 791 | J62: =SUM('2015:2026'!J62) -> 581 | ... N62: =SUM('2015:2026'!N62) -> 1789 | O62: =SUM(C62:N62) -> 20151
A63: Financing Quality Education for All | B63: Project Muse | C63: =SUM('2015:2026'!C63) -> 299 | D63: =SUM('2015:2026'!D63) -> 194 | E63: =SUM('2015:2026'!E63) -> 253 | F63: =SUM('2015:2026'!F63) -> 398 | G63: =SUM('2015:2026'!G63) -> 470 | H63: =SUM('2015:2026'!H63) -> 285 | I63: =SUM('2015:2026'!I63) -> 244 | J63: =SUM('2015:2026'!J63) -> 152 | ... N63: =SUM('2015:2026'!N63) -> 115 | O63: =SUM(C63:N63) -> 2812
A64: As German as Kafka | B64: OAPEN | C64: =SUM('2015:2026'!C64) -> 345 | D64: =SUM('2015:2026'!D64) -> 405 | E64: =SUM('2015:2026'!E64) -> 484 | F64: =SUM('2015:2026'!F64) -> 381 | G64: =SUM('2015:2026'!G64) -> 294 | H64: =SUM('2015:2026'!H64) -> 342 | I64: =SUM('2015:2026'!I64) -> 277 | J64: =SUM('2015:2026'!J64) -> 283 | ... N64: =SUM('2015:2026'!N64) -> 232 | O64: =SUM(C64:N64) -> 3744 | Q64: =SUM('2019'!Q64:Q66,'2020'!Q64:Q66,'2021'!Q64:Q66,'2022'!Q64:Q66,'2023'!Q64:Q66,'2024'!Q64:Q66,'2025'!Q64:Q66,'2026'!Q64:Q66) -> 32
A65: As German as Kafka | B65: JSTOR | C65: =SUM('2015:2026'!C65) -> 401 | D65: =SUM('2015:2026'!D65) -> 332 | E65: =SUM('2015:2026'!E65) -> 587 | F65: =SUM('2015:2026'!F65) -> 431 | G65: =SUM('2015:2026'!G65) -> 405 | H65: =SUM('2015:2026'!H65) -> 278 | I65: =SUM('2015:2026'!I65) -> 328 | J65: =SUM('2015:2026'!J65) -> 254 | ... N65: =SUM('2015:2026'!N65) -> 430 | O65: =SUM(C65:N65) -> 4395
A66: As German as Kafka | B66: Project Muse | C66: =SUM('2015:2026'!C66) -> 629 | D66: =SUM('2015:2026'!D66) -> 696 | E66: =SUM('2015:2026'!E66) -> 937 | F66: =SUM('2015:2026'!F66) -> 1141 | G66: =SUM('2015:2026'!G66) -> 823 | H66: =SUM('2015:2026'!H66) -> 610 | I66: =SUM('2015:2026'!I66) -> 529 | J66: =SUM('2015:2026'!J66) -> 902 | ... N66: =SUM('2015:2026'!N66) -> 540 | O66: =SUM(C66:N66) -> 8461
A67: Oil Wealth and Development in Uganda and Beyond | B67: OAPEN | C67: =SUM('2015:2026'!C67) -> 438 | D67: =SUM('2015:2026'!D67) -> 454 | E67: =SUM('2015:2026'!E67) -> 711 | F67: =SUM('2015:2026'!F67) -> 762 | G67: =SUM('2015:2026'!G67) -> 472 | H67: =SUM('2015:2026'!H67) -> 412 | I67: =SUM('2015:2026'!I67) -> 569 | J67: =SUM('2015:2026'!J67) -> 420 | ... N67: =SUM('2015:2026'!N67) -> 470 | O67: =SUM(C67:N67) -> 6278 | Q67: =SUM('2019'!Q67:Q69,'2020'!Q67:Q69,'2021'!Q67:Q69,'2022'!Q67:Q69,'2023'!Q67:Q69,'2024'!Q67:Q69,'2025'!Q67:Q69,'2026'!Q67:Q69) -> 17
A68: Oil Wealth and Development in Uganda and Beyond | B68: JSTOR | C68: =SUM('2015:2026'!C68) -> 2412 | D68: =SUM('2015:2026'!D68) -> 2289 | E68: =SUM('2015:2026'!E68) -> 2796 | F68: =SUM('2015:2026'!F68) -> 2563 | G68: =SUM('2015:2026'!G68) -> 2311 | H68: =SUM('2015:2026'!H68) -> 1645 | I68: =SUM('2015:2026'!I68) -> 1712 | J68: =SUM('2015:2026'!J68) -> 1316 | ... N68: =SUM('2015:2026'!N68) -> 1624 | O68: =SUM(C68:N68) -> 23843
A69: Oil Wealth and Development in Uganda and Beyond | B69: Project Muse | C69: =SUM('2015:2026'!C69) -> 438 | D69: =SUM('2015:2026'!D69) -> 566 | E69: =SUM('2015:2026'!E69) -> 679 | F69: =SUM('2015:2026'!F69) -> 1178 | G69: =SUM('2015:2026'!G69) -> 1542 | H69: =SUM('2015:2026'!H69) -> 1087 | I69: =SUM('2015:2026'!I69) -> 876 | J69: =SUM('2015:2026'!J69) -> 761 | ... N69: =SUM('2015:2026'!N69) -> 642 | O69: =SUM(C69:N69) -> 9392
A70: European Perspectives for Public Administration | B70: OAPEN | C70: =SUM('2015:2026'!C70) -> 1040 | D70: =SUM('2015:2026'!D70) -> 1141 | E70: =SUM('2015:2026'!E70) -> 855 | F70: =SUM('2015:2026'!F70) -> 883 | G70: =SUM('2015:2026'!G70) -> 872 | H70: =SUM('2015:2026'!H70) -> 626 | I70: =SUM('2015:2026'!I70) -> 490 | J70: =SUM('2015:2026'!J70) -> 875 | ... N70: =SUM('2015:2026'!N70) -> 841 | O70: =SUM(C70:N70) -> 9869 | Q70: =SUM('2019'!Q70:Q72,'2020'!Q70:Q72,'2021'!Q70:Q72,'2022'!Q70:Q72,'2023'!Q70:Q72,'2024'!Q70:Q72,'2025'!Q70:Q72,'2026'!Q70:Q72) -> 14
A71: European Perspectives for Public Administration | B71: JSTOR | C71: =SUM('2015:2026'!C71) -> 3285 | D71: =SUM('2015:2026'!D71) -> 3927 | E71: =SUM('2015:2026'!E71) -> 4618 | F71: =SUM('2015:2026'!F71) -> 3830 | G71: =SUM('2015:2026'!G71) -> 3462 | H71: =SUM('2015:2026'!H71) -> 2623 | I71: =SUM('2015:2026'!I71) -> 2035 | J71: =SUM('2015:2026'!J71) -> 1891 | ... N71: =SUM('2015:2026'!N71) -> 3251 | O71: =SUM(C71:N71) -> 39413
A72: European Perspectives for Public Administration | B72: Project Muse | C72: =SUM('2015:2026'!C72) -> 902 | D72: =SUM('2015:2026'!D72) -> 1154 | E72: =SUM('2015:2026'!E72) -> 900 | F72: =SUM('2015:2026'!F72) -> 918 | G72: =SUM('2015:2026'!G72) -> 1569 | H72: =SUM('2015:2026'!H72) -> 1055 | I72: =SUM('2015:2026'!I72) -> 833 | J72: =SUM('2015:2026'!J72) -> 693 | ... N72: =SUM('2015:2026'!N72) -> 697 | O72: =SUM(C72:N72) -> 10650
A73: Plutarch's Science of Natural Problems | B73: OAPEN | C73: =SUM('2015:2026'!C73) -> 144 | D73: =SUM('2015:2026'!D73) -> 199 | E73: =SUM('2015:2026'!E73) -> 180 | F73: =SUM('2015:2026'!F73) -> 162 | G73: =SUM('2015:2026'!G73) -> 161 | H73: =SUM('2015:2026'!H73) -> 169 | I73: =SUM('2015:2026'!I73) -> 123 | J73: =SUM('2015:2026'!J73) -> 143 | ... N73: =SUM('2015:2026'!N73) -> 169 | O73: =SUM(C73:N73) -> 1951 | Q73: =SUM('2019'!Q73:Q75,'2020'!Q73:Q75,'2021'!Q73:Q75,'2022'!Q73:Q75,'2023'!Q73:Q75,'2024'!Q73:Q75,'2025'!Q73:Q75,'2026'!Q73:Q75) -> 41
A74: Plutarch's Science of Natural Problems | B74: JSTOR | C74: =SUM('2015:2026'!C74) -> 147 | D74: =SUM('2015:2026'!D74) -> 181 | E74: =SUM('2015:2026'!E74) -> 426 | F74: =SUM('2015:2026'!F74) -> 272 | G74: =SUM('2015:2026'!G74) -> 450 | H74: =SUM('2015:2026'!H74) -> 278 | I74: =SUM('2015:2026'!I74) -> 305 | J74: =SUM('2015:2026'!J74) -> 97 | ... N74: =SUM('2015:2026'!N74) -> 131 | O74: =SUM(C74:N74) -> 2720
A75: Plutarch's Science of Natural Problems | B75: Project Muse | C75: =SUM('2015:2026'!C75) -> 381 | D75: =SUM('2015:2026'!D75) -> 407 | E75: =SUM('2015:2026'!E75) -> 1101 | F75: =SUM('2015:2026'!F75) -> 280 | G75: =SUM('2015:2026'!G75) -> 381 | H75: =SUM('2015:2026'!H75) -> 379 | I75: =SUM('2015:2026'!I75) -> 396 | J75: =SUM('2015:2026'!J75) -> 397 | ... N75: =SUM('2015:2026'!N75) -> 340 | O75: =SUM(C75:N75) -> 4949
A76: Across Anthropology | B76: OAPEN | C76: =SUM('2015:2026'!C76) -> 2040 | D76: =SUM('2015:2026'!D76) -> 2370 | E76: =SUM('2015:2026'!E76) -> 1939 | F76: =SUM('2015:2026'!F76) -> 1880 | G76: =SUM('2015:2026'!G76) -> 1643 | H76: =SUM('2015:2026'!H76) -> 4992 | I76: =SUM('2015:2026'!I76) -> 2227 | J76: =SUM('2015:2026'!J76) -> 1976 | ... N76: =SUM('2015:2026'!N76) -> 1289 | O76: =SUM(C76:N76) -> 26417 | Q76: =SUM('2019'!Q76:Q78,'2020'!Q76:Q78,'2021'!Q76:Q78,'2022'!Q76:Q78,'2023'!Q76:Q78,'2024'!Q76:Q78,'2025'!Q76:Q78,'2026'!Q76:Q78) -> 181
B77: JSTOR | C77: =SUM('2015:2026'!C77) -> 3917 | D77: =SUM('2015:2026'!D77) -> 3877 | E77: =SUM('2015:2026'!E77) -> 4666 | F77: =SUM('2015:2026'!F77) -> 4650 | G77: =SUM('2015:2026'!G77) -> 3939 | H77: =SUM('2015:2026'!H77) -> 4211 | I77: =SUM('2015:2026'!I77) -> 3344 | J77: =SUM('2015:2026'!J77) -> 2664 | ... N77: =SUM('2015:2026'!N77) -> 4719 | O77: =SUM(C77:N77) -> 49577
B78: Project Muse | C78: =SUM('2015:2026'!C78) -> 1426 | D78: =SUM('2015:2026'!D78) -> 1477 | E78: =SUM('2015:2026'!E78) -> 1239 | F78: =SUM('2015:2026'!F78) -> 1341 | G78: =SUM('2015:2026'!G78) -> 1718 | H78: =SUM('2015:2026'!H78) -> 1386 | I78: =SUM('2015:2026'!I78) -> 1273 | J78: =SUM('2015:2026'!J78) -> 1490 | ... N78: =SUM('2015:2026'!N78) -> 1336 | O78: =SUM(C78:N78) -> 17224
A79: Migration at Work | B79: OAPEN | C79: =SUM('2015:2026'!C79) -> 252 | D79: =SUM('2015:2026'!D79) -> 279 | E79: =SUM('2015:2026'!E79) -> 330 | F79: =SUM('2015:2026'!F79) -> 268 | G79: =SUM('2015:2026'!G79) -> 236 | H79: =SUM('2015:2026'!H79) -> 195 | I79: =SUM('2015:2026'!I79) -> 156 | J79: =SUM('2015:2026'!J79) -> 192 | ... N79: =SUM('2015:2026'!N79) -> 190 | O79: =SUM(C79:N79) -> 3460 | Q79: =SUM('2019'!Q79:Q81,'2020'!Q79:Q81,'2021'!Q79:Q81,'2022'!Q79:Q81,'2023'!Q79:Q81,'2024'!Q79:Q81,'2025'!Q79:Q81,'2026'!Q79:Q81) -> 41
B80: JSTOR | C80: =SUM('2015:2026'!C80) -> 632 | D80: =SUM('2015:2026'!D80) -> 552 | E80: =SUM('2015:2026'!E80) -> 608 | F80: =SUM('2015:2026'!F80) -> 592 | G80: =SUM('2015:2026'!G80) -> 669 | H80: =SUM('2015:2026'!H80) -> 446 | I80: =SUM('2015:2026'!I80) -> 467 | J80: =SUM('2015:2026'!J80) -> 280 | ... N80: =SUM('2015:2026'!N80) -> 637 | O80: =SUM(C80:N80) -> 7198
B81: Project Muse | C81: =SUM('2015:2026'!C81) -> 375 | D81: =SUM('2015:2026'!D81) -> 279 | E81: =SUM('2015:2026'!E81) -> 279 | F81: =SUM('2015:2026'!F81) -> 317 | G81: =SUM('2015:2026'!G81) -> 584 | H81: =SUM('2015:2026'!H81) -> 533 | I81: =SUM('2015:2026'!I81) -> 304 | J81: =SUM('2015:2026'!J81) -> 305 | ... N81: =SUM('2015:2026'!N81) -> 288 | O81: =SUM(C81:N81) -> 4267
A82: Arrival Cities | B82: OAPEN | C82: =SUM('2015:2026'!C82) -> 722 | D82: =SUM('2015:2026'!D82) -> 1414 | E82: =SUM('2015:2026'!E82) -> 935 | F82: =SUM('2015:2026'!F82) -> 792 | G82: =SUM('2015:2026'!G82) -> 660 | H82: =SUM('2015:2026'!H82) -> 773 | I82: =SUM('2015:2026'!I82) -> 648 | J82: =SUM('2015:2026'!J82) -> 531 | ... N82: =SUM('2015:2026'!N82) -> 522 | O82: =SUM(C82:N82) -> 9785 | Q82: =SUM('2019'!Q82:Q84,'2020'!Q82:Q84,'2021'!Q82:Q84,'2022'!Q82:Q84,'2023'!Q82:Q84,'2024'!Q82:Q84,'2025'!Q82:Q84,'2026'!Q82:Q84) -> 101
B83: JSTOR | C83: =SUM('2015:2026'!C83) -> 1654 | D83: =SUM('2015:2026'!D83) -> 1799 | E83: =SUM('2015:2026'!E83) -> 2112 | F83: =SUM('2015:2026'!F83) -> 2105 | G83: =SUM('2015:2026'!G83) -> 1579 | H83: =SUM('2015:2026'!H83) -> 1210 | I83: =SUM('2015:2026'!I83) -> 1206 | J83: =SUM('2015:2026'!J83) -> 785 | ... N83: =SUM('2015:2026'!N83) -> 1976 | O83: =SUM(C83:N83) -> 22613
B84: Project Muse | C84: =SUM('2015:2026'!C84) -> 3775 | D84: =SUM('2015:2026'!D84) -> 877 | E84: =SUM('2015:2026'!E84) -> 1029 | F84: =SUM('2015:2026'!F84) -> 1040 | G84: =SUM('2015:2026'!G84) -> 1070 | H84: =SUM('2015:2026'!H84) -> 1207 | I84: =SUM('2015:2026'!I84) -> 1288 | J84: =SUM('2015:2026'!J84) -> 2292 | ... N84: =SUM('2015:2026'!N84) -> 689 | O84: =SUM(C84:N84) -> 16775
A85: The Figure of Knowledge | B85: OAPEN | C85: =SUM('2015:2026'!C85) -> 237 | D85: =SUM('2015:2026'!D85) -> 348 | E85: =SUM('2015:2026'!E85) -> 472 | F85: =SUM('2015:2026'!F85) -> 384 | G85: =SUM('2015:2026'!G85) -> 258 | H85: =SUM('2015:2026'!H85) -> 277 | I85: =SUM('2015:2026'!I85) -> 185 | J85: =SUM('2015:2026'!J85) -> 229 | ... N85: =SUM('2015:2026'!N85) -> 200 | O85: =SUM(C85:N85) -> 4163 | Q85: =SUM('2019'!Q85:Q87,'2020'!Q85:Q87,'2021'!Q85:Q87,'2022'!Q85:Q87,'2023'!Q85:Q87,'2024'!Q85:Q87,'2025'!Q85:Q87,'2026'!Q85:Q87) -> 120
B86: JSTOR | C86: =SUM('2015:2026'!C86) -> 2981 | D86: =SUM('2015:2026'!D86) -> 3023 | E86: =SUM('2015:2026'!E86) -> 4246 | F86: =SUM('2015:2026'!F86) -> 3400 | G86: =SUM('2015:2026'!G86) -> 2939 | H86: =SUM('2015:2026'!H86) -> 1902 | I86: =SUM('2015:2026'!I86) -> 1751 | J86: =SUM('2015:2026'!J86) -> 1427 | ... N86: =SUM('2015:2026'!N86) -> 3365 | O86: =SUM(C86:N86) -> 36277
B87: Project Muse | C87: =SUM('2015:2026'!C87) -> 588 | D87: =SUM('2015:2026'!D87) -> 739 | E87: =SUM('2015:2026'!E87) -> 791 | F87: =SUM('2015:2026'!F87) -> 1232 | G87: =SUM('2015:2026'!G87) -> 1235 | H87: =SUM('2015:2026'!H87) -> 978 | I87: =SUM('2015:2026'!I87) -> 803 | J87: =SUM('2015:2026'!J87) -> 954 | ... N87: =SUM('2015:2026'!N87) -> 865 | O87: =SUM(C87:N87) -> 10456
A88: Children's Literature | B88: OAPEN | C88: =SUM('2015:2026'!C88) -> 2388 | D88: =SUM('2015:2026'!D88) -> 2391 | E88: =SUM('2015:2026'!E88) -> 2341 | F88: =SUM('2015:2026'!F88) -> 2807 | G88: =SUM('2015:2026'!G88) -> 2624 | H88: =SUM('2015:2026'!H88) -> 2574 | I88: =SUM('2015:2026'!I88) -> 1625 | J88: =SUM('2015:2026'!J88) -> 3016 | ... N88: =SUM('2015:2026'!N88) -> 2513 | O88: =SUM(C88:N88) -> 30997 | Q88: =SUM('2019'!Q88:Q90,'2020'!Q88:Q90,'2021'!Q88:Q90,'2022'!Q88:Q90,'2023'!Q88:Q90,'2024'!Q88:Q90,'2025'!Q88:Q90,'2026'!Q88:Q90) -> 45
B89: JSTOR | C89: =SUM('2015:2026'!C89) -> 2709 | D89: =SUM('2015:2026'!D89) -> 2848 | E89: =SUM('2015:2026'!E89) -> 3586 | F89: =SUM('2015:2026'!F89) -> 3291 | G89: =SUM('2015:2026'!G89) -> 2955 | H89: =SUM('2015:2026'!H89) -> 1898 | I89: =SUM('2015:2026'!I89) -> 1432 | J89: =SUM('2015:2026'!J89) -> 1276 | ... N89: =SUM('2015:2026'!N89) -> 3191 | O89: =SUM(C89:N89) -> 32136
B90: Project Muse | C90: =SUM('2015:2026'!C90) -> 871 | D90: =SUM('2015:2026'!D90) -> 924 | E90: =SUM('2015:2026'!E90) -> 1018 | F90: =SUM('2015:2026'!F90) -> 1990 | G90: =SUM('2015:2026'!G90) -> 1401 | H90: =SUM('2015:2026'!H90) -> 1048 | I90: =SUM('2015:2026'!I90) -> 828 | J90: =SUM('2015:2026'!J90) -> 982 | ... N90: =SUM('2015:2026'!N90) -> 925 | O90: =SUM(C90:N90) -> 13124
A91: Turkish German Muslims | B91: OAPEN | C91: =SUM('2015:2026'!C91) -> 384 | D91: =SUM('2015:2026'!D91) -> 394 | E91: =SUM('2015:2026'!E91) -> 409 | F91: =SUM('2015:2026'!F91) -> 420 | G91: =SUM('2015:2026'!G91) -> 780 | H91: =SUM('2015:2026'!H91) -> 461 | I91: =SUM('2015:2026'!I91) -> 283 | J91: =SUM('2015:2026'!J91) -> 312 | ... N91: =SUM('2015:2026'!N91) -> 403 | O91: =SUM(C91:N91) -> 5444 | Q91: =SUM('2019'!Q91:Q93,'2020'!Q91:Q93,'2021'!Q91:Q93,'2022'!Q91:Q93,'2023'!Q91:Q93,'2024'!Q91:Q93,'2025'!Q91:Q93,'2026'!Q91:Q93) -> 22
B92: JSTOR | C92: =SUM('2015:2026'!C92) -> 353 | D92: =SUM('2015:2026'!D92) -> 351 | E92: =SUM('2015:2026'!E92) -> 566 | F92: =SUM('2015:2026'!F92) -> 607 | G92: =SUM('2015:2026'!G92) -> 673 | H92: =SUM('2015:2026'!H92) -> 601 | I92: =SUM('2015:2026'!I92) -> 460 | J92: =SUM('2015:2026'!J92) -> 161 | ... N92: =SUM('2015:2026'!N92) -> 488 | O92: =SUM(C92:N92) -> 5603
B93: Project Muse | C93: =SUM('2015:2026'!C93) -> 368 | D93: =SUM('2015:2026'!D93) -> 391 | E93: =SUM('2015:2026'!E93) -> 379 | F93: =SUM('2015:2026'!F93) -> 594 | G93: =SUM('2015:2026'!G93) -> 711 | H93: =SUM('2015:2026'!H93) -> 454 | I93: =SUM('2015:2026'!I93) -> 319 | J93: =SUM('2015:2026'!J93) -> 453 | ... N93: =SUM('2015:2026'!N93) -> 274 | O93: =SUM(C93:N93) -> 4658
A94: Dialogen over België | B94: OAPEN | C94: =SUM('2015:2026'!C94) -> 162 | D94: =SUM('2015:2026'!D94) -> 185 | E94: =SUM('2015:2026'!E94) -> 168 | F94: =SUM('2015:2026'!F94) -> 157 | G94: =SUM('2015:2026'!G94) -> 133 | H94: =SUM('2015:2026'!H94) -> 132 | I94: =SUM('2015:2026'!I94) -> 65 | J94: =SUM('2015:2026'!J94) -> 65 | ... N94: =SUM('2015:2026'!N94) -> 125 | O94: =SUM(C94:N94) -> 1858 | Q94: =SUM('2019'!Q94:Q96,'2020'!Q94:Q96,'2021'!Q94:Q96,'2022'!Q94:Q96,'2023'!Q94:Q96,'2024'!Q94:Q96,'2025'!Q94:Q96,'2026'!Q94:Q96) -> 16
B95: JSTOR | C95: =SUM('2015:2026'!C95) -> 86 | D95: =SUM('2015:2026'!D95) -> 73 | E95: =SUM('2015:2026'!E95) -> 101 | F95: =SUM('2015:2026'!F95) -> 123 | G95: =SUM('2015:2026'!G95) -> 170 | H95: =SUM('2015:2026'!H95) -> 140 | I95: =SUM('2015:2026'!I95) -> 164 | J95: =SUM('2015:2026'!J95) -> 34 | ... N95: =SUM('2015:2026'!N95) -> 137 | O95: =SUM(C95:N95) -> 1330
B96: Project Muse | C96: =SUM('2015:2026'!C96) -> 188 | D96: =SUM('2015:2026'!D96) -> 124 | E96: =SUM('2015:2026'!E96) -> 145 | F96: =SUM('2015:2026'!F96) -> 140 | G96: =SUM('2015:2026'!G96) -> 487 | H96: =SUM('2015:2026'!H96) -> 369 | I96: =SUM('2015:2026'!I96) -> 113 | J96: =SUM('2015:2026'!J96) -> 181 | ... N96: =SUM('2015:2026'!N96) -> 114 | O96: =SUM(C96:N96) -> 2332
A97: Performing Hysteria | B97: OAPEN | C97: =SUM('2015:2026'!C97) -> 1083 | D97: =SUM('2015:2026'!D97) -> 1405 | E97: =SUM('2015:2026'!E97) -> 1467 | F97: =SUM('2015:2026'!F97) -> 1727 | G97: =SUM('2015:2026'!G97) -> 1341 | H97: =SUM('2015:2026'!H97) -> 909 | I97: =SUM('2015:2026'!I97) -> 749 | J97: =SUM('2015:2026'!J97) -> 852 | ... N97: =SUM('2015:2026'!N97) -> 1110 | O97: =SUM(C97:N97) -> 15028 | Q97: =SUM('2019'!Q97:Q99,'2020'!Q97:Q99,'2021'!Q97:Q99,'2022'!Q97:Q99,'2023'!Q97:Q99,'2024'!Q97:Q99,'2025'!Q97:Q99,'2026'!Q97:Q99) -> 77
B98: JSTOR | C98: =SUM('2015:2026'!C98) -> 4526 | D98: =SUM('2015:2026'!D98) -> 5255 | E98: =SUM('2015:2026'!E98) -> 6756 | F98: =SUM('2015:2026'!F98) -> 7246 | G98: =SUM('2015:2026'!G98) -> 5364 | H98: =SUM('2015:2026'!H98) -> 2608 | I98: =SUM('2015:2026'!I98) -> 2477 | J98: =SUM('2015:2026'!J98) -> 1866 | ... N98: =SUM('2015:2026'!N98) -> 5965 | O98: =SUM(C98:N98) -> 58809
B99: Project Muse | C99: =SUM('2015:2026'!C99) -> 974 | D99: =SUM('2015:2026'!D99) -> 1209 | E99: =SUM('2015:2026'!E99) -> 1201 | F99: =SUM('2015:2026'!F99) -> 1367 | G99: =SUM('2015:2026'!G99) -> 1761 | H99: =SUM('2015:2026'!H99) -> 1000 | I99: =SUM('2015:2026'!I99) -> 910 | J99: =SUM('2015:2026'!J99) -> 869 | ... N99: =SUM('2015:2026'!N99) -> 916 | O99: =SUM(C99:N99) -> 12913
A100: Mongameli Mabona | B100: OAPEN | C100: =SUM('2015:2026'!C100) -> 289 | D100: =SUM('2015:2026'!D100) -> 162 | E100: =SUM('2015:2026'!E100) -> 181 | F100: =SUM('2015:2026'!F100) -> 192 | G100: =SUM('2015:2026'!G100) -> 121 | H100: =SUM('2015:2026'!H100) -> 198 | I100: =SUM('2015:2026'!I100) -> 173 | J100: =SUM('2015:2026'!J100) -> 190 | ... N100: =SUM('2015:2026'!N100) -> 323 | O100: =SUM(C100:N100) -> 2244 | Q100: =SUM('2019'!Q100:Q102,'2020'!Q100:Q102,'2021'!Q100:Q102,'2022'!Q100:Q102,'2023'!Q100:Q102,'2024'!Q100:Q102,'2025'!Q100:Q102,'2026'!Q100:Q102) -> 70
...
